From mboxrd@z Thu Jan  1 00:00:00 1970
Return-Path: <test-report-bounces@dpdk.org>
Received: from mails.dpdk.org (mails.dpdk.org [217.70.189.124])
	by inbox.dpdk.org (Postfix) with ESMTP id EA9DA42B12
	for <public@inbox.dpdk.org>; Mon, 15 May 2023 12:49:29 +0200 (CEST)
Received: from mails.dpdk.org (localhost [127.0.0.1])
	by mails.dpdk.org (Postfix) with ESMTP id C89DD40395;
	Mon, 15 May 2023 12:49:29 +0200 (CEST)
Received: from mail-qt1-f228.google.com (mail-qt1-f228.google.com
 [209.85.160.228])
 by mails.dpdk.org (Postfix) with ESMTP id D3FAA40395
 for <test-report@dpdk.org>; Mon, 15 May 2023 12:49:28 +0200 (CEST)
Received: by mail-qt1-f228.google.com with SMTP id
 d75a77b69052e-3f507edcaaaso25755311cf.2
 for <test-report@dpdk.org>; Mon, 15 May 2023 03:49:28 -0700 (PDT)
DKIM-Signature: v=1; a=rsa-sha256; c=relaxed/relaxed;
 d=iol.unh.edu; s=unh-iol; t=1684147768; x=1686739768;
 h=cc:to:from:subject:message-id:date:from:to:cc:subject:date
 :message-id:reply-to;
 bh=dcq1yFrygbWRnbhgEYu9+NIGEiPuovHsikOhl6Mk96Q=;
 b=AAypD26yLyktaJpHrY8Hmuvf1pMW5IUqUO13IBBN1t6FtIRE7THauv+u4Tqj+dwTIS
 OHvyj4ibX2diql85wunxkKTjG+IpyffZPVWCh/gOHuF9fxA9drlmyqkPXHHv3pBFmfsW
 x9KXfbbyUKQkCrKYn5JxXnt/0kNSUWHRWvjYw=
X-Google-DKIM-Signature: v=1; a=rsa-sha256; c=relaxed/relaxed;
 d=1e100.net; s=20221208; t=1684147768; x=1686739768;
 h=cc:to:from:subject:message-id:date:x-gm-message-state:from:to:cc
 :subject:date:message-id:reply-to;
 bh=dcq1yFrygbWRnbhgEYu9+NIGEiPuovHsikOhl6Mk96Q=;
 b=hDidSCG3DMPp7s2mbsrReX/66I4gSYV/TB0+STSafzPA8a5mr773Lgaa8dQEMTHFKz
 XDi5zTZUcbMr+qvhWHN0Tk8BnLa5mkULErqobRdt0xMUFwVwl7DHg7XP85+BiinL7orI
 q6J/fdmZxy1SxLdy//MOJ9emH9wPxDLzLm1G2VziUStFBYhPBJZeJR4JMm+osuMCC7qw
 MIXX2OYI4FJZBIiIBQPkEC2MTD+cotRprIrIvo34qRt0t6ljVs48SRNe/oMr+8g+Tmhd
 ae/C1Ka36JbyamQeFGSVz/tybSnrW1lEkPEXDzBxfbJAHYvbG0S198+WE3E2MDtvSyai
 8CAw==
X-Gm-Message-State: AC+VfDwYjA6dGliVExMSHUr1k4VxshmRS+VU0hL2TXoGLF1GSvKZZmDn
 IjBX5rdI/DuyZ7G7cnkXp4KUtFyMyWTNKSoju3IIisroTKUWl0kpk7F45g==
X-Google-Smtp-Source: ACHHUZ4LI/S9TPW1rLdJ0XLarMYDa8whEST4C4FshQmHm3Ya5DEoFq9XncsgS+QDnc6F1rFijOL8bUOsxIMt
X-Received: by 2002:a05:622a:4c6:b0:3f5:320e:8b14 with SMTP id
 q6-20020a05622a04c600b003f5320e8b14mr1640757qtx.52.1684147768244; 
 Mon, 15 May 2023 03:49:28 -0700 (PDT)
Received: from postal.iol.unh.edu (postal.iol.unh.edu. [132.177.123.84])
 by smtp-relay.gmail.com with ESMTPS id
 p11-20020ac8460b000000b003e2f289ccc2sm949637qtn.24.2023.05.15.03.49.28
 (version=TLS1_2 cipher=ECDHE-ECDSA-AES128-GCM-SHA256 bits=128/128);
 Mon, 15 May 2023 03:49:28 -0700 (PDT)
X-Relaying-Domain: iol.unh.edu
Date: Mon, 15 May 2023 03:49:28 -0700 (PDT)
Message-ID: <64620e38.c80a0220.8ca84.25a6SMTPIN_ADDED_MISSING@mx.google.com>
Received: from [172.17.0.2] (unknown [172.18.0.34])
 by postal.iol.unh.edu (Postfix) with ESMTP id BDA55605246B;
 Mon, 15 May 2023 06:49:27 -0400 (EDT)
Subject: |SUCCESS| pw126851-126854 [PATCH] [v2,
 4/4] bus/pci: add VFIO sparse mmap support
From: dpdklab@iol.unh.edu
To: Test Report <test-report@dpdk.org>
Cc: dpdk-test-reports@iol.unh.edu
Content-Type: text/plain
X-BeenThere: test-report@dpdk.org
X-Mailman-Version: 2.1.29
Precedence: list
List-Id: automatic DPDK test reports <test-report.dpdk.org>
List-Unsubscribe: <https://mails.dpdk.org/options/test-report>,
 <mailto:test-report-request@dpdk.org?subject=unsubscribe>
List-Archive: <http://mails.dpdk.org/archives/test-report/>
List-Post: <mailto:test-report@dpdk.org>
List-Help: <mailto:test-report-request@dpdk.org?subject=help>
List-Subscribe: <https://mails.dpdk.org/listinfo/test-report>,
 <mailto:test-report-request@dpdk.org?subject=subscribe>
Errors-To: test-report-bounces@dpdk.org

Test-Label: iol-abi-testing
Test-Status: SUCCESS
http://dpdk.org/patch/126854

_Testing PASS_

Submitter: Miao Li <miao.li@intel.com>
Date: Monday, May 15 2023 09:41:24 
DPDK git baseline: Repo:dpdk
  Branch: master
  CommitID:dbff181d62c997f128b75db2bbac9f42e8dd0f8f

126851-126854 --> testing pass

Test environment and result as below:

+------------------+----------+
|   Environment    | abi_test |
+==================+==========+
| RHEL 7           | PASS     |
+------------------+----------+
| Debian Bullseye  | PASS     |
+------------------+----------+
| RHEL8            | PASS     |
+------------------+----------+
| Ubuntu 22.04     | PASS     |
+------------------+----------+
| CentOS Stream 9  | PASS     |
+------------------+----------+
| openSUSE Leap 15 | PASS     |
+------------------+----------+


RHEL 7
	Kernel: 4.18.0-240.10.1.el8_3.x86_64
	Compiler: gcc 4.8.5 20150623 (Red Hat 4.8.5-44)

Debian Bullseye
	Kernel: 5.4.0-122-generic
	Compiler: gcc 10.2.1-6

RHEL8
	Kernel: 4.18.0-240.10.1.el8_3.x86_64
	Compiler: gcc 8.3.1 20191121 (Red Hat 8.3.1-5)

Ubuntu 22.04
	Kernel: 4.18.0-240.10.1.el8_3.x86_64
	Compiler: gcc 11.3.0

CentOS Stream 9
	Kernel: 4.18.0-240.10.1.el8_3.x86_64
	Compiler: gcc 11.3.1 20220421

openSUSE Leap 15
	Kernel: 4.18.0-240.10.1.el8_3.x86_64
	Compiler: gcc 7.5.0

To view detailed results, visit:
https://lab.dpdk.org/results/dashboard/patchsets/26225/

UNH-IOL DPDK Community Lab

To manage your email subscriptions, visit: 
https://lab.dpdk.org/results/dashboard/preferences/subscriptions/