From mboxrd@z Thu Jan  1 00:00:00 1970
Return-Path: <test-report-bounces@dpdk.org>
Received: from mails.dpdk.org (mails.dpdk.org [217.70.189.124])
	by inbox.dpdk.org (Postfix) with ESMTP id 0031E42B1F
	for <public@inbox.dpdk.org>; Tue, 16 May 2023 09:19:03 +0200 (CEST)
Received: from mails.dpdk.org (localhost [127.0.0.1])
	by mails.dpdk.org (Postfix) with ESMTP id F26CC41151;
	Tue, 16 May 2023 09:19:03 +0200 (CEST)
Received: from mail-yb1-f227.google.com (mail-yb1-f227.google.com
 [209.85.219.227])
 by mails.dpdk.org (Postfix) with ESMTP id 87F9341151
 for <test-report@dpdk.org>; Tue, 16 May 2023 09:19:02 +0200 (CEST)
Received: by mail-yb1-f227.google.com with SMTP id
 3f1490d57ef6-ba7bf25a010so3259278276.3
 for <test-report@dpdk.org>; Tue, 16 May 2023 00:19:02 -0700 (PDT)
DKIM-Signature: v=1; a=rsa-sha256; c=relaxed/relaxed;
 d=iol.unh.edu; s=unh-iol; t=1684221542; x=1686813542;
 h=cc:to:from:subject:message-id:date:from:to:cc:subject:date
 :message-id:reply-to;
 bh=VefBMuZHNS0ZhuclzGvWh+HCDF2All/GRJF8Zt/mLo8=;
 b=czGdXLThN8hNTWgZmu65Wzd+qt6QLcuXE5euStVlQjln1kuXCUltm+FZmWzrJHZUwb
 O2OYz4jsIN74IYasbUwrUSLFRuTYqldQh4uSZhuUcfubbEBJYM84Pfe63Q3s0H0M9BqR
 nZj/HOLxcdEsRCjF+BCiKAtyp68P/wlbWFLK0=
X-Google-DKIM-Signature: v=1; a=rsa-sha256; c=relaxed/relaxed;
 d=1e100.net; s=20221208; t=1684221542; x=1686813542;
 h=cc:to:from:subject:message-id:date:x-gm-message-state:from:to:cc
 :subject:date:message-id:reply-to;
 bh=VefBMuZHNS0ZhuclzGvWh+HCDF2All/GRJF8Zt/mLo8=;
 b=Pu5oKu3bymqywpF52hrLNqMj0BdcWlDD1Tz/Zrf7G6El+PX1ANEBozzEFS41gSC+9m
 6CKLiPGzJjFcXXM8s2LR8/Rv5Z4tsxas2bqxn+M2FX23ttIHlr08KIM0w18no1iJapqL
 Mt9qwH4FkNEkznxu4Ng4HDHnovauzxya/JszephsjQd4G4eEZkYlk/sgKrWNgxt0+tq+
 13sqGhFFn1mLKhMXZyE2zNxzba4Akt6O0U4kRXsIvGthJPE/3B4FiRj42aFJo+C0UnFh
 Pu6TpQ9x2yjdHR2gy82NKxKJTKXnah4gvkB8EC1cl45Y4oTdg+iyIfEjGfL2S+yWe7FQ
 keYw==
X-Gm-Message-State: AC+VfDzNRKRjDuXyHQhSt5kPvZRzaFKrVB+FzFLCmVti3obmLU1RQRo4
 o4TLgvh//lc7A1mf+cZK8Mu4CpeZpS+E94e+i9pUskjjXODWljPZGixYNQ==
X-Google-Smtp-Source: ACHHUZ7iSeSXaaThffu7u6XVfcq/ilQF8wM136xjh1CpaXdVOPWOyGVn3g9obv5JeeRLchetYo6Il9UVNDJ8
X-Received: by 2002:a25:1445:0:b0:b9a:6a68:b8da with SMTP id
 66-20020a251445000000b00b9a6a68b8damr30946095ybu.25.1684221541943; 
 Tue, 16 May 2023 00:19:01 -0700 (PDT)
Received: from postal.iol.unh.edu (postal.iol.unh.edu. [132.177.123.84])
 by smtp-relay.gmail.com with ESMTPS id
 s186-20020a0de9c3000000b00560eadc3bc6sm118755ywe.78.2023.05.16.00.19.01
 (version=TLS1_2 cipher=ECDHE-ECDSA-AES128-GCM-SHA256 bits=128/128);
 Tue, 16 May 2023 00:19:01 -0700 (PDT)
X-Relaying-Domain: iol.unh.edu
Date: Tue, 16 May 2023 00:19:01 -0700 (PDT)
Message-ID: <64632e65.0d0a0220.89a66.5b21SMTPIN_ADDED_MISSING@mx.google.com>
Received: from [172.17.0.2] (unknown [172.18.0.34])
 by postal.iol.unh.edu (Postfix) with ESMTP id A7088605246B;
 Tue, 16 May 2023 03:19:01 -0400 (EDT)
Subject: |SUCCESS| pw126864-126863 [PATCH] [v1,
 2/2] net/mlx5: fix sws duplicated tag index matching
From: dpdklab@iol.unh.edu
To: Test Report <test-report@dpdk.org>
Cc: dpdk-test-reports@iol.unh.edu
Content-Type: text/plain
X-BeenThere: test-report@dpdk.org
X-Mailman-Version: 2.1.29
Precedence: list
List-Id: automatic DPDK test reports <test-report.dpdk.org>
List-Unsubscribe: <https://mails.dpdk.org/options/test-report>,
 <mailto:test-report-request@dpdk.org?subject=unsubscribe>
List-Archive: <http://mails.dpdk.org/archives/test-report/>
List-Post: <mailto:test-report@dpdk.org>
List-Help: <mailto:test-report-request@dpdk.org?subject=help>
List-Subscribe: <https://mails.dpdk.org/listinfo/test-report>,
 <mailto:test-report-request@dpdk.org?subject=subscribe>
Errors-To: test-report-bounces@dpdk.org

Test-Label: iol-x86_64-compile-testing
Test-Status: SUCCESS
http://dpdk.org/patch/126863

_Testing PASS_

Submitter: Rongwei Liu <rongweil@nvidia.com>
Date: Tuesday, May 16 2023 05:43:29 
DPDK git baseline: Repo:dpdk
  Branch: master
  CommitID:a399d7b5a994e335c446d4b15d7622d71dd8848c

126864-126863 --> testing pass

Test environment and result as below:

+------------------+--------------------+
|   Environment    | dpdk_meson_compile |
+==================+====================+
| FreeBSD 13       | PASS               |
+------------------+--------------------+
| CentOS Stream 9  | PASS               |
+------------------+--------------------+
| Debian Buster    | PASS               |
+------------------+--------------------+
| CentOS Stream 8  | PASS               |
+------------------+--------------------+
| Ubuntu 22.04     | PASS               |
+------------------+--------------------+
| openSUSE Leap 15 | PASS               |
+------------------+--------------------+
| RHEL 7           | PASS               |
+------------------+--------------------+
| RHEL8            | PASS               |
+------------------+--------------------+
| Ubuntu 20.04     | PASS               |
+------------------+--------------------+
| Debian Bullseye  | PASS               |
+------------------+--------------------+
| Alpine           | PASS               |
+------------------+--------------------+


FreeBSD 13
	Kernel: 13.0
	Compiler: clang 11.0.1

CentOS Stream 9
	Kernel: 4.18.0-240.10.1.el8_3.x86_64
	Compiler: gcc 11.3.1 20220421

Debian Buster
	Kernel: 5.4.0-122-generic
	Compiler: gcc 8.3.0-6

CentOS Stream 8
	Kernel: 4.18.0-240.10.1.el8_3.x86_64
	Compiler: gcc 8.4.1 20200928

Ubuntu 22.04
	Kernel: Container Host Kernel
	Compiler: gcc 12.2.1-2

openSUSE Leap 15
	Kernel: 4.18.0-240.10.1.el8_3.x86_64
	Compiler: gcc 7.5.0

RHEL 7
	Kernel: 4.18.0-240.10.1.el8_3.x86_64
	Compiler: gcc 4.8.5 20150623 (Red Hat 4.8.5-44)

RHEL8
	Kernel: 4.18.0-240.10.1.el8_3.x86_64
	Compiler: gcc 8.3.1 20191121 (Red Hat 8.3.1-5)

Ubuntu 20.04
	Kernel: 4.18.0-240.10.1.el8_3.x86_64
	Compiler: gcc 9.3.0-17ubuntu1~20.04

Debian Bullseye
	Kernel: 5.4.0-122-generic
	Compiler: gcc 10.2.1-6

Alpine
	Kernel: 5.4.0-73-generic
	Compiler: gcc (Alpine 10.3.1_git20210424) 10.3.1 20210424

To view detailed results, visit:
https://lab.dpdk.org/results/dashboard/patchsets/26231/

UNH-IOL DPDK Community Lab

To manage your email subscriptions, visit: 
https://lab.dpdk.org/results/dashboard/preferences/subscriptions/