From mboxrd@z Thu Jan  1 00:00:00 1970
Return-Path: <test-report-bounces@dpdk.org>
Received: from mails.dpdk.org (mails.dpdk.org [217.70.189.124])
	by inbox.dpdk.org (Postfix) with ESMTP id 12EDA42B1F
	for <public@inbox.dpdk.org>; Tue, 16 May 2023 09:43:47 +0200 (CEST)
Received: from mails.dpdk.org (localhost [127.0.0.1])
	by mails.dpdk.org (Postfix) with ESMTP id E9E2541151;
	Tue, 16 May 2023 09:43:46 +0200 (CEST)
Received: from mail-pf1-f227.google.com (mail-pf1-f227.google.com
 [209.85.210.227])
 by mails.dpdk.org (Postfix) with ESMTP id 3AD2741151
 for <test-report@dpdk.org>; Tue, 16 May 2023 09:43:45 +0200 (CEST)
Received: by mail-pf1-f227.google.com with SMTP id
 d2e1a72fcca58-64a9335a8e7so3588548b3a.0
 for <test-report@dpdk.org>; Tue, 16 May 2023 00:43:45 -0700 (PDT)
DKIM-Signature: v=1; a=rsa-sha256; c=relaxed/relaxed;
 d=iol.unh.edu; s=unh-iol; t=1684223024; x=1686815024;
 h=cc:to:from:subject:message-id:date:from:to:cc:subject:date
 :message-id:reply-to;
 bh=c9p/csR3XDORUD6MK0vcPI7On+20lkkKsIAJBOcwLew=;
 b=XQJJohadJzMTGAmAMtSR1Uw/bAoHfQUUMrYGuaw3Nr9hHGYZvec6jwdXOySIhPCKJA
 FHxN+RTebxf3malTUJaFtC1yciAAVD1EWs3YbRMNbAaL62EwoIi2VXvO3Pkcny/61VsR
 o2G1TpudsJVCDLr5Xq4vhesuKh0r/rKFwKW0I=
X-Google-DKIM-Signature: v=1; a=rsa-sha256; c=relaxed/relaxed;
 d=1e100.net; s=20221208; t=1684223024; x=1686815024;
 h=cc:to:from:subject:message-id:date:x-gm-message-state:from:to:cc
 :subject:date:message-id:reply-to;
 bh=c9p/csR3XDORUD6MK0vcPI7On+20lkkKsIAJBOcwLew=;
 b=XPLlSac7ydjItrVq2lSnRx2/Sl7NLuh5Ydp0iJ30/h9OJFjBy8P54hh/cSp/Q51/tO
 hXKGzX47apOwv8tz4IkyzxBmRaR08iRwKYXxZ2nPiTIkjAhPEre7vTRgs1mVOz5AvHII
 gnsu61UrW34ivJ54KrxcHBsV+auCWiekRYHMqppUGhCEFUVfCoN6FcjjGgSzbyN1pTVE
 z8jMsQKVtRspxvH9EGUY8yDxw6DlI5dp46eQ+fdYxgMVcfXjopJ2/+H7L4R7Fxs52rAd
 1MykWaSoE3Uy3er0BGdGWIFjYAxknQYrjbnfP3Dcc46l11xpxo+aBeeTL9RBJgrPgp48
 RPlw==
X-Gm-Message-State: AC+VfDwLurpmAN5odUnLG24WwgrAksQGJdueI3IxdKm37qwNBXOTp9ob
 hkCHuUOixNnKMWbtNnWokjEDL/RJCiBrI6Zpsn8ezvJc6g99WIviHkXOpQ==
X-Google-Smtp-Source: ACHHUZ5AyAt/i7QVaXAPosh3pbIHzZk1iNejLds0TTxS99LmpNNrwf71KSw7C5j68xEmosHDdx6tAwJc1Z0B
X-Received: by 2002:a05:6a20:914d:b0:106:8b3f:f80 with SMTP id
 x13-20020a056a20914d00b001068b3f0f80mr4374506pzc.1.1684223024271; 
 Tue, 16 May 2023 00:43:44 -0700 (PDT)
Received: from postal.iol.unh.edu (postal.iol.unh.edu. [132.177.123.84])
 by smtp-relay.gmail.com with ESMTPS id
 m18-20020a056a00081200b0062d9b806ba2sm1842362pfk.1.2023.05.16.00.43.44
 (version=TLS1_2 cipher=ECDHE-ECDSA-AES128-GCM-SHA256 bits=128/128);
 Tue, 16 May 2023 00:43:44 -0700 (PDT)
X-Relaying-Domain: iol.unh.edu
Date: Tue, 16 May 2023 00:43:44 -0700 (PDT)
Message-ID: <64633430.050a0220.27613.83fbSMTPIN_ADDED_MISSING@mx.google.com>
Received: from [172.17.0.2] (unknown [172.18.0.34])
 by postal.iol.unh.edu (Postfix) with ESMTP id 816C4605246B;
 Tue, 16 May 2023 03:43:43 -0400 (EDT)
Subject: |SUCCESS| pw126861 [PATCH] [v1] net/mlx5: add test for hot upgrade
From: dpdklab@iol.unh.edu
To: Test Report <test-report@dpdk.org>
Cc: dpdk-test-reports@iol.unh.edu
Content-Type: text/plain
X-BeenThere: test-report@dpdk.org
X-Mailman-Version: 2.1.29
Precedence: list
List-Id: automatic DPDK test reports <test-report.dpdk.org>
List-Unsubscribe: <https://mails.dpdk.org/options/test-report>,
 <mailto:test-report-request@dpdk.org?subject=unsubscribe>
List-Archive: <http://mails.dpdk.org/archives/test-report/>
List-Post: <mailto:test-report@dpdk.org>
List-Help: <mailto:test-report-request@dpdk.org?subject=help>
List-Subscribe: <https://mails.dpdk.org/listinfo/test-report>,
 <mailto:test-report-request@dpdk.org?subject=subscribe>
Errors-To: test-report-bounces@dpdk.org

Test-Label: iol-aarch64-compile-testing
Test-Status: SUCCESS
http://dpdk.org/patch/126861

_Testing PASS_

Submitter: Rongwei Liu <rongweil@nvidia.com>
Date: Tuesday, May 16 2023 05:41:37 
DPDK git baseline: Repo:dpdk
  Branch: master
  CommitID:a399d7b5a994e335c446d4b15d7622d71dd8848c

126861 --> testing pass

Test environment and result as below:

+----------------------------------------+--------------------+
|              Environment               | dpdk_meson_compile |
+========================================+====================+
| Ubuntu 20.04 ARM GCC Native            | PASS               |
+----------------------------------------+--------------------+
| Ubuntu 20.04 ARM Clang Native          | PASS               |
+----------------------------------------+--------------------+
| Ubuntu 20.04 ARM Clang Cross Compile   | PASS               |
+----------------------------------------+--------------------+
| Ubuntu 20.04 aarch32 GCC Cross Compile | PASS               |
+----------------------------------------+--------------------+
| Ubuntu 20.04 ARM SVE                   | PASS               |
+----------------------------------------+--------------------+
| Ubuntu 20.04 ARM GCC Cross Compile     | PASS               |
+----------------------------------------+--------------------+


Ubuntu 20.04 ARM GCC Native
	Kernel: 5.4.0-53-generic
	Compiler: gcc 9.3

Ubuntu 20.04 ARM Clang Native
	Kernel: 5.4.0-53-generic
	Compiler: clang 10.0.0-4ubuntu1

Ubuntu 20.04 ARM Clang Cross Compile
	Kernel: 5.4.0-72-generic
	Compiler: clang version 10.0.0-4ubuntu1

Ubuntu 20.04 aarch32 GCC Cross Compile
	Kernel: 5.4.0-72-generic
	Compiler: gcc 9.3.0

Ubuntu 20.04 ARM SVE
	Kernel: 5.4.0-80-generic
	Compiler: gcc 10.3.0 (Ubuntu 10.3.0-1ubuntu1~20.04)

Ubuntu 20.04 ARM GCC Cross Compile
	Kernel: 5.4.0-72-generic
	Compiler: aarch64-linux-gnu-gcc (Ubuntu 9.3.0-17ubuntu1~20.04) 9.3.0

To view detailed results, visit:
https://lab.dpdk.org/results/dashboard/patchsets/26230/

UNH-IOL DPDK Community Lab

To manage your email subscriptions, visit: 
https://lab.dpdk.org/results/dashboard/preferences/subscriptions/