From mboxrd@z Thu Jan  1 00:00:00 1970
Return-Path: <test-report-bounces@dpdk.org>
Received: from mails.dpdk.org (mails.dpdk.org [217.70.189.124])
	by inbox.dpdk.org (Postfix) with ESMTP id E9B1642B21
	for <public@inbox.dpdk.org>; Tue, 16 May 2023 11:06:34 +0200 (CEST)
Received: from mails.dpdk.org (localhost [127.0.0.1])
	by mails.dpdk.org (Postfix) with ESMTP id E62494068E;
	Tue, 16 May 2023 11:06:34 +0200 (CEST)
Received: from mail-yb1-f225.google.com (mail-yb1-f225.google.com
 [209.85.219.225])
 by mails.dpdk.org (Postfix) with ESMTP id 3EC174068E
 for <test-report@dpdk.org>; Tue, 16 May 2023 11:06:34 +0200 (CEST)
Received: by mail-yb1-f225.google.com with SMTP id
 3f1490d57ef6-b9246a5f3feso21346321276.1
 for <test-report@dpdk.org>; Tue, 16 May 2023 02:06:34 -0700 (PDT)
DKIM-Signature: v=1; a=rsa-sha256; c=relaxed/relaxed;
 d=iol.unh.edu; s=unh-iol; t=1684227993; x=1686819993;
 h=cc:to:from:subject:message-id:date:from:to:cc:subject:date
 :message-id:reply-to;
 bh=I/15Es5cD18arMvmf92Zc16RKF0GUIQFEzhRxRfh648=;
 b=ZWr9i8nhStikvndPFQ5ByHtCRd07d04ZBUrWfTAubqaFI37q8y8XZL1Naem6oYBdcu
 rsIVu8YZCasSGdvzaHrFDo2GcEWesVzijZLlbgRo6/oBlelvQnvrzxGNX5H7kyMvFkrT
 1kzbWkRWbACrUbBgSQ7RFCFZ08P5wYytacNXo=
X-Google-DKIM-Signature: v=1; a=rsa-sha256; c=relaxed/relaxed;
 d=1e100.net; s=20221208; t=1684227993; x=1686819993;
 h=cc:to:from:subject:message-id:date:x-gm-message-state:from:to:cc
 :subject:date:message-id:reply-to;
 bh=I/15Es5cD18arMvmf92Zc16RKF0GUIQFEzhRxRfh648=;
 b=hIiByQ+NwHSwjs2f+FjEL3JR+Bm9AmhGhxzHw0VC3U0SThf0shU+IHI2lm1WZ6VpvZ
 7lzWhETIS25KFdpxXSinz8DRvrVxlWfW9YesHU++BrRDqrU0yOrL/VSP1rEmusF75Yg2
 OL5u/pNynccsPQWjDmnge1RFJlmMSWJAfef/9P9DLyswJ4TT6u2ZTrwXjGomMDX93qYg
 U30u+/KAq8iRtKbN3X+4Wb+XAgMYgxoEJzII8cVI6FnAqMZxRAzp05ssXRYui8WC153K
 OP18vAi5RUZk8f9YgigkpgLR7JeqfGtqjvdmCWiXshCzzRYE4SLr9Px1cV+x+YYuHFaw
 otAA==
X-Gm-Message-State: AC+VfDxppaiyUf6Tt9U1gI6Z5OWUrcx9NBfA4MOZdvpm8H4z1EvmyeWH
 HTEmG38EE+0ogpj6jl+r5cboLAZANfQe1zBCWf4dSkoYYze8Kx8a0ljhQcvnwjmnTVzFmF9CSA=
 =
X-Google-Smtp-Source: ACHHUZ5Z1QgiUISSetQbnOxTdoaDkfeOywzgGsk+/0z9MLOBWyrXEvfjUar8ILmm4c4efh7mJt09l1XPbUUg
X-Received: by 2002:a25:ac07:0:b0:ba8:3611:ba14 with SMTP id
 w7-20020a25ac07000000b00ba83611ba14mr291298ybi.54.1684227993669; 
 Tue, 16 May 2023 02:06:33 -0700 (PDT)
Received: from postal.iol.unh.edu (postal.iol.unh.edu.
 [2606:4100:3880:1234::84]) by smtp-relay.gmail.com with ESMTPS id
 124-20020a251182000000b00ba74219a409sm100533ybr.7.2023.05.16.02.06.33
 (version=TLS1_2 cipher=ECDHE-ECDSA-AES128-GCM-SHA256 bits=128/128);
 Tue, 16 May 2023 02:06:33 -0700 (PDT)
X-Relaying-Domain: iol.unh.edu
Date: Tue, 16 May 2023 02:06:33 -0700 (PDT)
Message-ID: <64634799.250a0220.52418.4823SMTPIN_ADDED_MISSING@mx.google.com>
Received: from [172.17.0.2] (unknown [172.18.0.34])
 by postal.iol.unh.edu (Postfix) with ESMTP id 3E611605246B;
 Tue, 16 May 2023 05:06:33 -0400 (EDT)
Subject: |SUCCESS| pw126866-126872 [PATCH] [v1,
 7/7] net/mlx5: add MPLS modify field support
From: dpdklab@iol.unh.edu
To: Test Report <test-report@dpdk.org>
Cc: dpdk-test-reports@iol.unh.edu
Content-Type: text/plain
X-BeenThere: test-report@dpdk.org
X-Mailman-Version: 2.1.29
Precedence: list
List-Id: automatic DPDK test reports <test-report.dpdk.org>
List-Unsubscribe: <https://mails.dpdk.org/options/test-report>,
 <mailto:test-report-request@dpdk.org?subject=unsubscribe>
List-Archive: <http://mails.dpdk.org/archives/test-report/>
List-Post: <mailto:test-report@dpdk.org>
List-Help: <mailto:test-report-request@dpdk.org?subject=help>
List-Subscribe: <https://mails.dpdk.org/listinfo/test-report>,
 <mailto:test-report-request@dpdk.org?subject=subscribe>
Errors-To: test-report-bounces@dpdk.org

Test-Label: iol-abi-testing
Test-Status: SUCCESS
http://dpdk.org/patch/126872

_Testing PASS_

Submitter: Michael Baum <michaelba@nvidia.com>
Date: Tuesday, May 16 2023 06:37:47 
DPDK git baseline: Repo:dpdk
  Branch: master
  CommitID:a399d7b5a994e335c446d4b15d7622d71dd8848c

126866-126872 --> testing pass

Test environment and result as below:

+------------------+----------+
|   Environment    | abi_test |
+==================+==========+
| RHEL 7           | PASS     |
+------------------+----------+
| openSUSE Leap 15 | PASS     |
+------------------+----------+
| Debian Bullseye  | PASS     |
+------------------+----------+
| Ubuntu 22.04     | PASS     |
+------------------+----------+
| RHEL8            | PASS     |
+------------------+----------+


RHEL 7
	Kernel: 4.18.0-240.10.1.el8_3.x86_64
	Compiler: gcc 4.8.5 20150623 (Red Hat 4.8.5-44)

openSUSE Leap 15
	Kernel: 4.18.0-240.10.1.el8_3.x86_64
	Compiler: gcc 7.5.0

Debian Bullseye
	Kernel: 5.4.0-122-generic
	Compiler: gcc 10.2.1-6

Ubuntu 22.04
	Kernel: 4.18.0-240.10.1.el8_3.x86_64
	Compiler: gcc 11.3.0

RHEL8
	Kernel: 4.18.0-240.10.1.el8_3.x86_64
	Compiler: gcc 8.3.1 20191121 (Red Hat 8.3.1-5)

To view detailed results, visit:
https://lab.dpdk.org/results/dashboard/patchsets/26232/

UNH-IOL DPDK Community Lab

To manage your email subscriptions, visit: 
https://lab.dpdk.org/results/dashboard/preferences/subscriptions/