From mboxrd@z Thu Jan  1 00:00:00 1970
Return-Path: <test-report-bounces@dpdk.org>
Received: from mails.dpdk.org (mails.dpdk.org [217.70.189.124])
	by inbox.dpdk.org (Postfix) with ESMTP id D21EC42B22
	for <public@inbox.dpdk.org>; Tue, 16 May 2023 13:19:20 +0200 (CEST)
Received: from mails.dpdk.org (localhost [127.0.0.1])
	by mails.dpdk.org (Postfix) with ESMTP id CE7524068E;
	Tue, 16 May 2023 13:19:20 +0200 (CEST)
Received: from mail-qk1-f225.google.com (mail-qk1-f225.google.com
 [209.85.222.225])
 by mails.dpdk.org (Postfix) with ESMTP id E98814068E
 for <test-report@dpdk.org>; Tue, 16 May 2023 13:19:16 +0200 (CEST)
Received: by mail-qk1-f225.google.com with SMTP id
 af79cd13be357-757741ca000so1078672785a.2
 for <test-report@dpdk.org>; Tue, 16 May 2023 04:19:16 -0700 (PDT)
DKIM-Signature: v=1; a=rsa-sha256; c=relaxed/relaxed;
 d=iol.unh.edu; s=unh-iol; t=1684235956; x=1686827956;
 h=cc:to:from:subject:message-id:date:from:to:cc:subject:date
 :message-id:reply-to;
 bh=LtD4fvfOPVaTdTYxgRPyZZmiQmC6WKYl4XUgXijRRIw=;
 b=bR6sL/+9t2afAVY0zFTwRAaRZSxj3mHxmnrLVHbxsb2WiDNyzVvSuy4cC753OhwHI+
 3T5ulES/INPJ0+fRYfmYC7rT0vnO4N81Tyhm263LydGTVktzsO9mEPtepmPCOw864s1m
 2H61dpZzCvtLXcURBaZFIOulFMtNbt7W0NbiA=
X-Google-DKIM-Signature: v=1; a=rsa-sha256; c=relaxed/relaxed;
 d=1e100.net; s=20221208; t=1684235956; x=1686827956;
 h=cc:to:from:subject:message-id:date:x-gm-message-state:from:to:cc
 :subject:date:message-id:reply-to;
 bh=LtD4fvfOPVaTdTYxgRPyZZmiQmC6WKYl4XUgXijRRIw=;
 b=l378AlkLsCZlg1nJIIMUNshlyRLozyWVuMwg4WmBPku1oRZOmxJNj2HKpKzHYReAmr
 q4URNNcPuXjnszmgPajKaB1AZ1MeNCC/eDZBxU0Vt2SQGy7GEbjOXMX8I6awVcP9r8K8
 nwSLuAvRPXln1orqoQHWCNRzL9+ydW5aoG9engWRWC+n+1Fwo3LiKuvVoCRBbQBJE8pq
 FxCzb1wayvJSzKz4cnvnignRasGDJzkk07J0zSkU9BBYSgmIH0QzdJ6HMnKMAKdQkGmp
 ylEIQ1ltTxI/Cp2DXeoL3158YWEFt9TWZ6NNlvhr43bJbQQhQfXQ2TK8OjHwH35WYqqQ
 luxw==
X-Gm-Message-State: AC+VfDxhqK8H62vCjXzRvWykoAo32wWAfPMJCRggSW7Ii6eX5sFtiSLC
 HTGZubg9x1msPTBnjgSnItZwLjGzGFPF6UzS7LYowyry73heDVKfMiSksknTD+9Svw3YekKQ8g=
 =
X-Google-Smtp-Source: ACHHUZ4pghrfVqGvqr3f6QOONPDRV2Vxc/EPaNhdEMMkHcEQt2jeAzAgNjNXDQgesHXsj7CktDAuwPG5cABD
X-Received: by 2002:ac8:5e49:0:b0:3f3:a18c:d0da with SMTP id
 i9-20020ac85e49000000b003f3a18cd0damr40501021qtx.25.1684235956430; 
 Tue, 16 May 2023 04:19:16 -0700 (PDT)
Received: from postal.iol.unh.edu (postal.iol.unh.edu.
 [2606:4100:3880:1234::84]) by smtp-relay.gmail.com with ESMTPS id
 t18-20020ac86a12000000b003f53b178701sm120311qtr.19.2023.05.16.04.19.16
 (version=TLS1_2 cipher=ECDHE-ECDSA-AES128-GCM-SHA256 bits=128/128);
 Tue, 16 May 2023 04:19:16 -0700 (PDT)
X-Relaying-Domain: iol.unh.edu
Date: Tue, 16 May 2023 04:19:16 -0700 (PDT)
Message-ID: <646366b4.c80a0220.99189.631bSMTPIN_ADDED_MISSING@mx.google.com>
Received: from [172.17.0.2] (unknown [172.18.0.34])
 by postal.iol.unh.edu (Postfix) with ESMTP id 2B57B605246B;
 Tue, 16 May 2023 07:19:16 -0400 (EDT)
Subject: |SUCCESS| pw126876 [PATCH] [v2] dts: update dependencies and mypy
 execution
From: dpdklab@iol.unh.edu
To: Test Report <test-report@dpdk.org>
Cc: dpdk-test-reports@iol.unh.edu
Content-Type: text/plain
X-BeenThere: test-report@dpdk.org
X-Mailman-Version: 2.1.29
Precedence: list
List-Id: automatic DPDK test reports <test-report.dpdk.org>
List-Unsubscribe: <https://mails.dpdk.org/options/test-report>,
 <mailto:test-report-request@dpdk.org?subject=unsubscribe>
List-Archive: <http://mails.dpdk.org/archives/test-report/>
List-Post: <mailto:test-report@dpdk.org>
List-Help: <mailto:test-report-request@dpdk.org?subject=help>
List-Subscribe: <https://mails.dpdk.org/listinfo/test-report>,
 <mailto:test-report-request@dpdk.org?subject=subscribe>
Errors-To: test-report-bounces@dpdk.org

Test-Label: iol-abi-testing
Test-Status: SUCCESS
http://dpdk.org/patch/126876

_Testing PASS_

Submitter: Juraj Linkes <juraj.linkes@pantheon.tech>
Date: Tuesday, May 16 2023 10:16:23 
DPDK git baseline: Repo:dpdk
  Branch: master
  CommitID:a399d7b5a994e335c446d4b15d7622d71dd8848c

126876 --> testing pass

Test environment and result as below:

+------------------+----------+
|   Environment    | abi_test |
+==================+==========+
| RHEL 7           | PASS     |
+------------------+----------+
| CentOS Stream 8  | PASS     |
+------------------+----------+
| Ubuntu 22.04     | PASS     |
+------------------+----------+
| Debian Buster    | PASS     |
+------------------+----------+
| openSUSE Leap 15 | PASS     |
+------------------+----------+
| Debian Bullseye  | PASS     |
+------------------+----------+


RHEL 7
	Kernel: 4.18.0-240.10.1.el8_3.x86_64
	Compiler: gcc 4.8.5 20150623 (Red Hat 4.8.5-44)

CentOS Stream 8
	Kernel: 4.18.0-240.10.1.el8_3.x86_64
	Compiler: gcc 8.4.1 20200928

Ubuntu 22.04
	Kernel: Container Host Kernel
	Compiler: gcc 12.2.1-2

Debian Buster
	Kernel: 5.4.0-122-generic
	Compiler: gcc 8.3.0-6

openSUSE Leap 15
	Kernel: 4.18.0-240.10.1.el8_3.x86_64
	Compiler: gcc 7.5.0

Debian Bullseye
	Kernel: 5.4.0-122-generic
	Compiler: gcc 10.2.1-6

To view detailed results, visit:
https://lab.dpdk.org/results/dashboard/patchsets/26234/

UNH-IOL DPDK Community Lab

To manage your email subscriptions, visit: 
https://lab.dpdk.org/results/dashboard/preferences/subscriptions/