From mboxrd@z Thu Jan  1 00:00:00 1970
Return-Path: <test-report-bounces@dpdk.org>
Received: from mails.dpdk.org (mails.dpdk.org [217.70.189.124])
	by inbox.dpdk.org (Postfix) with ESMTP id 1DB4042B22
	for <public@inbox.dpdk.org>; Tue, 16 May 2023 14:25:46 +0200 (CEST)
Received: from mails.dpdk.org (localhost [127.0.0.1])
	by mails.dpdk.org (Postfix) with ESMTP id 1A82C40A8B;
	Tue, 16 May 2023 14:25:46 +0200 (CEST)
Received: from mail-pg1-f228.google.com (mail-pg1-f228.google.com
 [209.85.215.228])
 by mails.dpdk.org (Postfix) with ESMTP id 990AB40A8B
 for <test-report@dpdk.org>; Tue, 16 May 2023 14:25:44 +0200 (CEST)
Received: by mail-pg1-f228.google.com with SMTP id
 41be03b00d2f7-5208be24dcbso10142472a12.1
 for <test-report@dpdk.org>; Tue, 16 May 2023 05:25:44 -0700 (PDT)
DKIM-Signature: v=1; a=rsa-sha256; c=relaxed/relaxed;
 d=iol.unh.edu; s=unh-iol; t=1684239944; x=1686831944;
 h=cc:to:from:subject:message-id:date:from:to:cc:subject:date
 :message-id:reply-to;
 bh=Q85Qh5NIkWBCr9Oj8CBnZzD/fG3lrmO2j7lxN64BCPs=;
 b=fzDpiHgHRDSfvDsERe2v7iV71CITpG49gjI9H0Ue9cUgLRHDPVWIxaP6H0CPhAlZgr
 FmIP2IuN5Lq+J922BhNpRXU3OUMSB6Wt6bAw19duZYKnRdv6dbjIOevo8zrzn+XKxSO0
 zhW3mDf432zv0zmo2bEH5get0Q43IWdWFXc6I=
X-Google-DKIM-Signature: v=1; a=rsa-sha256; c=relaxed/relaxed;
 d=1e100.net; s=20221208; t=1684239944; x=1686831944;
 h=cc:to:from:subject:message-id:date:x-gm-message-state:from:to:cc
 :subject:date:message-id:reply-to;
 bh=Q85Qh5NIkWBCr9Oj8CBnZzD/fG3lrmO2j7lxN64BCPs=;
 b=ZqwZeWE6We5iWXQihjC7YmWGU39UbEiJsEMCFB587y+LwR8IPCQ+KlfAg3V2RKJGsi
 zS//OUU3ULs/Ok8L/GK39ydkUm5uPjvilbpdxdKxXfTaxjYWfmfpB3Fzd2HTVk0iP19+
 Ij0qv3VT5LBjlTU8sewM3QU/N0SP3O3/HYooZ8e/mSppmL2Nq47Man/LB1J+IPVlZYOd
 mzSXue/Z/psIUmMpcof03ABdV+31QVGbM5RrbHTYV2I+HGBakHJgRJuhQxYhPSsGF0Zh
 w68csY3EsoEfdIMBMZENaODu89bDZj4nCl9pIoSMwgLcTOk3RQ/5+nrqXzk1bZmAjqqJ
 PrSw==
X-Gm-Message-State: AC+VfDwC/36HTbw50l/dZTUIRXkLqjc/sUR7tfnGPGGcTs4eIesJigjF
 NvOqOrErkfejnQCSnEZR52plbigC2gAiBd1CD2iZqy3ZEjGVFcbIrhqJDQ==
X-Google-Smtp-Source: ACHHUZ6IDdG0zHRwWVetdzve9aZkhjLUnb/ZPP1WOSaQRTyS92meU2qA3EJO3DD0X0lchIEQu1q0GiX0sTju
X-Received: by 2002:a17:902:ea11:b0:1ac:7f56:de04 with SMTP id
 s17-20020a170902ea1100b001ac7f56de04mr36194943plg.45.1684239943897; 
 Tue, 16 May 2023 05:25:43 -0700 (PDT)
Received: from postal.iol.unh.edu (postal.iol.unh.edu. [132.177.123.84])
 by smtp-relay.gmail.com with ESMTPS id
 w1-20020a170902a70100b001a99a18345bsm843439plq.15.2023.05.16.05.25.43
 (version=TLS1_2 cipher=ECDHE-ECDSA-AES128-GCM-SHA256 bits=128/128);
 Tue, 16 May 2023 05:25:43 -0700 (PDT)
X-Relaying-Domain: iol.unh.edu
Date: Tue, 16 May 2023 05:25:43 -0700 (PDT)
Message-ID: <64637647.170a0220.58909.8e60SMTPIN_ADDED_MISSING@mx.google.com>
Received: from [172.17.0.2] (unknown [172.18.0.34])
 by postal.iol.unh.edu (Postfix) with ESMTP id 2CA06605246B;
 Tue, 16 May 2023 08:25:43 -0400 (EDT)
Subject: |SUCCESS| pw126879 [PATCH] lib/kni : fix memory-leak on
 rte_kni_rx_burst
From: dpdklab@iol.unh.edu
To: Test Report <test-report@dpdk.org>
Cc: dpdk-test-reports@iol.unh.edu
Content-Type: text/plain
X-BeenThere: test-report@dpdk.org
X-Mailman-Version: 2.1.29
Precedence: list
List-Id: automatic DPDK test reports <test-report.dpdk.org>
List-Unsubscribe: <https://mails.dpdk.org/options/test-report>,
 <mailto:test-report-request@dpdk.org?subject=unsubscribe>
List-Archive: <http://mails.dpdk.org/archives/test-report/>
List-Post: <mailto:test-report@dpdk.org>
List-Help: <mailto:test-report-request@dpdk.org?subject=help>
List-Subscribe: <https://mails.dpdk.org/listinfo/test-report>,
 <mailto:test-report-request@dpdk.org?subject=subscribe>
Errors-To: test-report-bounces@dpdk.org

Test-Label: iol-abi-testing
Test-Status: SUCCESS
http://dpdk.org/patch/126879

_Testing PASS_

Submitter: Yasin CANER <yasinncaner@gmail.com>
Date: Tuesday, May 16 2023 10:48:53 
DPDK git baseline: Repo:dpdk
  Branch: master
  CommitID:a399d7b5a994e335c446d4b15d7622d71dd8848c

126879 --> testing pass

Test environment and result as below:

+-----------------+----------+
|   Environment   | abi_test |
+=================+==========+
| RHEL8           | PASS     |
+-----------------+----------+
| CentOS Stream 8 | PASS     |
+-----------------+----------+
| CentOS Stream 9 | PASS     |
+-----------------+----------+


RHEL8
	Kernel: 4.18.0-240.10.1.el8_3.x86_64
	Compiler: gcc 8.3.1 20191121 (Red Hat 8.3.1-5)

CentOS Stream 8
	Kernel: 4.18.0-240.10.1.el8_3.x86_64
	Compiler: gcc 8.4.1 20200928

CentOS Stream 9
	Kernel: 4.18.0-240.10.1.el8_3.x86_64
	Compiler: gcc 11.3.1 20220421

To view detailed results, visit:
https://lab.dpdk.org/results/dashboard/patchsets/26237/

UNH-IOL DPDK Community Lab

To manage your email subscriptions, visit: 
https://lab.dpdk.org/results/dashboard/preferences/subscriptions/