From mboxrd@z Thu Jan  1 00:00:00 1970
Return-Path: <test-report-bounces@dpdk.org>
Received: from mails.dpdk.org (mails.dpdk.org [217.70.189.124])
	by inbox.dpdk.org (Postfix) with ESMTP id 090FE42B22
	for <public@inbox.dpdk.org>; Tue, 16 May 2023 15:22:27 +0200 (CEST)
Received: from mails.dpdk.org (localhost [127.0.0.1])
	by mails.dpdk.org (Postfix) with ESMTP id 070A6410EE;
	Tue, 16 May 2023 15:22:27 +0200 (CEST)
Received: from mail-il1-f227.google.com (mail-il1-f227.google.com
 [209.85.166.227])
 by mails.dpdk.org (Postfix) with ESMTP id 13082410EE
 for <test-report@dpdk.org>; Tue, 16 May 2023 15:22:25 +0200 (CEST)
Received: by mail-il1-f227.google.com with SMTP id
 e9e14a558f8ab-3361b08a564so38861595ab.3
 for <test-report@dpdk.org>; Tue, 16 May 2023 06:22:25 -0700 (PDT)
DKIM-Signature: v=1; a=rsa-sha256; c=relaxed/relaxed;
 d=iol.unh.edu; s=unh-iol; t=1684243344; x=1686835344;
 h=cc:to:from:subject:message-id:date:from:to:cc:subject:date
 :message-id:reply-to;
 bh=LA9Vmm/e5cM3IjoFp2Fj3reiE3ZN7uNif+xiR2tXo3A=;
 b=FlWBSL1O+6hROTR9YOKWcune+HAy6yY/sfARtrvNY/p/HEsjqrhicAq8uIMm5V8AU8
 yIKiz+LueTUCfAPu0t4epgQtASznY2qjIs9CopZmMHGiYYFLrjQjqYhwAJWyrEU7Uzh0
 aqzgFwuoNxUew8VLnXIF7ODvRzvtnF5ylJjew=
X-Google-DKIM-Signature: v=1; a=rsa-sha256; c=relaxed/relaxed;
 d=1e100.net; s=20221208; t=1684243344; x=1686835344;
 h=cc:to:from:subject:message-id:date:x-gm-message-state:from:to:cc
 :subject:date:message-id:reply-to;
 bh=LA9Vmm/e5cM3IjoFp2Fj3reiE3ZN7uNif+xiR2tXo3A=;
 b=hIvE/MeOxOq+KAxcPvnp7r06fwPuoIrdnJIRG7D45lHjy2+R1k51oMAeYxwvdiWIr3
 Yin+05Uq4yjfDrUXukksCMw+wNq6Z6p7Qog+N1lBPeyYwtrpkOZ0wbg3w+RlB/Gx+cj/
 2nKiHVUch+849czoU9WiHmgTdwW1GwagQix+pOU1ja01tFH7e+UaiDbHtwsragTw+zzR
 jPVVvfEdiYZgMFsPwzeeX1Cwak5ZqiARaWwqpWRMQFpHJK4mHjdoHYJdegyHDSDiw3cQ
 MaO++nBMfyUfh580a+HS8ZMK2FvIhriQa6iWVmPb7xj0PRNtNJ8z83nqKtsuUY533k5X
 zWrg==
X-Gm-Message-State: AC+VfDxZQKSpmCzAlFXrlNtHU6fInUrFCD+6mIk4gJHaSsaa8jeqpbIg
 7KpRHbZ36kCM9W9GTLsl6xKmTqncCn0kfTgKmuGIOsjIuCQKEbHOtVUTg8OyCougZJBUDcZbIQ=
 =
X-Google-Smtp-Source: ACHHUZ709yr34v7ddShrUBZ237cuely7CFIf4F2Og6xXK4SWT6ZqA71eJlSxyYH8PQ2y7acIx6b6WrhTBbrh
X-Received: by 2002:a92:280c:0:b0:328:e3db:80a5 with SMTP id
 l12-20020a92280c000000b00328e3db80a5mr25913995ilf.20.1684243344383; 
 Tue, 16 May 2023 06:22:24 -0700 (PDT)
Received: from postal.iol.unh.edu (postal.iol.unh.edu.
 [2606:4100:3880:1234::84]) by smtp-relay.gmail.com with ESMTPS id
 4-20020a920d04000000b003353010fef7sm1316104iln.61.2023.05.16.06.22.24
 (version=TLS1_2 cipher=ECDHE-ECDSA-AES128-GCM-SHA256 bits=128/128);
 Tue, 16 May 2023 06:22:24 -0700 (PDT)
X-Relaying-Domain: iol.unh.edu
Date: Tue, 16 May 2023 06:22:24 -0700 (PDT)
Message-ID: <64638390.920a0220.28a24.f886SMTPIN_ADDED_MISSING@mx.google.com>
Received: from [172.17.0.2] (unknown [172.18.0.34])
 by postal.iol.unh.edu (Postfix) with ESMTP id DD530605246B;
 Tue, 16 May 2023 09:22:23 -0400 (EDT)
Subject: |SUCCESS| pw126884-126883 [PATCH] [v2,
 3/3] net/mlx5: support enhanced multi-packet write on Windows
From: dpdklab@iol.unh.edu
To: Test Report <test-report@dpdk.org>
Cc: dpdk-test-reports@iol.unh.edu
Content-Type: text/plain
X-BeenThere: test-report@dpdk.org
X-Mailman-Version: 2.1.29
Precedence: list
List-Id: automatic DPDK test reports <test-report.dpdk.org>
List-Unsubscribe: <https://mails.dpdk.org/options/test-report>,
 <mailto:test-report-request@dpdk.org?subject=unsubscribe>
List-Archive: <http://mails.dpdk.org/archives/test-report/>
List-Post: <mailto:test-report@dpdk.org>
List-Help: <mailto:test-report-request@dpdk.org?subject=help>
List-Subscribe: <https://mails.dpdk.org/listinfo/test-report>,
 <mailto:test-report-request@dpdk.org?subject=subscribe>
Errors-To: test-report-bounces@dpdk.org

Test-Label: iol-abi-testing
Test-Status: SUCCESS
http://dpdk.org/patch/126883

_Testing PASS_

Submitter: Tal Shnaiderman <talshn@nvidia.com>
Date: Tuesday, May 16 2023 11:25:48 
DPDK git baseline: Repo:dpdk
  Branch: master
  CommitID:a399d7b5a994e335c446d4b15d7622d71dd8848c

126884-126883 --> testing pass

Test environment and result as below:

+-----------------+----------+
|   Environment   | abi_test |
+=================+==========+
| CentOS Stream 9 | PASS     |
+-----------------+----------+
| RHEL8           | PASS     |
+-----------------+----------+
| CentOS Stream 8 | PASS     |
+-----------------+----------+
| RHEL 7          | PASS     |
+-----------------+----------+


CentOS Stream 9
	Kernel: 4.18.0-240.10.1.el8_3.x86_64
	Compiler: gcc 11.3.1 20220421

RHEL8
	Kernel: 4.18.0-240.10.1.el8_3.x86_64
	Compiler: gcc 8.3.1 20191121 (Red Hat 8.3.1-5)

CentOS Stream 8
	Kernel: 4.18.0-240.10.1.el8_3.x86_64
	Compiler: gcc 8.4.1 20200928

RHEL 7
	Kernel: 4.18.0-240.10.1.el8_3.x86_64
	Compiler: gcc 4.8.5 20150623 (Red Hat 4.8.5-44)

To view detailed results, visit:
https://lab.dpdk.org/results/dashboard/patchsets/26239/

UNH-IOL DPDK Community Lab

To manage your email subscriptions, visit: 
https://lab.dpdk.org/results/dashboard/preferences/subscriptions/