From mboxrd@z Thu Jan  1 00:00:00 1970
Return-Path: <test-report-bounces@dpdk.org>
Received: from mails.dpdk.org (mails.dpdk.org [217.70.189.124])
	by inbox.dpdk.org (Postfix) with ESMTP id B5A1F42B22
	for <public@inbox.dpdk.org>; Tue, 16 May 2023 15:27:02 +0200 (CEST)
Received: from mails.dpdk.org (localhost [127.0.0.1])
	by mails.dpdk.org (Postfix) with ESMTP id B2BBC410EE;
	Tue, 16 May 2023 15:27:02 +0200 (CEST)
Received: from mail-oa1-f99.google.com (mail-oa1-f99.google.com
 [209.85.160.99]) by mails.dpdk.org (Postfix) with ESMTP id 0C812410EE
 for <test-report@dpdk.org>; Tue, 16 May 2023 15:27:02 +0200 (CEST)
Received: by mail-oa1-f99.google.com with SMTP id
 586e51a60fabf-1960539df06so8663735fac.1
 for <test-report@dpdk.org>; Tue, 16 May 2023 06:27:01 -0700 (PDT)
DKIM-Signature: v=1; a=rsa-sha256; c=relaxed/relaxed;
 d=iol.unh.edu; s=unh-iol; t=1684243621; x=1686835621;
 h=cc:to:from:subject:message-id:date:from:to:cc:subject:date
 :message-id:reply-to;
 bh=rtqJy1C/umkJc9MVZUpEGV0+izhEXzFIfuRsrD1X0/k=;
 b=aSq+hMF4bHfBjAny/kn1PT47s/UWsastDZ4KiEyLcNiAxIRtbnTuCtM1Byuo0X8bC6
 ZR6RomuNuhDEz0VnhCfuGzjBQRCERHV9tTQMT1Crdr/xPhSNVVvMdpjcFS5GQ9xTAtik
 KjB4Z76jhHU+j89aMZNRiEyMXVld09o9bKhPk=
X-Google-DKIM-Signature: v=1; a=rsa-sha256; c=relaxed/relaxed;
 d=1e100.net; s=20221208; t=1684243621; x=1686835621;
 h=cc:to:from:subject:message-id:date:x-gm-message-state:from:to:cc
 :subject:date:message-id:reply-to;
 bh=rtqJy1C/umkJc9MVZUpEGV0+izhEXzFIfuRsrD1X0/k=;
 b=PbiSaDFGMO9o0GiyHekLg7AP4o+TIUSEpMltPjDdVbhlnB5DNF8SMkxs5ayep8lRSb
 aS9fxXq1aDhlbjsnzwJJuk9mTXZudsioiQnwAu9a+sRVKQ+Sq4x+pt28msKqiHtDP9NH
 kImbfw5e6ik+7fE6EILu6PFW34OjBIUGcovV5AnmZSoggjTofP1Br17JTAkQkHXXpOHn
 ZXlM+M9ubwM5KdSRjvpu+uZJBeICKfutQIFehE0t33zKDunrVaKR0tC5rBWoknoOLRdb
 S/UaJE89eGSxIm6vSNnxqwG16LdTQZBPSDMVHDZ6g7JIhGChcJuvFwXdDADwoNqHZNSd
 vusQ==
X-Gm-Message-State: AC+VfDxFZsk+PJiAzPkUretDlBGOIH3lHEl1n6ghkNQxhBzqXPW7Yusn
 Yd8n1Blrdtg4Iz7z52zUjTju74OC5i7P0oPXJRkQmSffPwk41Za9nbXLJQ==
X-Google-Smtp-Source: ACHHUZ5CEhxOf9jBAUWA0l8WStCmI7HDMnTUDmyJEhD8cZpXajoOnTi7gITCPZ1YtXhxdZ/rcB81iTgGZfj2
X-Received: by 2002:a05:6808:3093:b0:396:13ec:1d1e with SMTP id
 bl19-20020a056808309300b0039613ec1d1emr3398362oib.36.1684243621285; 
 Tue, 16 May 2023 06:27:01 -0700 (PDT)
Received: from postal.iol.unh.edu (postal.iol.unh.edu. [132.177.123.84])
 by smtp-relay.gmail.com with ESMTPS id
 u13-20020a4a8c0d000000b00546e9837fcdsm652897ooj.9.2023.05.16.06.27.01
 (version=TLS1_2 cipher=ECDHE-ECDSA-AES128-GCM-SHA256 bits=128/128);
 Tue, 16 May 2023 06:27:01 -0700 (PDT)
X-Relaying-Domain: iol.unh.edu
Date: Tue, 16 May 2023 06:27:01 -0700 (PDT)
Message-ID: <646384a5.4a0a0220.34a6c.0a2eSMTPIN_ADDED_MISSING@mx.google.com>
Received: from [172.17.0.2] (unknown [172.18.0.34])
 by postal.iol.unh.edu (Postfix) with ESMTP id E4835605246B;
 Tue, 16 May 2023 09:27:00 -0400 (EDT)
Subject: |SUCCESS| pw126884-126883 [PATCH] [v2,
 3/3] net/mlx5: support enhanced multi-packet write on Windows
From: dpdklab@iol.unh.edu
To: Test Report <test-report@dpdk.org>
Cc: Tal Shnaiderman <talshn@nvidia.com>
Content-Type: text/plain
X-BeenThere: test-report@dpdk.org
X-Mailman-Version: 2.1.29
Precedence: list
List-Id: automatic DPDK test reports <test-report.dpdk.org>
List-Unsubscribe: <https://mails.dpdk.org/options/test-report>,
 <mailto:test-report-request@dpdk.org?subject=unsubscribe>
List-Archive: <http://mails.dpdk.org/archives/test-report/>
List-Post: <mailto:test-report@dpdk.org>
List-Help: <mailto:test-report-request@dpdk.org?subject=help>
List-Subscribe: <https://mails.dpdk.org/listinfo/test-report>,
 <mailto:test-report-request@dpdk.org?subject=subscribe>
Errors-To: test-report-bounces@dpdk.org

Test-Label: iol-abi-testing
Test-Status: SUCCESS
http://dpdk.org/patch/126883

_Testing PASS_

Submitter: Tal Shnaiderman <talshn@nvidia.com>
Date: Tuesday, May 16 2023 11:25:48 
DPDK git baseline: Repo:dpdk
  Branch: master
  CommitID:a399d7b5a994e335c446d4b15d7622d71dd8848c

126884-126883 --> testing pass

Test environment and result as below:

+-----------------+----------+
|   Environment   | abi_test |
+=================+==========+
| CentOS Stream 9 | PASS     |
+-----------------+----------+
| RHEL8           | PASS     |
+-----------------+----------+
| CentOS Stream 8 | PASS     |
+-----------------+----------+
| RHEL 7          | PASS     |
+-----------------+----------+
| Ubuntu 22.04    | PASS     |
+-----------------+----------+
| Debian Bullseye | PASS     |
+-----------------+----------+


CentOS Stream 9
	Kernel: 4.18.0-240.10.1.el8_3.x86_64
	Compiler: gcc 11.3.1 20220421

RHEL8
	Kernel: 4.18.0-240.10.1.el8_3.x86_64
	Compiler: gcc 8.3.1 20191121 (Red Hat 8.3.1-5)

CentOS Stream 8
	Kernel: 4.18.0-240.10.1.el8_3.x86_64
	Compiler: gcc 8.4.1 20200928

RHEL 7
	Kernel: 4.18.0-240.10.1.el8_3.x86_64
	Compiler: gcc 4.8.5 20150623 (Red Hat 4.8.5-44)

Ubuntu 22.04
	Kernel: Container Host Kernel
	Compiler: gcc 11.3.1-2

Debian Bullseye
	Kernel: 5.4.0-122-generic
	Compiler: gcc 10.2.1-6

To view detailed results, visit:
https://lab.dpdk.org/results/dashboard/patchsets/26239/

UNH-IOL DPDK Community Lab

To manage your email subscriptions, visit: 
https://lab.dpdk.org/results/dashboard/preferences/subscriptions/