From mboxrd@z Thu Jan  1 00:00:00 1970
Return-Path: <test-report-bounces@dpdk.org>
Received: from mails.dpdk.org (mails.dpdk.org [217.70.189.124])
	by inbox.dpdk.org (Postfix) with ESMTP id 0BC9E42B22
	for <public@inbox.dpdk.org>; Tue, 16 May 2023 15:39:52 +0200 (CEST)
Received: from mails.dpdk.org (localhost [127.0.0.1])
	by mails.dpdk.org (Postfix) with ESMTP id 0858E410EE;
	Tue, 16 May 2023 15:39:52 +0200 (CEST)
Received: from mail-pl1-f228.google.com (mail-pl1-f228.google.com
 [209.85.214.228])
 by mails.dpdk.org (Postfix) with ESMTP id 15392410EE
 for <test-report@dpdk.org>; Tue, 16 May 2023 15:39:51 +0200 (CEST)
Received: by mail-pl1-f228.google.com with SMTP id
 d9443c01a7336-1aaea3909d1so131971925ad.2
 for <test-report@dpdk.org>; Tue, 16 May 2023 06:39:51 -0700 (PDT)
DKIM-Signature: v=1; a=rsa-sha256; c=relaxed/relaxed;
 d=iol.unh.edu; s=unh-iol; t=1684244390; x=1686836390;
 h=cc:to:from:subject:message-id:date:from:to:cc:subject:date
 :message-id:reply-to;
 bh=CR1dEhyMayWOXCnZPFH72pIDSeUZE0IZMb8YYR7vQ4Q=;
 b=hQPM+SrBsyjMaQi5+119c/nlPbla5R8cVMtRjVqocrI0pSzl5CBhWG6pahAhQVoISm
 xBki5OsIXj+RVbWVrrIl144DWGpVZEUPQR4LuErSE4yLaTvchzOmBl79L8L5rQOnVhvu
 3uuNjjx8BhX9QLTnvk79f/6CpOjPImAIiQIXg=
X-Google-DKIM-Signature: v=1; a=rsa-sha256; c=relaxed/relaxed;
 d=1e100.net; s=20221208; t=1684244390; x=1686836390;
 h=cc:to:from:subject:message-id:date:x-gm-message-state:from:to:cc
 :subject:date:message-id:reply-to;
 bh=CR1dEhyMayWOXCnZPFH72pIDSeUZE0IZMb8YYR7vQ4Q=;
 b=MDVOqKq6c+8Js7GtunB8mCdfhDfuuvnX5IYIYpUHQvjlCcWt8wySckUWylcYYWTNsK
 cjIW8DiJKFmXpSMzPF98l4CER0xUOlIsI1+ZX8YEnfvMHLUu/QjSVvXJ98rkNmBTQ/dH
 dQ2xyAXeaPGaL5JHm5yYc2M/4BkbKcj6t+JqrmraCmC6Rb6ODpZpGUarF0bUnvb9pADV
 kS5l/s92CcV+laNvXztdetDUyrJLoacItHu5XokHBxUhej3vI1VDhWLzh+gLK7lHOT2w
 Y8QHc58w5IJ1Qny82HacLQb0zcFi11BlkkCJhu7ADWdLeT1cvhwB/vGE6LsZSfeHdU3p
 wcvg==
X-Gm-Message-State: AC+VfDyI49HD04GV20x9fIKZxkm3Y8u0JByox1I3ZCv+d1O3WTAlko6f
 VPF84GFxzH95Nc+20VEshQ+wJLWQZ8juWl7ISjjNuxSgyilJt+aoNiQ/PQ==
X-Google-Smtp-Source: ACHHUZ5G49cCM+UsiJADl4LPVjxspVkA3puQS/33Edla/EUmbUlPvI76wwgond5v6oOzD8fBDIGpcQhCk9xK
X-Received: by 2002:a17:902:d68b:b0:1ab:7fb:aac1 with SMTP id
 v11-20020a170902d68b00b001ab07fbaac1mr39138658ply.24.1684244390333; 
 Tue, 16 May 2023 06:39:50 -0700 (PDT)
Received: from postal.iol.unh.edu (postal.iol.unh.edu. [132.177.123.84])
 by smtp-relay.gmail.com with ESMTPS id
 e19-20020a170902ed9300b0019cf747253dsm916891plj.92.2023.05.16.06.39.50
 (version=TLS1_2 cipher=ECDHE-ECDSA-AES128-GCM-SHA256 bits=128/128);
 Tue, 16 May 2023 06:39:50 -0700 (PDT)
X-Relaying-Domain: iol.unh.edu
Date: Tue, 16 May 2023 06:39:50 -0700 (PDT)
Message-ID: <646387a6.170a0220.57256.d9ecSMTPIN_ADDED_MISSING@mx.google.com>
Received: from [172.17.0.2] (unknown [172.18.0.34])
 by postal.iol.unh.edu (Postfix) with ESMTP id CD430605246B;
 Tue, 16 May 2023 09:39:49 -0400 (EDT)
Subject: |SUCCESS| pw126884-126883 [PATCH] [v2,
 3/3] net/mlx5: support enhanced multi-packet write on Windows
From: dpdklab@iol.unh.edu
To: Test Report <test-report@dpdk.org>
Cc: dpdk-test-reports@iol.unh.edu
Content-Type: text/plain
X-BeenThere: test-report@dpdk.org
X-Mailman-Version: 2.1.29
Precedence: list
List-Id: automatic DPDK test reports <test-report.dpdk.org>
List-Unsubscribe: <https://mails.dpdk.org/options/test-report>,
 <mailto:test-report-request@dpdk.org?subject=unsubscribe>
List-Archive: <http://mails.dpdk.org/archives/test-report/>
List-Post: <mailto:test-report@dpdk.org>
List-Help: <mailto:test-report-request@dpdk.org?subject=help>
List-Subscribe: <https://mails.dpdk.org/listinfo/test-report>,
 <mailto:test-report-request@dpdk.org?subject=subscribe>
Errors-To: test-report-bounces@dpdk.org

Test-Label: iol-aarch64-unit-testing
Test-Status: SUCCESS
http://dpdk.org/patch/126883

_Testing PASS_

Submitter: Tal Shnaiderman <talshn@nvidia.com>
Date: Tuesday, May 16 2023 11:25:48 
DPDK git baseline: Repo:dpdk
  Branch: master
  CommitID:a399d7b5a994e335c446d4b15d7622d71dd8848c

126884-126883 --> testing pass

Test environment and result as below:

+----------------------+---------------------------+------------------------------+--------------+
|     Environment      | cryptodev_sw_zuc_autotest | cryptodev_sw_snow3g_autotest | lpm_autotest |
+======================+===========================+==============================+==============+
| Debian 11            | PASS                      | PASS                         | SKIPPED      |
+----------------------+---------------------------+------------------------------+--------------+
| Ubuntu 20.04 ARM SVE | SKIPPED                   | SKIPPED                      | PASS         |
+----------------------+---------------------------+------------------------------+--------------+


Debian 11
	Kernel: Container Host Kernel
	Compiler: gcc 10.2.1

Ubuntu 20.04 ARM SVE
	Kernel: 5.4.0-80-generic
	Compiler: gcc 10.3.0 (Ubuntu 10.3.0-1ubuntu1~20.04)

To view detailed results, visit:
https://lab.dpdk.org/results/dashboard/patchsets/26239/

UNH-IOL DPDK Community Lab

To manage your email subscriptions, visit: 
https://lab.dpdk.org/results/dashboard/preferences/subscriptions/