From mboxrd@z Thu Jan  1 00:00:00 1970
Return-Path: <test-report-bounces@dpdk.org>
Received: from mails.dpdk.org (mails.dpdk.org [217.70.189.124])
	by inbox.dpdk.org (Postfix) with ESMTP id E6A4642B22
	for <public@inbox.dpdk.org>; Tue, 16 May 2023 15:41:52 +0200 (CEST)
Received: from mails.dpdk.org (localhost [127.0.0.1])
	by mails.dpdk.org (Postfix) with ESMTP id D161E410EE;
	Tue, 16 May 2023 15:41:52 +0200 (CEST)
Received: from mail-io1-f99.google.com (mail-io1-f99.google.com
 [209.85.166.99]) by mails.dpdk.org (Postfix) with ESMTP id 31C54410EE
 for <test-report@dpdk.org>; Tue, 16 May 2023 15:41:51 +0200 (CEST)
Received: by mail-io1-f99.google.com with SMTP id
 ca18e2360f4ac-76c866d8754so447134239f.1
 for <test-report@dpdk.org>; Tue, 16 May 2023 06:41:51 -0700 (PDT)
DKIM-Signature: v=1; a=rsa-sha256; c=relaxed/relaxed;
 d=iol.unh.edu; s=unh-iol; t=1684244510; x=1686836510;
 h=cc:to:from:subject:message-id:date:from:to:cc:subject:date
 :message-id:reply-to;
 bh=rtqJy1C/umkJc9MVZUpEGV0+izhEXzFIfuRsrD1X0/k=;
 b=Xb+tlIDrb6p6GA/EYwhNTBHd6xshaOOoqKA+5Gan1T2/52T3eJjof8fU9CAuAemUOh
 ZgpWAKG2YcYRE7mI7bKXA4Ei52Z+D7u8WZQAPCamFq0ov1Vlhdzet+7hDmSy4ai2YXlz
 CwpYfDxczVgF2n+0NoSDaYBTGRPa1iyBMQuu8=
X-Google-DKIM-Signature: v=1; a=rsa-sha256; c=relaxed/relaxed;
 d=1e100.net; s=20221208; t=1684244510; x=1686836510;
 h=cc:to:from:subject:message-id:date:x-gm-message-state:from:to:cc
 :subject:date:message-id:reply-to;
 bh=rtqJy1C/umkJc9MVZUpEGV0+izhEXzFIfuRsrD1X0/k=;
 b=Nc78xJi7l8Tis9LjlyQDzW/5EIEfAdmYrHCgqeE8OLOTRW9YWjTv+A2m6QGgV3uIIc
 eLsbVLvfkIpdZQzSn99CR3XHvln0JVFTufkiXjviXH4/nj9ArpCxrTQUfJ075dzxZ2G2
 D8DWNTk9WNiT5ukea5KVHoXChwb3bPfbvlgChQwCVs1mpO0ZJkgtfOiD4svxU1FOnqIe
 /24lfPGdehm85uPYrKFpEIx6yb0maRpMmiEMicXgAhXGjOfY/iqpie437f4LHSUAAe6k
 9rnSNfqKwNwo18O7UmxZ+oqWxp5K5ao/xkqf7u63pH897ncOTTCGIPxTFC2JUwlbVwZa
 Mzhg==
X-Gm-Message-State: AC+VfDzw6XSGI41WpqLsZ+dYq27RCyd6o1R6+YJDt1blDr5HRAXvVGUR
 l2Nd3caJNGKPhxMdZUOGkILKAyK3VVNcNvvhNOWocJWh2xj1voYC0Y2fwA==
X-Google-Smtp-Source: ACHHUZ47zbrQVJ+G0a8kF8kO7S4MmP7WgTgZDbe+FXOBvv6JMWdhAMJqYmhgwU/ZlFf1K0Fn+So9mDkD0RnO
X-Received: by 2002:a92:d289:0:b0:32a:b78f:e7d5 with SMTP id
 p9-20020a92d289000000b0032ab78fe7d5mr25221160ilp.27.1684244510575; 
 Tue, 16 May 2023 06:41:50 -0700 (PDT)
Received: from postal.iol.unh.edu (postal.iol.unh.edu. [132.177.123.84])
 by smtp-relay.gmail.com with ESMTPS id
 h21-20020a02b615000000b00416399c9a34sm1361408jam.59.2023.05.16.06.41.50
 (version=TLS1_2 cipher=ECDHE-ECDSA-AES128-GCM-SHA256 bits=128/128);
 Tue, 16 May 2023 06:41:50 -0700 (PDT)
X-Relaying-Domain: iol.unh.edu
Date: Tue, 16 May 2023 06:41:50 -0700 (PDT)
Message-ID: <6463881e.020a0220.6921d.a637SMTPIN_ADDED_MISSING@mx.google.com>
Received: from [172.17.0.2] (unknown [172.18.0.34])
 by postal.iol.unh.edu (Postfix) with ESMTP id 16DEB605246B;
 Tue, 16 May 2023 09:41:50 -0400 (EDT)
Subject: |SUCCESS| pw126884-126883 [PATCH] [v2,
 3/3] net/mlx5: support enhanced multi-packet write on Windows
From: dpdklab@iol.unh.edu
To: Test Report <test-report@dpdk.org>
Cc: dpdk-test-reports@iol.unh.edu
Content-Type: text/plain
X-BeenThere: test-report@dpdk.org
X-Mailman-Version: 2.1.29
Precedence: list
List-Id: automatic DPDK test reports <test-report.dpdk.org>
List-Unsubscribe: <https://mails.dpdk.org/options/test-report>,
 <mailto:test-report-request@dpdk.org?subject=unsubscribe>
List-Archive: <http://mails.dpdk.org/archives/test-report/>
List-Post: <mailto:test-report@dpdk.org>
List-Help: <mailto:test-report-request@dpdk.org?subject=help>
List-Subscribe: <https://mails.dpdk.org/listinfo/test-report>,
 <mailto:test-report-request@dpdk.org?subject=subscribe>
Errors-To: test-report-bounces@dpdk.org

Test-Label: iol-abi-testing
Test-Status: SUCCESS
http://dpdk.org/patch/126883

_Testing PASS_

Submitter: Tal Shnaiderman <talshn@nvidia.com>
Date: Tuesday, May 16 2023 11:25:48 
DPDK git baseline: Repo:dpdk
  Branch: master
  CommitID:a399d7b5a994e335c446d4b15d7622d71dd8848c

126884-126883 --> testing pass

Test environment and result as below:

+-----------------+----------+
|   Environment   | abi_test |
+=================+==========+
| CentOS Stream 9 | PASS     |
+-----------------+----------+
| RHEL8           | PASS     |
+-----------------+----------+
| CentOS Stream 8 | PASS     |
+-----------------+----------+
| RHEL 7          | PASS     |
+-----------------+----------+
| Ubuntu 22.04    | PASS     |
+-----------------+----------+
| Debian Bullseye | PASS     |
+-----------------+----------+


CentOS Stream 9
	Kernel: 4.18.0-240.10.1.el8_3.x86_64
	Compiler: gcc 11.3.1 20220421

RHEL8
	Kernel: 4.18.0-240.10.1.el8_3.x86_64
	Compiler: gcc 8.3.1 20191121 (Red Hat 8.3.1-5)

CentOS Stream 8
	Kernel: 4.18.0-240.10.1.el8_3.x86_64
	Compiler: gcc 8.4.1 20200928

RHEL 7
	Kernel: 4.18.0-240.10.1.el8_3.x86_64
	Compiler: gcc 4.8.5 20150623 (Red Hat 4.8.5-44)

Ubuntu 22.04
	Kernel: Container Host Kernel
	Compiler: gcc 11.3.1-2

Debian Bullseye
	Kernel: 5.4.0-122-generic
	Compiler: gcc 10.2.1-6

To view detailed results, visit:
https://lab.dpdk.org/results/dashboard/patchsets/26239/

UNH-IOL DPDK Community Lab

To manage your email subscriptions, visit: 
https://lab.dpdk.org/results/dashboard/preferences/subscriptions/