From mboxrd@z Thu Jan  1 00:00:00 1970
Return-Path: <test-report-bounces@dpdk.org>
Received: from mails.dpdk.org (mails.dpdk.org [217.70.189.124])
	by inbox.dpdk.org (Postfix) with ESMTP id BDD2942B22
	for <public@inbox.dpdk.org>; Tue, 16 May 2023 15:46:04 +0200 (CEST)
Received: from mails.dpdk.org (localhost [127.0.0.1])
	by mails.dpdk.org (Postfix) with ESMTP id BB342410EE;
	Tue, 16 May 2023 15:46:04 +0200 (CEST)
Received: from mail-il1-f228.google.com (mail-il1-f228.google.com
 [209.85.166.228])
 by mails.dpdk.org (Postfix) with ESMTP id 6545C410EE
 for <test-report@dpdk.org>; Tue, 16 May 2023 15:46:03 +0200 (CEST)
Received: by mail-il1-f228.google.com with SMTP id
 e9e14a558f8ab-331ad4cd4fdso32417155ab.1
 for <test-report@dpdk.org>; Tue, 16 May 2023 06:46:03 -0700 (PDT)
DKIM-Signature: v=1; a=rsa-sha256; c=relaxed/relaxed;
 d=iol.unh.edu; s=unh-iol; t=1684244763; x=1686836763;
 h=cc:to:from:subject:message-id:date:from:to:cc:subject:date
 :message-id:reply-to;
 bh=6/L0su1XVJ3Efc688/dyStfJ27kL3yehqN2bnKRi9/o=;
 b=JMQyIo1m65cVQx4CHj42kU8b7Eb1WO3RtjYre9IVDC02o9tyu7ig7NivTP2Otz/3NS
 /AM0ABhwFp7pKxlttwvuIy9AkSwA9XNnAP8ZIzONCp2SxO/SE8f8HWJJwAzHFXonqUrc
 7eVpy4KoqdnGNYQxdFb9c1J5ne2567VkDanLI=
X-Google-DKIM-Signature: v=1; a=rsa-sha256; c=relaxed/relaxed;
 d=1e100.net; s=20221208; t=1684244763; x=1686836763;
 h=cc:to:from:subject:message-id:date:x-gm-message-state:from:to:cc
 :subject:date:message-id:reply-to;
 bh=6/L0su1XVJ3Efc688/dyStfJ27kL3yehqN2bnKRi9/o=;
 b=fOXifJI2vMiXkS1sU5jyfcq76rWQDOQ1tfuqwyKbYisH90f/Z+Liy1uQ1Z/H0zlol2
 Svc7OCKLSeOj0MekhC3yycC+dMAn8hBRZZIfJ/hI5VMdQw/jVGPs/7LZZt/jvSElaU3k
 RLpxAL0gR5BRhuePpJ4N7/P+3sgYXV//NPMJMfZTvb9YFOIK1LzGP1nBaeSdPmyjigoG
 tUIajcWOk3JVLlfO6HMQ58XN37pHv98FwIYrJeUYP59VL4gF9sCyYVo3orfUswU/oIeo
 93MJ+Ha3idSlKO3P3KGH+9J3h3PZmAZ5GP0fbPamgxy+SjczfInkNfZygwODpkgd39xb
 dPaw==
X-Gm-Message-State: AC+VfDwIpLXBGEBGNnTT4rriZrmS5/NKlXQs0ttui2XrNxSzlY8XS+Fi
 832lylO+V3XWp38Am4NkbhFSp2u0XrAT45Dti3vPJOpp//CPDNBmTCw+Lqbmip6eE8zi4M11+w=
 =
X-Google-Smtp-Source: ACHHUZ4ces0A4aE5yEF4ThuRBH39+WuKS9NLyEtG/gDBaoTLVPDrrZBf4X4PZQeu7LvBc8Nw3T5sMqqPrAOi
X-Received: by 2002:a92:cf49:0:b0:333:eb18:2b72 with SMTP id
 c9-20020a92cf49000000b00333eb182b72mr21299751ilr.25.1684244762816; 
 Tue, 16 May 2023 06:46:02 -0700 (PDT)
Received: from postal.iol.unh.edu (postal.iol.unh.edu.
 [2606:4100:3880:1234::84]) by smtp-relay.gmail.com with ESMTPS id
 f17-20020a926a11000000b0033525bf5667sm1298422ilc.9.2023.05.16.06.46.02
 (version=TLS1_2 cipher=ECDHE-ECDSA-AES128-GCM-SHA256 bits=128/128);
 Tue, 16 May 2023 06:46:02 -0700 (PDT)
X-Relaying-Domain: iol.unh.edu
Date: Tue, 16 May 2023 06:46:02 -0700 (PDT)
Message-ID: <6463891a.920a0220.6fd30.705bSMTPIN_ADDED_MISSING@mx.google.com>
Received: from [172.17.0.2] (unknown [172.18.0.34])
 by postal.iol.unh.edu (Postfix) with ESMTP id 59E19605246B;
 Tue, 16 May 2023 09:46:02 -0400 (EDT)
Subject: |SUCCESS| pw126884-126883 [PATCH] [v2,
 3/3] net/mlx5: support enhanced multi-packet write on Windows
From: dpdklab@iol.unh.edu
To: Test Report <test-report@dpdk.org>
Cc: dpdk-test-reports@iol.unh.edu
Content-Type: text/plain
X-BeenThere: test-report@dpdk.org
X-Mailman-Version: 2.1.29
Precedence: list
List-Id: automatic DPDK test reports <test-report.dpdk.org>
List-Unsubscribe: <https://mails.dpdk.org/options/test-report>,
 <mailto:test-report-request@dpdk.org?subject=unsubscribe>
List-Archive: <http://mails.dpdk.org/archives/test-report/>
List-Post: <mailto:test-report@dpdk.org>
List-Help: <mailto:test-report-request@dpdk.org?subject=help>
List-Subscribe: <https://mails.dpdk.org/listinfo/test-report>,
 <mailto:test-report-request@dpdk.org?subject=subscribe>
Errors-To: test-report-bounces@dpdk.org

Test-Label: iol-abi-testing
Test-Status: SUCCESS
http://dpdk.org/patch/126883

_Testing PASS_

Submitter: Tal Shnaiderman <talshn@nvidia.com>
Date: Tuesday, May 16 2023 11:25:48 
DPDK git baseline: Repo:dpdk
  Branch: master
  CommitID:a399d7b5a994e335c446d4b15d7622d71dd8848c

126884-126883 --> testing pass

Test environment and result as below:

+-----------------+----------+
|   Environment   | abi_test |
+=================+==========+
| CentOS Stream 9 | PASS     |
+-----------------+----------+
| RHEL8           | PASS     |
+-----------------+----------+
| CentOS Stream 8 | PASS     |
+-----------------+----------+
| RHEL 7          | PASS     |
+-----------------+----------+
| Ubuntu 22.04    | PASS     |
+-----------------+----------+
| Debian Bullseye | PASS     |
+-----------------+----------+
| Debian Buster   | PASS     |
+-----------------+----------+


CentOS Stream 9
	Kernel: 4.18.0-240.10.1.el8_3.x86_64
	Compiler: gcc 11.3.1 20220421

RHEL8
	Kernel: 4.18.0-240.10.1.el8_3.x86_64
	Compiler: gcc 8.3.1 20191121 (Red Hat 8.3.1-5)

CentOS Stream 8
	Kernel: 4.18.0-240.10.1.el8_3.x86_64
	Compiler: gcc 8.4.1 20200928

RHEL 7
	Kernel: 4.18.0-240.10.1.el8_3.x86_64
	Compiler: gcc 4.8.5 20150623 (Red Hat 4.8.5-44)

Ubuntu 22.04
	Kernel: Container Host Kernel
	Compiler: gcc 11.3.1-2

Debian Bullseye
	Kernel: 5.4.0-122-generic
	Compiler: gcc 10.2.1-6

Debian Buster
	Kernel: 5.4.0-122-generic
	Compiler: gcc 8.3.0-6

To view detailed results, visit:
https://lab.dpdk.org/results/dashboard/patchsets/26239/

UNH-IOL DPDK Community Lab

To manage your email subscriptions, visit: 
https://lab.dpdk.org/results/dashboard/preferences/subscriptions/