From mboxrd@z Thu Jan  1 00:00:00 1970
Return-Path: <test-report-bounces@dpdk.org>
Received: from mails.dpdk.org (mails.dpdk.org [217.70.189.124])
	by inbox.dpdk.org (Postfix) with ESMTP id 457AA42B24
	for <public@inbox.dpdk.org>; Tue, 16 May 2023 16:22:48 +0200 (CEST)
Received: from mails.dpdk.org (localhost [127.0.0.1])
	by mails.dpdk.org (Postfix) with ESMTP id 418CA40697;
	Tue, 16 May 2023 16:22:48 +0200 (CEST)
Received: from mail-yb1-f228.google.com (mail-yb1-f228.google.com
 [209.85.219.228])
 by mails.dpdk.org (Postfix) with ESMTP id A6FF040697
 for <test-report@dpdk.org>; Tue, 16 May 2023 16:22:47 +0200 (CEST)
Received: by mail-yb1-f228.google.com with SMTP id
 3f1490d57ef6-ba71cd7ce7fso7095905276.1
 for <test-report@dpdk.org>; Tue, 16 May 2023 07:22:47 -0700 (PDT)
DKIM-Signature: v=1; a=rsa-sha256; c=relaxed/relaxed;
 d=iol.unh.edu; s=unh-iol; t=1684246967; x=1686838967;
 h=cc:to:from:subject:message-id:date:from:to:cc:subject:date
 :message-id:reply-to;
 bh=b4/U6eJ/fJIQSUq+CoBedPZ9UQrJZVENpXTaMcCTdBg=;
 b=VkQyqD7bNEp6r3aCXMNaYCWgh4vxAcnrdedSHJJzG5NPVqfNFI9HoNBXl7ly/nxYEB
 Tp/N1jB9ysk4qGoK6Y0dXRWVQgbxMEBgQGUXFu0inoDujTNjGme87U/zutGCGYqc+cbS
 NgiYITKgwM6Oek51ewd4QnTYMjzCLb6gKtWi0=
X-Google-DKIM-Signature: v=1; a=rsa-sha256; c=relaxed/relaxed;
 d=1e100.net; s=20221208; t=1684246967; x=1686838967;
 h=cc:to:from:subject:message-id:date:x-gm-message-state:from:to:cc
 :subject:date:message-id:reply-to;
 bh=b4/U6eJ/fJIQSUq+CoBedPZ9UQrJZVENpXTaMcCTdBg=;
 b=ZWrvmyoLlGz0o7gAkS0jjGP0B2PShNLo5NjdEPtf6vHWHHJvBbe43Ktl/1vccbw1gh
 O3bM7AQBYU2CJhhFEzp2ZUg/lerG0wKFpe29zp2zseHcHPHnwj+56byqbtO2drzrDPMX
 iwlMS5l+HS6XO7nIH41eGPD1X0ArL8zLLPRXvW9MkEan+yH91QqKQX6KQCFmaYxOPW0E
 IRznqGaOKmZz77xuIDTYaXBEPs2WkJoQFKQ2W5RE1eZD+cceOvzJtiLXoHPLrujmk8qT
 HOikWCF42pBahThSpHtivv8zZdP8F1+hVkLSpDGilWc08ZO9ZbD1yLS1ANCxkAWE78sP
 DoTA==
X-Gm-Message-State: AC+VfDxhQBVQ/7VT43gm6CufvUFXE9iA9Kjk61YIbUWDf0xHDs8FIzay
 RzRB03ZClw+qrh/j+GTCmsSbG34eKr7XdWLmWvrDRhrL5NZy3LHs0W9TzQ==
X-Google-Smtp-Source: ACHHUZ4UPAmhBGVmf5cBKgQNQqHpgYGmzQz/KjG7VkLvZwgRDlBoNub+C8Mko2cTl3zcKnZQ203m0KvD6PM2
X-Received: by 2002:a81:6d49:0:b0:55b:497e:d72a with SMTP id
 i70-20020a816d49000000b0055b497ed72amr34270140ywc.35.1684246967007; 
 Tue, 16 May 2023 07:22:47 -0700 (PDT)
Received: from postal.iol.unh.edu (postal.iol.unh.edu. [132.177.123.84])
 by smtp-relay.gmail.com with ESMTPS id
 h185-20020a0df7c2000000b00559f85e44f2sm157509ywf.27.2023.05.16.07.22.46
 (version=TLS1_2 cipher=ECDHE-ECDSA-AES128-GCM-SHA256 bits=128/128);
 Tue, 16 May 2023 07:22:46 -0700 (PDT)
X-Relaying-Domain: iol.unh.edu
Date: Tue, 16 May 2023 07:22:46 -0700 (PDT)
Message-ID: <646391b6.0d0a0220.712bf.b23fSMTPIN_ADDED_MISSING@mx.google.com>
Received: from [172.17.0.2] (unknown [172.18.0.34])
 by postal.iol.unh.edu (Postfix) with ESMTP id A88D8605246B;
 Tue, 16 May 2023 10:22:46 -0400 (EDT)
Subject: |SUCCESS| pw126877 [PATCH] [v3] doc: comment VF does not support
 multi-process
From: dpdklab@iol.unh.edu
To: Test Report <test-report@dpdk.org>
Cc: dpdk-test-reports@iol.unh.edu
Content-Type: text/plain
X-BeenThere: test-report@dpdk.org
X-Mailman-Version: 2.1.29
Precedence: list
List-Id: automatic DPDK test reports <test-report.dpdk.org>
List-Unsubscribe: <https://mails.dpdk.org/options/test-report>,
 <mailto:test-report-request@dpdk.org?subject=unsubscribe>
List-Archive: <http://mails.dpdk.org/archives/test-report/>
List-Post: <mailto:test-report@dpdk.org>
List-Help: <mailto:test-report-request@dpdk.org?subject=help>
List-Subscribe: <https://mails.dpdk.org/listinfo/test-report>,
 <mailto:test-report-request@dpdk.org?subject=subscribe>
Errors-To: test-report-bounces@dpdk.org

Test-Label: iol-abi-testing
Test-Status: SUCCESS
http://dpdk.org/patch/126877

_Testing PASS_

Submitter: Mingjin Ye <mingjinx.ye@intel.com>
Date: Tuesday, May 16 2023 10:22:05 
DPDK git baseline: Repo:dpdk
  Branch: master
  CommitID:a399d7b5a994e335c446d4b15d7622d71dd8848c

126877 --> testing pass

Test environment and result as below:

+------------------+----------+
|   Environment    | abi_test |
+==================+==========+
| CentOS Stream 9  | PASS     |
+------------------+----------+
| Debian Bullseye  | PASS     |
+------------------+----------+
| Debian Buster    | PASS     |
+------------------+----------+
| RHEL8            | PASS     |
+------------------+----------+
| Ubuntu 22.04     | PASS     |
+------------------+----------+
| openSUSE Leap 15 | PASS     |
+------------------+----------+
| RHEL 7           | PASS     |
+------------------+----------+


CentOS Stream 9
	Kernel: 4.18.0-240.10.1.el8_3.x86_64
	Compiler: gcc 11.3.1 20220421

Debian Bullseye
	Kernel: 5.4.0-122-generic
	Compiler: gcc 10.2.1-6

Debian Buster
	Kernel: 5.4.0-122-generic
	Compiler: gcc 8.3.0-6

RHEL8
	Kernel: 4.18.0-240.10.1.el8_3.x86_64
	Compiler: gcc 8.3.1 20191121 (Red Hat 8.3.1-5)

Ubuntu 22.04
	Kernel: Container Host Kernel
	Compiler: clang 14.0.5-1.fc36

openSUSE Leap 15
	Kernel: 4.18.0-240.10.1.el8_3.x86_64
	Compiler: gcc 7.5.0

RHEL 7
	Kernel: 4.18.0-240.10.1.el8_3.x86_64
	Compiler: gcc 4.8.5 20150623 (Red Hat 4.8.5-44)

To view detailed results, visit:
https://lab.dpdk.org/results/dashboard/patchsets/26235/

UNH-IOL DPDK Community Lab

To manage your email subscriptions, visit: 
https://lab.dpdk.org/results/dashboard/preferences/subscriptions/