From mboxrd@z Thu Jan  1 00:00:00 1970
Return-Path: <test-report-bounces@dpdk.org>
Received: from mails.dpdk.org (mails.dpdk.org [217.70.189.124])
	by inbox.dpdk.org (Postfix) with ESMTP id ADA4C42B24
	for <public@inbox.dpdk.org>; Tue, 16 May 2023 16:26:38 +0200 (CEST)
Received: from mails.dpdk.org (localhost [127.0.0.1])
	by mails.dpdk.org (Postfix) with ESMTP id A98AC40697;
	Tue, 16 May 2023 16:26:38 +0200 (CEST)
Received: from mail-il1-f225.google.com (mail-il1-f225.google.com
 [209.85.166.225])
 by mails.dpdk.org (Postfix) with ESMTP id 9124C40697
 for <test-report@dpdk.org>; Tue, 16 May 2023 16:26:37 +0200 (CEST)
Received: by mail-il1-f225.google.com with SMTP id
 e9e14a558f8ab-33456e09e7fso90767195ab.0
 for <test-report@dpdk.org>; Tue, 16 May 2023 07:26:37 -0700 (PDT)
DKIM-Signature: v=1; a=rsa-sha256; c=relaxed/relaxed;
 d=iol.unh.edu; s=unh-iol; t=1684247197; x=1686839197;
 h=cc:to:from:subject:message-id:date:from:to:cc:subject:date
 :message-id:reply-to;
 bh=AyPldtM7CT1a2ke7Byyj0jqxfEyNcvfKM6F1hVKhWd8=;
 b=jHQWeejyEda8N9TDolyUns/gfLR3vQv0CB+WZP4tQLbAgozrbfrvx6W/UwOt4OuFPP
 cX2IIpoif0jH6GrTRDPih+c2jSY4mcpHkI0VJSRJQU0S0M+FVHoGRzbi77AezzipgS6C
 Z7xO7lX9sOSWy+ZaqyD9T6yi1EVzj1tUJdq1c=
X-Google-DKIM-Signature: v=1; a=rsa-sha256; c=relaxed/relaxed;
 d=1e100.net; s=20221208; t=1684247197; x=1686839197;
 h=cc:to:from:subject:message-id:date:x-gm-message-state:from:to:cc
 :subject:date:message-id:reply-to;
 bh=AyPldtM7CT1a2ke7Byyj0jqxfEyNcvfKM6F1hVKhWd8=;
 b=LzrHBRJQOzHEdYQSDZnYwVacsRI3ZnnJN+jCf9rFrRs9YtiIWFKtIuwF5etSABLX5I
 bPcq85t0OF91wMrLFQ2bcDvKqeXujFdCsz+4z9QRyPFQxbQlX5rqg7SNISyq3P5aMyk/
 w7pg9SC3lUjXYChIVqVXQrek304UgU4r0zGO7QebZ/NYBElPAmHJkj6g61iX62V53E29
 IIHBMZUT50iG4IBkEiuXr8tPbbMURQTn4VIZwPXmSbpg6+WqUHlF1mQm46rNrYRvcBIH
 mxrm5vVtUtdlhDxC7NruAT5mQGs4quMAemWiyH9rnG8DNCtKAgdkABAcltcPJp5EPgGt
 M/tA==
X-Gm-Message-State: AC+VfDyj5NDQNyc0B4Cjp1An0xnSFe9il4FJKiKT7ZMbD3WE1SItf6hT
 Tynyy+AikMXRm8NPDLNr+HPm0PMit0WDvP9/jiFrFfZlA5xJsS7BDVelj6A25TVMTIADZJ7JzQ=
 =
X-Google-Smtp-Source: ACHHUZ6bXeIzbwhFAlSQqjoyFnJj6zdCXDbdmdbwqXygfUNYPCSnGtsOHz09lbDxXVL8MyfA11N5+JgZx1sa
X-Received: by 2002:a92:ce43:0:b0:335:7be2:26ca with SMTP id
 a3-20020a92ce43000000b003357be226camr20581214ilr.19.1684247196956; 
 Tue, 16 May 2023 07:26:36 -0700 (PDT)
Received: from postal.iol.unh.edu (postal.iol.unh.edu.
 [2606:4100:3880:1234::84]) by smtp-relay.gmail.com with ESMTPS id
 w6-20020a92d2c6000000b00335b75c4c4fsm875705ilg.35.2023.05.16.07.26.36
 (version=TLS1_2 cipher=ECDHE-ECDSA-AES128-GCM-SHA256 bits=128/128);
 Tue, 16 May 2023 07:26:36 -0700 (PDT)
X-Relaying-Domain: iol.unh.edu
Date: Tue, 16 May 2023 07:26:36 -0700 (PDT)
Message-ID: <6463929c.920a0220.2e046.c95cSMTPIN_ADDED_MISSING@mx.google.com>
Received: from [172.17.0.2] (unknown [172.18.0.34])
 by postal.iol.unh.edu (Postfix) with ESMTP id 82D98605246B;
 Tue, 16 May 2023 10:26:36 -0400 (EDT)
Subject: |SUCCESS| pw126877 [PATCH] [v3] doc: comment VF does not support
 multi-process
From: dpdklab@iol.unh.edu
To: Test Report <test-report@dpdk.org>
Cc: dpdk-test-reports@iol.unh.edu
Content-Type: text/plain
X-BeenThere: test-report@dpdk.org
X-Mailman-Version: 2.1.29
Precedence: list
List-Id: automatic DPDK test reports <test-report.dpdk.org>
List-Unsubscribe: <https://mails.dpdk.org/options/test-report>,
 <mailto:test-report-request@dpdk.org?subject=unsubscribe>
List-Archive: <http://mails.dpdk.org/archives/test-report/>
List-Post: <mailto:test-report@dpdk.org>
List-Help: <mailto:test-report-request@dpdk.org?subject=help>
List-Subscribe: <https://mails.dpdk.org/listinfo/test-report>,
 <mailto:test-report-request@dpdk.org?subject=subscribe>
Errors-To: test-report-bounces@dpdk.org

Test-Label: iol-abi-testing
Test-Status: SUCCESS
http://dpdk.org/patch/126877

_Testing PASS_

Submitter: Mingjin Ye <mingjinx.ye@intel.com>
Date: Tuesday, May 16 2023 10:22:05 
DPDK git baseline: Repo:dpdk
  Branch: master
  CommitID:a399d7b5a994e335c446d4b15d7622d71dd8848c

126877 --> testing pass

Test environment and result as below:

+------------------+----------+
|   Environment    | abi_test |
+==================+==========+
| CentOS Stream 9  | PASS     |
+------------------+----------+
| Debian Bullseye  | PASS     |
+------------------+----------+
| Debian Buster    | PASS     |
+------------------+----------+
| RHEL8            | PASS     |
+------------------+----------+
| Ubuntu 22.04     | PASS     |
+------------------+----------+
| openSUSE Leap 15 | PASS     |
+------------------+----------+
| RHEL 7           | PASS     |
+------------------+----------+
| CentOS Stream 8  | PASS     |
+------------------+----------+


CentOS Stream 9
	Kernel: 4.18.0-240.10.1.el8_3.x86_64
	Compiler: gcc 11.3.1 20220421

Debian Bullseye
	Kernel: 5.4.0-122-generic
	Compiler: gcc 10.2.1-6

Debian Buster
	Kernel: 5.4.0-122-generic
	Compiler: gcc 8.3.0-6

RHEL8
	Kernel: 4.18.0-240.10.1.el8_3.x86_64
	Compiler: gcc 8.3.1 20191121 (Red Hat 8.3.1-5)

Ubuntu 22.04
	Kernel: Container Host Kernel
	Compiler: clang 14.0.5-1.fc36

openSUSE Leap 15
	Kernel: 4.18.0-240.10.1.el8_3.x86_64
	Compiler: gcc 7.5.0

RHEL 7
	Kernel: 4.18.0-240.10.1.el8_3.x86_64
	Compiler: gcc 4.8.5 20150623 (Red Hat 4.8.5-44)

CentOS Stream 8
	Kernel: 4.18.0-240.10.1.el8_3.x86_64
	Compiler: gcc 8.4.1 20200928

To view detailed results, visit:
https://lab.dpdk.org/results/dashboard/patchsets/26235/

UNH-IOL DPDK Community Lab

To manage your email subscriptions, visit: 
https://lab.dpdk.org/results/dashboard/preferences/subscriptions/