From mboxrd@z Thu Jan  1 00:00:00 1970
Return-Path: <test-report-bounces@dpdk.org>
Received: from mails.dpdk.org (mails.dpdk.org [217.70.189.124])
	by inbox.dpdk.org (Postfix) with ESMTP id 52D1442B27
	for <public@inbox.dpdk.org>; Tue, 16 May 2023 18:00:53 +0200 (CEST)
Received: from mails.dpdk.org (localhost [127.0.0.1])
	by mails.dpdk.org (Postfix) with ESMTP id 505E74003C;
	Tue, 16 May 2023 18:00:53 +0200 (CEST)
Received: from mail-pf1-f225.google.com (mail-pf1-f225.google.com
 [209.85.210.225])
 by mails.dpdk.org (Postfix) with ESMTP id 7FFB34003C
 for <test-report@dpdk.org>; Tue, 16 May 2023 18:00:52 +0200 (CEST)
Received: by mail-pf1-f225.google.com with SMTP id
 d2e1a72fcca58-6439df6c268so9413991b3a.0
 for <test-report@dpdk.org>; Tue, 16 May 2023 09:00:52 -0700 (PDT)
DKIM-Signature: v=1; a=rsa-sha256; c=relaxed/relaxed;
 d=iol.unh.edu; s=unh-iol; t=1684252852; x=1686844852;
 h=cc:to:from:subject:message-id:date:from:to:cc:subject:date
 :message-id:reply-to;
 bh=c9v/YVQWOLqEJRQEAtQEpUrzxAbaOJM3kOtKu82LCXM=;
 b=Td9qLeA+7YYmio//0SnAIgHb+QxTlBgCayxXbgnekSFa4yfBlmq3Z18nFxf3TP8pLo
 xxLrwwEI8B8cA4RDlNIpp11zI6PsptnGyQ7E44dGny4sV0PrIHGjOh5Kbs59C1AkqVPq
 q4sOKMLedImUz3gAQ3ktnO/C0/bT3InZ98xxo=
X-Google-DKIM-Signature: v=1; a=rsa-sha256; c=relaxed/relaxed;
 d=1e100.net; s=20221208; t=1684252852; x=1686844852;
 h=cc:to:from:subject:message-id:date:x-gm-message-state:from:to:cc
 :subject:date:message-id:reply-to;
 bh=c9v/YVQWOLqEJRQEAtQEpUrzxAbaOJM3kOtKu82LCXM=;
 b=dxt+o6KFhFjCgo5/jGtWOFvr0Bdap+Vhwpz2JpaXU3YADneEdL6w34WiVLw/z4WdyE
 pLBwUkA5yjra2mTcQIV/zcaOvGsSPShjpPBX2k6dcAfvkDFSJsrZcDtVocmd0fV6FGD4
 +vmfuDPDVWzNWGrX3+X0PEpDrJBsNIgfBs2+d5NA7p5B1bT28xK00oZV/ycl68KpzGUB
 Yrj1Pt0+ys0iAe3/5ABJEYPu9WUCMR2r2ZuokTU+T9yRcgIouAZsOkPE2Ir/bJU8+dq1
 /ub5nAqRtEsxe0N4BOU36zXGp4lMXJwya1MPn2CtOS0IsHqiXqfMSmD4QhvY0qbAHUoy
 DWfA==
X-Gm-Message-State: AC+VfDwkquzNIJT+tPII82rFqSjxJcKm+V5BCj6sX7LAdIePC9OLoxO2
 VAH+KBUKPXDY4qYIKBOnk1OThYo5DM06DtK975hx5b6WCe0izsAOcw+ANL+BHhLU/4TMMZ1LxA=
 =
X-Google-Smtp-Source: ACHHUZ4NY+jkwyavHEUyQpO5+l6ITU6++4s0v9m1Zp4S92S4yWUQBdwyFABYP6/tloRRgxawOUV0/aWFo/Sj
X-Received: by 2002:a05:6a00:138c:b0:646:1f13:7fce with SMTP id
 t12-20020a056a00138c00b006461f137fcemr45144422pfg.2.1684252851803; 
 Tue, 16 May 2023 09:00:51 -0700 (PDT)
Received: from postal.iol.unh.edu (postal.iol.unh.edu.
 [2606:4100:3880:1234::84]) by smtp-relay.gmail.com with ESMTPS id
 s13-20020a056a0008cd00b0062ac50b1aa4sm1815926pfu.22.2023.05.16.09.00.51
 (version=TLS1_2 cipher=ECDHE-ECDSA-AES128-GCM-SHA256 bits=128/128);
 Tue, 16 May 2023 09:00:51 -0700 (PDT)
X-Relaying-Domain: iol.unh.edu
Date: Tue, 16 May 2023 09:00:51 -0700 (PDT)
Message-ID: <6463a8b3.050a0220.17980.629aSMTPIN_ADDED_MISSING@mx.google.com>
Received: from [172.17.0.2] (unknown [172.18.0.34])
 by postal.iol.unh.edu (Postfix) with ESMTP id C310D605246B;
 Tue, 16 May 2023 12:00:50 -0400 (EDT)
Subject: |SUCCESS| pw126885 [PATCH] app/testpmd: fix segment fault with
 invalid queue id
From: dpdklab@iol.unh.edu
To: Test Report <test-report@dpdk.org>
Cc: dpdk-test-reports@iol.unh.edu
Content-Type: text/plain
X-BeenThere: test-report@dpdk.org
X-Mailman-Version: 2.1.29
Precedence: list
List-Id: automatic DPDK test reports <test-report.dpdk.org>
List-Unsubscribe: <https://mails.dpdk.org/options/test-report>,
 <mailto:test-report-request@dpdk.org?subject=unsubscribe>
List-Archive: <http://mails.dpdk.org/archives/test-report/>
List-Post: <mailto:test-report@dpdk.org>
List-Help: <mailto:test-report-request@dpdk.org?subject=help>
List-Subscribe: <https://mails.dpdk.org/listinfo/test-report>,
 <mailto:test-report-request@dpdk.org?subject=subscribe>
Errors-To: test-report-bounces@dpdk.org

Test-Label: iol-abi-testing
Test-Status: SUCCESS
http://dpdk.org/patch/126885

_Testing PASS_

Submitter: Dengdui Huang <huangdengdui@huawei.com>
Date: Tuesday, May 16 2023 11:00:21 
DPDK git baseline: Repo:dpdk
  Branch: master
  CommitID:a399d7b5a994e335c446d4b15d7622d71dd8848c

126885 --> testing pass

Test environment and result as below:

+------------------+----------+
|   Environment    | abi_test |
+==================+==========+
| Ubuntu 22.04     | PASS     |
+------------------+----------+
| RHEL 7           | PASS     |
+------------------+----------+
| openSUSE Leap 15 | PASS     |
+------------------+----------+
| Debian Buster    | PASS     |
+------------------+----------+
| CentOS Stream 9  | PASS     |
+------------------+----------+


Ubuntu 22.04
	Kernel: 4.18.0-240.10.1.el8_3.x86_64
	Compiler: gcc 11.3.0

RHEL 7
	Kernel: 4.18.0-240.10.1.el8_3.x86_64
	Compiler: gcc 4.8.5 20150623 (Red Hat 4.8.5-44)

openSUSE Leap 15
	Kernel: 4.18.0-240.10.1.el8_3.x86_64
	Compiler: gcc 7.5.0

Debian Buster
	Kernel: 5.4.0-122-generic
	Compiler: gcc 8.3.0-6

CentOS Stream 9
	Kernel: 4.18.0-240.10.1.el8_3.x86_64
	Compiler: gcc 11.3.1 20220421

To view detailed results, visit:
https://lab.dpdk.org/results/dashboard/patchsets/26240/

UNH-IOL DPDK Community Lab

To manage your email subscriptions, visit: 
https://lab.dpdk.org/results/dashboard/preferences/subscriptions/