From mboxrd@z Thu Jan  1 00:00:00 1970
Return-Path: <test-report-bounces@dpdk.org>
Received: from mails.dpdk.org (mails.dpdk.org [217.70.189.124])
	by inbox.dpdk.org (Postfix) with ESMTP id 470F142B27
	for <public@inbox.dpdk.org>; Tue, 16 May 2023 19:16:03 +0200 (CEST)
Received: from mails.dpdk.org (localhost [127.0.0.1])
	by mails.dpdk.org (Postfix) with ESMTP id 4482A4003C;
	Tue, 16 May 2023 19:16:03 +0200 (CEST)
Received: from mail-pg1-f226.google.com (mail-pg1-f226.google.com
 [209.85.215.226])
 by mails.dpdk.org (Postfix) with ESMTP id 08BCB4003C
 for <test-report@dpdk.org>; Tue, 16 May 2023 19:16:02 +0200 (CEST)
Received: by mail-pg1-f226.google.com with SMTP id
 41be03b00d2f7-52cbd7d0c37so8509160a12.3
 for <test-report@dpdk.org>; Tue, 16 May 2023 10:16:01 -0700 (PDT)
DKIM-Signature: v=1; a=rsa-sha256; c=relaxed/relaxed;
 d=iol.unh.edu; s=unh-iol; t=1684257361; x=1686849361;
 h=cc:to:from:subject:message-id:date:from:to:cc:subject:date
 :message-id:reply-to;
 bh=JBG6RGIiDS2hQK69H2D/FQaQ47K9RwW66EUESfTOiLs=;
 b=L6ZAr1fu6aP9Ea7/VFLssmu+Km8NHKTS1y72n0/zRvhOmZ9MUVheW+1BsqdW5Px3qa
 lR1fHnWpyqcf7FmhqNjU7GkdsLewaR3lsQpRxCfOUedKPOHiZ7fc5jd7OK0XM2aG3fWk
 Qv/fQZhke5VOzjNvQiRmRCcm5Sb6/z0N7XQCg=
X-Google-DKIM-Signature: v=1; a=rsa-sha256; c=relaxed/relaxed;
 d=1e100.net; s=20221208; t=1684257361; x=1686849361;
 h=cc:to:from:subject:message-id:date:x-gm-message-state:from:to:cc
 :subject:date:message-id:reply-to;
 bh=JBG6RGIiDS2hQK69H2D/FQaQ47K9RwW66EUESfTOiLs=;
 b=JzGQRBNj4YxfuaOzb95vcMqfHZEXRxbCL9Qev84HslyNKQUivf7ywDGyTnKP61aSwj
 JU8iMfqZZJsRZZOTnwcYZP4lnOPIys5ohJCZZFYbSSR0M/a8GEyZTTX2FCkJUQM57USs
 LpHbqO9vFQFZccU7foWgbMXgXl5ue1bsBHiTNslfsUJ69hpPr3y1gsSKRuwjJOqgnJQ5
 djKYdrOnwQ8bmcoe1TduSG716Uex9tPKmTkathIquCz8dzODLdzygzT3yX+3CF4tAmPE
 u2o7HWiOVeNGzxwWpxeZXEsS2gglHj4caVs9eOHF+cMzKfKJ+v+YKircIdi6axdNzYH8
 8FPQ==
X-Gm-Message-State: AC+VfDw5RX4+ANvcvwrOJtffSJ+nnuu0uJR1wkbqKA0OlwPGM2hSaqc2
 VM0Gwp7wby0E4EVfBungvjUW3Pjwpn/J28ph66th0MyyjiDUFen25es06A==
X-Google-Smtp-Source: ACHHUZ78bx/fEiWSQTnkOawcp47hBT/ZTrYfPGZUqXP5N6u3M5t6wn9FMzWcGVHZev5nRHwaKqREOLLcYMch
X-Received: by 2002:a17:902:7597:b0:1ad:e639:e673 with SMTP id
 j23-20020a170902759700b001ade639e673mr14170481pll.53.1684257361196; 
 Tue, 16 May 2023 10:16:01 -0700 (PDT)
Received: from postal.iol.unh.edu (postal.iol.unh.edu. [132.177.123.84])
 by smtp-relay.gmail.com with ESMTPS id
 l6-20020a170902d34600b001a9b6374340sm902779plk.145.2023.05.16.10.16.01
 (version=TLS1_2 cipher=ECDHE-ECDSA-AES128-GCM-SHA256 bits=128/128);
 Tue, 16 May 2023 10:16:01 -0700 (PDT)
X-Relaying-Domain: iol.unh.edu
Date: Tue, 16 May 2023 10:16:01 -0700 (PDT)
Message-ID: <6463ba51.170a0220.33c5a.da3aSMTPIN_ADDED_MISSING@mx.google.com>
Received: from [172.17.0.2] (unknown [172.18.0.34])
 by postal.iol.unh.edu (Postfix) with ESMTP id 77A68605246B;
 Tue, 16 May 2023 13:16:00 -0400 (EDT)
Subject: |SUCCESS| pw126893-126900 [PATCH] [v2,
 8/8] crypto/ipsec_mb: set and use session ID
From: dpdklab@iol.unh.edu
To: Test Report <test-report@dpdk.org>
Cc: Ciara Power <ciara.power@intel.com>
Content-Type: text/plain
X-BeenThere: test-report@dpdk.org
X-Mailman-Version: 2.1.29
Precedence: list
List-Id: automatic DPDK test reports <test-report.dpdk.org>
List-Unsubscribe: <https://mails.dpdk.org/options/test-report>,
 <mailto:test-report-request@dpdk.org?subject=unsubscribe>
List-Archive: <http://mails.dpdk.org/archives/test-report/>
List-Post: <mailto:test-report@dpdk.org>
List-Help: <mailto:test-report-request@dpdk.org?subject=help>
List-Subscribe: <https://mails.dpdk.org/listinfo/test-report>,
 <mailto:test-report-request@dpdk.org?subject=subscribe>
Errors-To: test-report-bounces@dpdk.org

Test-Label: iol-abi-testing
Test-Status: SUCCESS
http://dpdk.org/patch/126900

_Testing PASS_

Submitter: Ciara Power <ciara.power@intel.com>
Date: Tuesday, May 16 2023 15:24:22 
DPDK git baseline: Repo:dpdk
  Branch: master
  CommitID:a399d7b5a994e335c446d4b15d7622d71dd8848c

126893-126900 --> testing pass

Test environment and result as below:

+-----------------+----------+
|   Environment   | abi_test |
+=================+==========+
| Ubuntu 22.04    | PASS     |
+-----------------+----------+
| CentOS Stream 8 | PASS     |
+-----------------+----------+
| RHEL 7          | PASS     |
+-----------------+----------+
| CentOS Stream 9 | PASS     |
+-----------------+----------+
| Debian Buster   | PASS     |
+-----------------+----------+
| Debian Bullseye | PASS     |
+-----------------+----------+


Ubuntu 22.04
	Kernel: 4.18.0-240.10.1.el8_3.x86_64
	Compiler: gcc 11.3.0

CentOS Stream 8
	Kernel: 4.18.0-240.10.1.el8_3.x86_64
	Compiler: gcc 8.4.1 20200928

RHEL 7
	Kernel: 4.18.0-240.10.1.el8_3.x86_64
	Compiler: gcc 4.8.5 20150623 (Red Hat 4.8.5-44)

CentOS Stream 9
	Kernel: 4.18.0-240.10.1.el8_3.x86_64
	Compiler: gcc 11.3.1 20220421

Debian Buster
	Kernel: 5.4.0-122-generic
	Compiler: gcc 8.3.0-6

Debian Bullseye
	Kernel: 5.4.0-122-generic
	Compiler: gcc 10.2.1-6

To view detailed results, visit:
https://lab.dpdk.org/results/dashboard/patchsets/26245/

UNH-IOL DPDK Community Lab

To manage your email subscriptions, visit: 
https://lab.dpdk.org/results/dashboard/preferences/subscriptions/