From mboxrd@z Thu Jan  1 00:00:00 1970
Return-Path: <test-report-bounces@dpdk.org>
Received: from mails.dpdk.org (mails.dpdk.org [217.70.189.124])
	by inbox.dpdk.org (Postfix) with ESMTP id 7259742B27
	for <public@inbox.dpdk.org>; Tue, 16 May 2023 19:17:27 +0200 (CEST)
Received: from mails.dpdk.org (localhost [127.0.0.1])
	by mails.dpdk.org (Postfix) with ESMTP id 6E9014003C;
	Tue, 16 May 2023 19:17:27 +0200 (CEST)
Received: from mail-pl1-f226.google.com (mail-pl1-f226.google.com
 [209.85.214.226])
 by mails.dpdk.org (Postfix) with ESMTP id B83CE4003C
 for <test-report@dpdk.org>; Tue, 16 May 2023 19:17:25 +0200 (CEST)
Received: by mail-pl1-f226.google.com with SMTP id
 d9443c01a7336-1ae4e49727eso337565ad.1
 for <test-report@dpdk.org>; Tue, 16 May 2023 10:17:25 -0700 (PDT)
DKIM-Signature: v=1; a=rsa-sha256; c=relaxed/relaxed;
 d=iol.unh.edu; s=unh-iol; t=1684257445; x=1686849445;
 h=cc:to:from:subject:message-id:date:from:to:cc:subject:date
 :message-id:reply-to;
 bh=+0m3aUowks/9yf9tP86C5OJXagUfF65aWYFJeQHgOMQ=;
 b=SNOvoG2i3EyRNTNNgwTDknVL+yOPClOuZZAu9DyRppziVhKLtJjXja33YGcbgsxTDC
 FBnVkVFdvFS0fbg3G/gHP53nBQlfB06Hhqc40t16oZzF6eixn0O1WN2ZuwKKVqPzY/eS
 dHTA6mfJxOlzYgg+R6eBR+Hw0gjUoyBMTAEHM=
X-Google-DKIM-Signature: v=1; a=rsa-sha256; c=relaxed/relaxed;
 d=1e100.net; s=20221208; t=1684257445; x=1686849445;
 h=cc:to:from:subject:message-id:date:x-gm-message-state:from:to:cc
 :subject:date:message-id:reply-to;
 bh=+0m3aUowks/9yf9tP86C5OJXagUfF65aWYFJeQHgOMQ=;
 b=L/9CnQtKgpNOT7vQ/h55wkq0p9JVVyhWU41XHZJDiPTM1gVjAtNKTN1J/aRJTjF4fX
 9nIMCjJFSZUc7MF5EgtMg/quasprxkxGOd5gyMbHqFiloXjbRryy0WWKkyBA8nzisWeV
 xMvj3gQ7hvIzjcvYx2hm+nK6PRVAjOWxxRALKaC/jsdKpYcNPGeoTrhJjWhNmb3JbgO4
 xFys5nrRGkpU3YwWp4loRT1y74hgcPBFAHDPF5Jtr5bS988mFfCz99FBRkiMJJ3vQFGN
 cqhtgz2DBDH+ZL2xH1Bd3IuiGCs5kr1/paw54cs8xjg5txQosZpDhxRLQYMx5q5ndY1s
 58Ag==
X-Gm-Message-State: AC+VfDzORQpo63/1b5rfntQkzz/4tYD9UpRwXfnl5LD8hsUbB/ftN6fv
 qgxTvjXF1VnM/6sCug+t60qd0UVsHMXD4Bp6Ji3KA376px208f/8/279wA==
X-Google-Smtp-Source: ACHHUZ4pzFInuQ7mpsupvFlu4EELgYeB/bRCYunnNEIKhf3BaVy6RwpmVfLe/KsERUV6aND877uP5kIZpHbY
X-Received: by 2002:a17:902:e810:b0:1a1:f5dd:2dce with SMTP id
 u16-20020a170902e81000b001a1f5dd2dcemr46089104plg.6.1684257444979; 
 Tue, 16 May 2023 10:17:24 -0700 (PDT)
Received: from postal.iol.unh.edu (postal.iol.unh.edu. [132.177.123.84])
 by smtp-relay.gmail.com with ESMTPS id
 j5-20020a170902c08500b001aaff24b1bbsm880566pld.97.2023.05.16.10.17.24
 (version=TLS1_2 cipher=ECDHE-ECDSA-AES128-GCM-SHA256 bits=128/128);
 Tue, 16 May 2023 10:17:24 -0700 (PDT)
X-Relaying-Domain: iol.unh.edu
Date: Tue, 16 May 2023 10:17:24 -0700 (PDT)
Message-ID: <6463baa4.170a0220.3d6c1.bb69SMTPIN_ADDED_MISSING@mx.google.com>
Received: from [172.17.0.2] (unknown [172.18.0.34])
 by postal.iol.unh.edu (Postfix) with ESMTP id 3F0EA605246B;
 Tue, 16 May 2023 13:17:24 -0400 (EDT)
Subject: |SUCCESS| pw126893-126900 [PATCH] [v2,
 8/8] crypto/ipsec_mb: set and use session ID
From: dpdklab@iol.unh.edu
To: Test Report <test-report@dpdk.org>
Cc: dpdk-test-reports@iol.unh.edu
Content-Type: text/plain
X-BeenThere: test-report@dpdk.org
X-Mailman-Version: 2.1.29
Precedence: list
List-Id: automatic DPDK test reports <test-report.dpdk.org>
List-Unsubscribe: <https://mails.dpdk.org/options/test-report>,
 <mailto:test-report-request@dpdk.org?subject=unsubscribe>
List-Archive: <http://mails.dpdk.org/archives/test-report/>
List-Post: <mailto:test-report@dpdk.org>
List-Help: <mailto:test-report-request@dpdk.org?subject=help>
List-Subscribe: <https://mails.dpdk.org/listinfo/test-report>,
 <mailto:test-report-request@dpdk.org?subject=subscribe>
Errors-To: test-report-bounces@dpdk.org

Test-Label: iol-abi-testing
Test-Status: SUCCESS
http://dpdk.org/patch/126900

_Testing PASS_

Submitter: Ciara Power <ciara.power@intel.com>
Date: Tuesday, May 16 2023 15:24:22 
DPDK git baseline: Repo:dpdk
  Branch: master
  CommitID:a399d7b5a994e335c446d4b15d7622d71dd8848c

126893-126900 --> testing pass

Test environment and result as below:

+------------------+----------+
|   Environment    | abi_test |
+==================+==========+
| Ubuntu 22.04     | PASS     |
+------------------+----------+
| CentOS Stream 8  | PASS     |
+------------------+----------+
| RHEL 7           | PASS     |
+------------------+----------+
| CentOS Stream 9  | PASS     |
+------------------+----------+
| Debian Buster    | PASS     |
+------------------+----------+
| Debian Bullseye  | PASS     |
+------------------+----------+
| openSUSE Leap 15 | PASS     |
+------------------+----------+


Ubuntu 22.04
	Kernel: 4.18.0-240.10.1.el8_3.x86_64
	Compiler: gcc 11.3.0

CentOS Stream 8
	Kernel: 4.18.0-240.10.1.el8_3.x86_64
	Compiler: gcc 8.4.1 20200928

RHEL 7
	Kernel: 4.18.0-240.10.1.el8_3.x86_64
	Compiler: gcc 4.8.5 20150623 (Red Hat 4.8.5-44)

CentOS Stream 9
	Kernel: 4.18.0-240.10.1.el8_3.x86_64
	Compiler: gcc 11.3.1 20220421

Debian Buster
	Kernel: 5.4.0-122-generic
	Compiler: gcc 8.3.0-6

Debian Bullseye
	Kernel: 5.4.0-122-generic
	Compiler: gcc 10.2.1-6

openSUSE Leap 15
	Kernel: 4.18.0-240.10.1.el8_3.x86_64
	Compiler: gcc 7.5.0

To view detailed results, visit:
https://lab.dpdk.org/results/dashboard/patchsets/26245/

UNH-IOL DPDK Community Lab

To manage your email subscriptions, visit: 
https://lab.dpdk.org/results/dashboard/preferences/subscriptions/