From mboxrd@z Thu Jan  1 00:00:00 1970
Return-Path: <test-report-bounces@dpdk.org>
Received: from mails.dpdk.org (mails.dpdk.org [217.70.189.124])
	by inbox.dpdk.org (Postfix) with ESMTP id DCD8842B28
	for <public@inbox.dpdk.org>; Tue, 16 May 2023 20:21:37 +0200 (CEST)
Received: from mails.dpdk.org (localhost [127.0.0.1])
	by mails.dpdk.org (Postfix) with ESMTP id DB3134003C;
	Tue, 16 May 2023 20:21:37 +0200 (CEST)
Received: from mail-oa1-f98.google.com (mail-oa1-f98.google.com
 [209.85.160.98]) by mails.dpdk.org (Postfix) with ESMTP id E98054003C
 for <test-report@dpdk.org>; Tue, 16 May 2023 20:21:35 +0200 (CEST)
Received: by mail-oa1-f98.google.com with SMTP id
 586e51a60fabf-19638b3a304so6509824fac.1
 for <test-report@dpdk.org>; Tue, 16 May 2023 11:21:35 -0700 (PDT)
DKIM-Signature: v=1; a=rsa-sha256; c=relaxed/relaxed;
 d=iol.unh.edu; s=unh-iol; t=1684261295; x=1686853295;
 h=cc:to:from:subject:message-id:date:from:to:cc:subject:date
 :message-id:reply-to;
 bh=QYkPSgMcZ1dECx/uH320Ppe2dBy/J2pOlK28dOPlXdg=;
 b=Zo6gy472hILjjjkOWZE6ZAt6N3jC/HgrG/gtraCV54Ml2g4rNEzorArS7pp4Wvn3UD
 A7W9XbxtJiw9C9UkIy64S9gfvHcpfwfRGKmM6spAcqqrlkfX4O8VUXaxnyCxRFHGVl1W
 DOrzlI4pO+VanZjayNWAVTfCICID0uPgLpg5g=
X-Google-DKIM-Signature: v=1; a=rsa-sha256; c=relaxed/relaxed;
 d=1e100.net; s=20221208; t=1684261295; x=1686853295;
 h=cc:to:from:subject:message-id:date:x-gm-message-state:from:to:cc
 :subject:date:message-id:reply-to;
 bh=QYkPSgMcZ1dECx/uH320Ppe2dBy/J2pOlK28dOPlXdg=;
 b=aaWWEg819g6uvMFB7aAlPdy2PTwYYHX89aL/peHzJd+28qTVTjiZBJaZf0KOx9qz6D
 ii1Iz7FdrykPqE4tHasTd764zQrHZXbXRaIQncbrvQvsIDOALz/N/Tf+YLtmnbHst6Nk
 CgEM53lgIEu9NeFOzvkzxncvp7M/7VgCajGPeD6vjD0lA10nHkjrPSWgPuwHynWBdwVN
 DAexrEN4VBD3ruNPsFl5mj2sIWfpTy5WLVQ61qwQJWJKjMpxGOmTw+/REILFbT9rEvVV
 YvRV6SQ2aI9jXvYTZQJ8naAUhokArbEwSvV0RKwQU/cBMLif2hl74F2EAMV0YGFsXC9x
 KjDA==
X-Gm-Message-State: AC+VfDzAiU2YdgI0YlyRl3kbCxislT5eMIsSMG2CJU2PshqaR8vM+0eh
 +InI4NCrljy3EGz+kufRlgvPnyXgjVpGNTs0lRVXGZfVJAvK3fmTgLjoJA==
X-Google-Smtp-Source: ACHHUZ4oSrSQjnNPbvrQWgzTVEPPkbehPXJ83QbDYgS2pZrx4UliPymEYaTEbRJlwLkH/c5o2RjwoBSpoC3O
X-Received: by 2002:a05:6870:1841:b0:199:fe41:f734 with SMTP id
 u1-20020a056870184100b00199fe41f734mr789892oaf.37.1684261295218; 
 Tue, 16 May 2023 11:21:35 -0700 (PDT)
Received: from postal.iol.unh.edu (postal.iol.unh.edu. [132.177.123.84])
 by smtp-relay.gmail.com with ESMTPS id
 n1-20020a056870844100b00192c365eb80sm1867099oak.31.2023.05.16.11.21.35
 (version=TLS1_2 cipher=ECDHE-ECDSA-AES128-GCM-SHA256 bits=128/128);
 Tue, 16 May 2023 11:21:35 -0700 (PDT)
X-Relaying-Domain: iol.unh.edu
Date: Tue, 16 May 2023 11:21:35 -0700 (PDT)
Message-ID: <6463c9af.050a0220.577f4.5b54SMTPIN_ADDED_MISSING@mx.google.com>
Received: from [172.17.0.2] (unknown [172.18.0.34])
 by postal.iol.unh.edu (Postfix) with ESMTP id BAC58605246B;
 Tue, 16 May 2023 14:21:34 -0400 (EDT)
Subject: |SUCCESS| pw126891 [PATCH] event/cnxk: add get remaining ticks routine
From: dpdklab@iol.unh.edu
To: Test Report <test-report@dpdk.org>
Cc: dpdk-test-reports@iol.unh.edu
Content-Type: text/plain
X-BeenThere: test-report@dpdk.org
X-Mailman-Version: 2.1.29
Precedence: list
List-Id: automatic DPDK test reports <test-report.dpdk.org>
List-Unsubscribe: <https://mails.dpdk.org/options/test-report>,
 <mailto:test-report-request@dpdk.org?subject=unsubscribe>
List-Archive: <http://mails.dpdk.org/archives/test-report/>
List-Post: <mailto:test-report@dpdk.org>
List-Help: <mailto:test-report-request@dpdk.org?subject=help>
List-Subscribe: <https://mails.dpdk.org/listinfo/test-report>,
 <mailto:test-report-request@dpdk.org?subject=subscribe>
Errors-To: test-report-bounces@dpdk.org

Test-Label: iol-unit-testing
Test-Status: SUCCESS
http://dpdk.org/patch/126891

_Testing PASS_

Submitter: Pavan Nikhilesh Bhagavatula <pbhagavatula@marvell.com>
Date: Tuesday, May 16 2023 14:48:24 
DPDK git baseline: Repo:dpdk
  Branch: master
  CommitID:a399d7b5a994e335c446d4b15d7622d71dd8848c

126891 --> testing pass

Test environment and result as below:

+--------------------------+----------------+
|       Environment        | dpdk_unit_test |
+==========================+================+
| Debian 11 (Buster) (ARM) | PASS           |
+--------------------------+----------------+
| CentOS Stream 9 (ARM)    | PASS           |
+--------------------------+----------------+
| Fedora 36 (ARM)          | PASS           |
+--------------------------+----------------+
| Ubuntu 20.04 (ARM)       | PASS           |
+--------------------------+----------------+
| CentOS Stream 9          | PASS           |
+--------------------------+----------------+
| CentOS Stream 8          | PASS           |
+--------------------------+----------------+
| Debian Buster            | PASS           |
+--------------------------+----------------+
| Debian Bullseye          | PASS           |
+--------------------------+----------------+
| Ubuntu 22.04             | PASS           |
+--------------------------+----------------+
| openSUSE Leap 15         | PASS           |
+--------------------------+----------------+
| Ubuntu 20.04             | PASS           |
+--------------------------+----------------+
| Fedora 36 Clang (ARM)    | PASS           |
+--------------------------+----------------+
| RHEL 7                   | PASS           |
+--------------------------+----------------+
| RHEL8                    | PASS           |
+--------------------------+----------------+


Debian 11 (Buster) (ARM)
	Kernel: Container Host Kernel
	Compiler: gcc 10.2.1

CentOS Stream 9 (ARM)
	Kernel: Container Host Kernel
	Compiler: gcc 11.3.1

Fedora 36 (ARM)
	Kernel: Container Host Kernel
	Compiler: gcc 12.2.1

Ubuntu 20.04 (ARM)
	Kernel: Container Host Kernel
	Compiler: gcc 9.4.0

CentOS Stream 9
	Kernel: 4.18.0-240.10.1.el8_3.x86_64
	Compiler: gcc 11.3.1 20220421

CentOS Stream 8
	Kernel: 4.18.0-240.10.1.el8_3.x86_64
	Compiler: gcc 8.4.1 20200928

Debian Buster
	Kernel: 5.4.0-122-generic
	Compiler: gcc 8.3.0-6

Debian Bullseye
	Kernel: 5.4.0-122-generic
	Compiler: gcc 10.2.1-6

Ubuntu 22.04
	Kernel: 4.18.0-240.10.1.el8_3.x86_64
	Compiler: gcc 11.3.0

openSUSE Leap 15
	Kernel: 4.18.0-240.10.1.el8_3.x86_64
	Compiler: gcc 7.5.0

Ubuntu 20.04
	Kernel: 4.18.0-240.10.1.el8_3.x86_64
	Compiler: gcc 9.3.0-17ubuntu1~20.04

Fedora 36 Clang (ARM)
	Kernel: Container Host Kernel
	Compiler: clang 14.0.5

RHEL 7
	Kernel: 4.18.0-240.10.1.el8_3.x86_64
	Compiler: gcc 4.8.5 20150623 (Red Hat 4.8.5-44)

RHEL8
	Kernel: 4.18.0-240.10.1.el8_3.x86_64
	Compiler: gcc 8.3.1 20191121 (Red Hat 8.3.1-5)

To view detailed results, visit:
https://lab.dpdk.org/results/dashboard/patchsets/26244/

UNH-IOL DPDK Community Lab

To manage your email subscriptions, visit: 
https://lab.dpdk.org/results/dashboard/preferences/subscriptions/