From mboxrd@z Thu Jan  1 00:00:00 1970
Return-Path: <test-report-bounces@dpdk.org>
Received: from mails.dpdk.org (mails.dpdk.org [217.70.189.124])
	by inbox.dpdk.org (Postfix) with ESMTP id AEDD242B28
	for <public@inbox.dpdk.org>; Tue, 16 May 2023 20:52:47 +0200 (CEST)
Received: from mails.dpdk.org (localhost [127.0.0.1])
	by mails.dpdk.org (Postfix) with ESMTP id 921874003C;
	Tue, 16 May 2023 20:52:47 +0200 (CEST)
Received: from mail-ot1-f100.google.com (mail-ot1-f100.google.com
 [209.85.210.100])
 by mails.dpdk.org (Postfix) with ESMTP id DA7FF4003C
 for <test-report@dpdk.org>; Tue, 16 May 2023 20:52:45 +0200 (CEST)
Received: by mail-ot1-f100.google.com with SMTP id
 46e09a7af769-6ac8ede63ccso1791a34.2
 for <test-report@dpdk.org>; Tue, 16 May 2023 11:52:45 -0700 (PDT)
DKIM-Signature: v=1; a=rsa-sha256; c=relaxed/relaxed;
 d=iol.unh.edu; s=unh-iol; t=1684263165; x=1686855165;
 h=cc:to:from:subject:message-id:date:from:to:cc:subject:date
 :message-id:reply-to;
 bh=jKpWnY4K9l0RbF5YuczwoIBlMUAXgcES0/BMIFLTm2Q=;
 b=YYQV4MTIajie1/hlgpCHzMOxHWIGV8v374UpjoOhz5hhTsmiQUX6RLAuPiiaUyUAS6
 VnyzIF/8V9V2NbHYY/UCuK0g5qojDyPFRh+nUMg+Tj4t55SBp1tLnC4EU9jCim4xxNjK
 1eMf2sb5wX/JHfHRJrALNFPIluWudFfcxOsso=
X-Google-DKIM-Signature: v=1; a=rsa-sha256; c=relaxed/relaxed;
 d=1e100.net; s=20221208; t=1684263165; x=1686855165;
 h=cc:to:from:subject:message-id:date:x-gm-message-state:from:to:cc
 :subject:date:message-id:reply-to;
 bh=jKpWnY4K9l0RbF5YuczwoIBlMUAXgcES0/BMIFLTm2Q=;
 b=GBLlEO4Ov2elNACmdExkTVQ88sbVveuRLg2mqEhqK2CHBTmc1Qc1VLF9PHYgSGZP66
 j4f4QbTybBqg2Yv5W8uP6+Q7yqi/8m3nNKgv5A1Rs3cXMjGDfhveyA3NzyXhB+WUm7ui
 cIz11L3hZKjyQfZzvV7BllD9UU6i0fwpmUjZ8pucircWmAs670CrNySwALo24c36O9FP
 ws+cQ7OYkImrR8O9H3eEUUUVjJ03hrDTWcp//tJH0uPDpTIupMhavRz5EJGgpxasRrdv
 HIhm1t1Et1/xc4Pb/qY/Caax5Eh+pHmZuxoRltXSueaJpuz/CD3BIKFD0EfvjN3weACU
 AhUg==
X-Gm-Message-State: AC+VfDwrEZY+SoXE+FrB4I/eZjH+puWga/A0B0eVF4IF5VOtLbGqB/Bx
 I4oMR0f70iW18q4EHB8kn87/1qixfQgf1sE+HB9EJqjMrfIQpAbPFK0CWCqzzqYYWCMOcw0+OA=
 =
X-Google-Smtp-Source: ACHHUZ4dz1kqqRh9JOU+LZa+TIHhB07ifIBPXwVF8LB8Aw0BfTuSzVz/dAXZ+bwkhsR1a/5w/YmA1wEPkfGT
X-Received: by 2002:aca:1715:0:b0:38b:37dc:88d3 with SMTP id
 j21-20020aca1715000000b0038b37dc88d3mr12706832oii.45.1684263165183; 
 Tue, 16 May 2023 11:52:45 -0700 (PDT)
Received: from postal.iol.unh.edu (postal.iol.unh.edu.
 [2606:4100:3880:1234::84]) by smtp-relay.gmail.com with ESMTPS id
 e190-20020a4a55c7000000b0054feb1b8418sm1276269oob.13.2023.05.16.11.52.45
 (version=TLS1_2 cipher=ECDHE-ECDSA-AES128-GCM-SHA256 bits=128/128);
 Tue, 16 May 2023 11:52:45 -0700 (PDT)
X-Relaying-Domain: iol.unh.edu
Date: Tue, 16 May 2023 11:52:45 -0700 (PDT)
Message-ID: <6463d0fd.4a0a0220.4a59b.16f8SMTPIN_ADDED_MISSING@mx.google.com>
Received: from [172.17.0.2] (unknown [172.18.0.34])
 by postal.iol.unh.edu (Postfix) with ESMTP id 97560605246B;
 Tue, 16 May 2023 14:52:44 -0400 (EDT)
Subject: |SUCCESS| pw126891 [PATCH] event/cnxk: add get remaining ticks routine
From: dpdklab@iol.unh.edu
To: Test Report <test-report@dpdk.org>
Cc: dpdk-test-reports@iol.unh.edu
Content-Type: text/plain
X-BeenThere: test-report@dpdk.org
X-Mailman-Version: 2.1.29
Precedence: list
List-Id: automatic DPDK test reports <test-report.dpdk.org>
List-Unsubscribe: <https://mails.dpdk.org/options/test-report>,
 <mailto:test-report-request@dpdk.org?subject=unsubscribe>
List-Archive: <http://mails.dpdk.org/archives/test-report/>
List-Post: <mailto:test-report@dpdk.org>
List-Help: <mailto:test-report-request@dpdk.org?subject=help>
List-Subscribe: <https://mails.dpdk.org/listinfo/test-report>,
 <mailto:test-report-request@dpdk.org?subject=subscribe>
Errors-To: test-report-bounces@dpdk.org

Test-Label: iol-x86_64-compile-testing
Test-Status: SUCCESS
http://dpdk.org/patch/126891

_Testing PASS_

Submitter: Pavan Nikhilesh Bhagavatula <pbhagavatula@marvell.com>
Date: Tuesday, May 16 2023 14:48:24 
DPDK git baseline: Repo:dpdk
  Branch: master
  CommitID:a399d7b5a994e335c446d4b15d7622d71dd8848c

126891 --> testing pass

Test environment and result as below:

+------------------+--------------------+
|   Environment    | dpdk_meson_compile |
+==================+====================+
| FreeBSD 13       | PASS               |
+------------------+--------------------+
| CentOS Stream 8  | PASS               |
+------------------+--------------------+
| Ubuntu 20.04     | PASS               |
+------------------+--------------------+
| CentOS Stream 9  | PASS               |
+------------------+--------------------+
| Debian Buster    | PASS               |
+------------------+--------------------+
| Debian Bullseye  | PASS               |
+------------------+--------------------+
| RHEL 7           | PASS               |
+------------------+--------------------+
| openSUSE Leap 15 | PASS               |
+------------------+--------------------+
| Ubuntu 22.04     | PASS               |
+------------------+--------------------+
| RHEL8            | PASS               |
+------------------+--------------------+
| Alpine           | PASS               |
+------------------+--------------------+


FreeBSD 13
	Kernel: 13.0
	Compiler: clang 11.0.1

CentOS Stream 8
	Kernel: 4.18.0-240.10.1.el8_3.x86_64
	Compiler: gcc 8.4.1 20200928

Ubuntu 20.04
	Kernel: 4.18.0-240.10.1.el8_3.x86_64
	Compiler: gcc 9.3.0-17ubuntu1~20.04

CentOS Stream 9
	Kernel: 4.18.0-240.10.1.el8_3.x86_64
	Compiler: gcc 11.3.1 20220421

Debian Buster
	Kernel: 5.4.0-122-generic
	Compiler: gcc 8.3.0-6

Debian Bullseye
	Kernel: 5.4.0-122-generic
	Compiler: gcc 10.2.1-6

RHEL 7
	Kernel: 4.18.0-240.10.1.el8_3.x86_64
	Compiler: gcc 4.8.5 20150623 (Red Hat 4.8.5-44)

openSUSE Leap 15
	Kernel: 4.18.0-240.10.1.el8_3.x86_64
	Compiler: gcc 7.5.0

Ubuntu 22.04
	Kernel: Container Host Kernel
	Compiler: gcc 11.3.1-2

RHEL8
	Kernel: 4.18.0-240.10.1.el8_3.x86_64
	Compiler: gcc 8.3.1 20191121 (Red Hat 8.3.1-5)

Alpine
	Kernel: 5.4.0-73-generic
	Compiler: gcc (Alpine 10.3.1_git20210424) 10.3.1 20210424

To view detailed results, visit:
https://lab.dpdk.org/results/dashboard/patchsets/26244/

UNH-IOL DPDK Community Lab

To manage your email subscriptions, visit: 
https://lab.dpdk.org/results/dashboard/preferences/subscriptions/