From mboxrd@z Thu Jan  1 00:00:00 1970
Return-Path: <test-report-bounces@dpdk.org>
Received: from mails.dpdk.org (mails.dpdk.org [217.70.189.124])
	by inbox.dpdk.org (Postfix) with ESMTP id 8167A42B2A
	for <public@inbox.dpdk.org>; Wed, 17 May 2023 10:44:11 +0200 (CEST)
Received: from mails.dpdk.org (localhost [127.0.0.1])
	by mails.dpdk.org (Postfix) with ESMTP id 802634067B;
	Wed, 17 May 2023 10:44:11 +0200 (CEST)
Received: from mail-oa1-f97.google.com (mail-oa1-f97.google.com
 [209.85.160.97]) by mails.dpdk.org (Postfix) with ESMTP id BB19F4067B
 for <test-report@dpdk.org>; Wed, 17 May 2023 10:44:10 +0200 (CEST)
Received: by mail-oa1-f97.google.com with SMTP id
 586e51a60fabf-1967cd396a1so307081fac.0
 for <test-report@dpdk.org>; Wed, 17 May 2023 01:44:10 -0700 (PDT)
DKIM-Signature: v=1; a=rsa-sha256; c=relaxed/relaxed;
 d=iol.unh.edu; s=unh-iol; t=1684313050; x=1686905050;
 h=cc:to:from:subject:message-id:date:from:to:cc:subject:date
 :message-id:reply-to;
 bh=B0rv4F/ZJqzgtR+eMN2pfuJpb13jCVxTUn2X8E7aqRo=;
 b=V4TgShIrNliMO7G/rIC9sGTPeqPN7wz0GStIQThxp1edLf2xejZIBbC+dsYr8KnJYf
 dlqCBu0vMUntunUJvBPSB00DObCcK8MaWQkuJZ/5q8yLfGp8twwcXuyoVGmhOwAVrbzU
 oiyC7CDKni2grsXyt4tjHjyrdGGh3IAdgL9PQ=
X-Google-DKIM-Signature: v=1; a=rsa-sha256; c=relaxed/relaxed;
 d=1e100.net; s=20221208; t=1684313050; x=1686905050;
 h=cc:to:from:subject:message-id:date:x-gm-message-state:from:to:cc
 :subject:date:message-id:reply-to;
 bh=B0rv4F/ZJqzgtR+eMN2pfuJpb13jCVxTUn2X8E7aqRo=;
 b=IKr01r0+lT3WMy8lFmfBHcC2PcdChKUNl1ap/2OK/S2uzk94B037WvXEzJ+9BcPjpM
 QiXFYwZz75FeLPDWvFvHO/ZuzsIR2S+Lfog9kcXOCm22cCeP2UL6lapRmn9uImvK8B4l
 vBhHu0ZHbWmUkFP9vjy8y2l57OVSn/8bY/I8ympjLNm8yJ3Sz2+l1H5UmLlebcgJOyds
 rLS3ADB45DmI6mAtIwx9lGQ0uysomxe8YRyDqWrZynqYOdhLkff/aBtLhNulXtEWfR00
 k8PSnYj2lysC9U8s0/52v1AdDtAIM5tObDkLYQ6WtIS74lKJ4Gcm6UPTOlUyi3muWCn9
 Rd9Q==
X-Gm-Message-State: AC+VfDysWz6Tgu0wv370TnfLE4sy/fZrrrRZenQsxLbXvCBFvhXrLles
 yFCftqbj8bBvdKtAx/4LV/Wep62Po7Yc+0vtNtbxpGEnqO+hT3yp5UdcEb40DdgaCx3RUht2sQ=
 =
X-Google-Smtp-Source: ACHHUZ6oR30u/pkXS+ILfZMox8PiUVZdkGzksh5EJmAziphqrjDGFrBtVJxvOJEm5srDTBoPCJA5WagI8cWe
X-Received: by 2002:a05:6870:7731:b0:195:f440:40fa with SMTP id
 dw49-20020a056870773100b00195f44040famr17495278oab.41.1684313050214; 
 Wed, 17 May 2023 01:44:10 -0700 (PDT)
Received: from postal.iol.unh.edu (postal.iol.unh.edu.
 [2606:4100:3880:1234::84]) by smtp-relay.gmail.com with ESMTPS id
 v1-20020a05687105c100b001805543b06csm1956154oan.27.2023.05.17.01.44.10
 (version=TLS1_2 cipher=ECDHE-ECDSA-AES128-GCM-SHA256 bits=128/128);
 Wed, 17 May 2023 01:44:10 -0700 (PDT)
X-Relaying-Domain: iol.unh.edu
Date: Wed, 17 May 2023 01:44:10 -0700 (PDT)
Message-ID: <646493da.050a0220.c9d06.9872SMTPIN_ADDED_MISSING@mx.google.com>
Received: from [172.17.0.2] (unknown [172.18.0.34])
 by postal.iol.unh.edu (Postfix) with ESMTP id B8889605246B;
 Wed, 17 May 2023 04:44:09 -0400 (EDT)
Subject: |SUCCESS| pw126902 [PATCH] [v2] app/dma-perf: introduce dma-perf
 application
From: dpdklab@iol.unh.edu
To: Test Report <test-report@dpdk.org>
Cc: dpdk-test-reports@iol.unh.edu
Content-Type: text/plain
X-BeenThere: test-report@dpdk.org
X-Mailman-Version: 2.1.29
Precedence: list
List-Id: automatic DPDK test reports <test-report.dpdk.org>
List-Unsubscribe: <https://mails.dpdk.org/options/test-report>,
 <mailto:test-report-request@dpdk.org?subject=unsubscribe>
List-Archive: <http://mails.dpdk.org/archives/test-report/>
List-Post: <mailto:test-report@dpdk.org>
List-Help: <mailto:test-report-request@dpdk.org?subject=help>
List-Subscribe: <https://mails.dpdk.org/listinfo/test-report>,
 <mailto:test-report-request@dpdk.org?subject=subscribe>
Errors-To: test-report-bounces@dpdk.org

Test-Label: iol-x86_64-compile-testing
Test-Status: SUCCESS
http://dpdk.org/patch/126902

_Testing PASS_

Submitter: Cheng Jiang <Cheng1.jiang@intel.com>
Date: Wednesday, May 17 2023 06:16:38 
DPDK git baseline: Repo:dpdk
  Branch: master
  CommitID:a399d7b5a994e335c446d4b15d7622d71dd8848c

126902 --> testing pass

Test environment and result as below:

+------------------+--------------------+
|   Environment    | dpdk_meson_compile |
+==================+====================+
| FreeBSD 13       | PASS               |
+------------------+--------------------+
| RHEL8            | PASS               |
+------------------+--------------------+
| Debian Bullseye  | PASS               |
+------------------+--------------------+
| openSUSE Leap 15 | PASS               |
+------------------+--------------------+
| CentOS Stream 8  | PASS               |
+------------------+--------------------+
| Ubuntu 22.04     | PASS               |
+------------------+--------------------+
| RHEL 7           | PASS               |
+------------------+--------------------+
| CentOS Stream 9  | PASS               |
+------------------+--------------------+
| Ubuntu 20.04     | PASS               |
+------------------+--------------------+
| Debian Buster    | PASS               |
+------------------+--------------------+
| Alpine           | PASS               |
+------------------+--------------------+


FreeBSD 13
	Kernel: 13.0
	Compiler: clang 11.0.1

RHEL8
	Kernel: 4.18.0-240.10.1.el8_3.x86_64
	Compiler: gcc 8.3.1 20191121 (Red Hat 8.3.1-5)

Debian Bullseye
	Kernel: 5.4.0-122-generic
	Compiler: gcc 10.2.1-6

openSUSE Leap 15
	Kernel: 4.18.0-240.10.1.el8_3.x86_64
	Compiler: gcc 7.5.0

CentOS Stream 8
	Kernel: 4.18.0-240.10.1.el8_3.x86_64
	Compiler: gcc 8.4.1 20200928

Ubuntu 22.04
	Kernel: 4.18.0-240.10.1.el8_3.x86_64
	Compiler: gcc 11.3.0

RHEL 7
	Kernel: 4.18.0-240.10.1.el8_3.x86_64
	Compiler: gcc 4.8.5 20150623 (Red Hat 4.8.5-44)

CentOS Stream 9
	Kernel: 4.18.0-240.10.1.el8_3.x86_64
	Compiler: gcc 11.3.1 20220421

Ubuntu 20.04
	Kernel: 4.18.0-240.10.1.el8_3.x86_64
	Compiler: gcc 9.3.0-17ubuntu1~20.04

Debian Buster
	Kernel: 5.4.0-122-generic
	Compiler: gcc 8.3.0-6

Alpine
	Kernel: 5.4.0-73-generic
	Compiler: gcc (Alpine 10.3.1_git20210424) 10.3.1 20210424

To view detailed results, visit:
https://lab.dpdk.org/results/dashboard/patchsets/26247/

UNH-IOL DPDK Community Lab

To manage your email subscriptions, visit: 
https://lab.dpdk.org/results/dashboard/preferences/subscriptions/