From mboxrd@z Thu Jan  1 00:00:00 1970
Return-Path: <test-report-bounces@dpdk.org>
Received: from mails.dpdk.org (mails.dpdk.org [217.70.189.124])
	by inbox.dpdk.org (Postfix) with ESMTP id 5898642AE1
	for <public@inbox.dpdk.org>; Wed, 17 May 2023 12:39:00 +0200 (CEST)
Received: from mails.dpdk.org (localhost [127.0.0.1])
	by mails.dpdk.org (Postfix) with ESMTP id 54AF84067B;
	Wed, 17 May 2023 12:39:00 +0200 (CEST)
Received: from mail-pj1-f97.google.com (mail-pj1-f97.google.com
 [209.85.216.97]) by mails.dpdk.org (Postfix) with ESMTP id E76FC4067B
 for <test-report@dpdk.org>; Wed, 17 May 2023 12:38:58 +0200 (CEST)
Received: by mail-pj1-f97.google.com with SMTP id
 98e67ed59e1d1-24e25e2808fso679706a91.0
 for <test-report@dpdk.org>; Wed, 17 May 2023 03:38:58 -0700 (PDT)
DKIM-Signature: v=1; a=rsa-sha256; c=relaxed/relaxed;
 d=iol.unh.edu; s=unh-iol; t=1684319938; x=1686911938;
 h=cc:to:from:subject:message-id:date:from:to:cc:subject:date
 :message-id:reply-to;
 bh=QHtUtw+9aA2GhLUrzIyYt0Hyn3AfAYBt9eaVqfBsCc8=;
 b=FPkFJ/R5S5HL6cTWrynIO/jSWCaX3YIysnGaIQUujTNV/To4Z66y9TdxmVbiFbloBE
 XVOnTvGLoux2RAq6QJIlTSdfne4ovqcSv2HeS9yBYw3Yamc+TyVGFWizpp5+pc3OBCKo
 NRzUEJgWlaXsb/hPL8k1ksqryvxYMxTqreJmA=
X-Google-DKIM-Signature: v=1; a=rsa-sha256; c=relaxed/relaxed;
 d=1e100.net; s=20221208; t=1684319938; x=1686911938;
 h=cc:to:from:subject:message-id:date:x-gm-message-state:from:to:cc
 :subject:date:message-id:reply-to;
 bh=QHtUtw+9aA2GhLUrzIyYt0Hyn3AfAYBt9eaVqfBsCc8=;
 b=SXjGgkrMvCzpVADryT6NCDo2XQlUx3oNNAxubI9duDmkTwOtLZor24whFFKPNOiAcm
 HyUiqWFHYJJuSNy8kDw3Chvc87BcrXOgXeho39PF0ZZyx59neOtO35qUYipQsH/GfNtt
 EwHTKYtt/pcHpq0HAVLCGe+KpHtuc1bqletkU34H14XypOwuC2577aSABzcrNeeMAh0H
 AjBwmBLulsQT350gp+RmrtlLD6lsnnoc9w5n0G64KNQqcP0TLcBe5cir9oNX73GEy1pb
 bE4L72NGnrORUTLuGuCwZ+sclFbctcVhYRTCVLWThLa85Vs8H3GM459O4JlXNeb/Xo8z
 ndRg==
X-Gm-Message-State: AC+VfDw4np/eUQghBtA6SOyHyMjLvb6Pb9EWkYiQeROUMf4ZvZtDwUKC
 CGepzlkbJLWW4CmoNIp5MQpGe01dedmCTkKYPahZ9Ghuk8VbFb4gVf/FFA==
X-Google-Smtp-Source: ACHHUZ5kE4e+i5TWokm4g+BaMf2E8pa3ikzoMV4GvR0LvzBLi56R5yOHXVF/98tutxWTtLGXh5nQnRxA+ILn
X-Received: by 2002:a17:90b:3807:b0:24d:d7fd:86c3 with SMTP id
 mq7-20020a17090b380700b0024dd7fd86c3mr40069277pjb.16.1684319938185; 
 Wed, 17 May 2023 03:38:58 -0700 (PDT)
Received: from postal.iol.unh.edu (postal.iol.unh.edu. [132.177.123.84])
 by smtp-relay.gmail.com with ESMTPS id
 t1-20020a634601000000b0051322912cfdsm1235184pga.4.2023.05.17.03.38.58
 (version=TLS1_2 cipher=ECDHE-ECDSA-AES128-GCM-SHA256 bits=128/128);
 Wed, 17 May 2023 03:38:58 -0700 (PDT)
X-Relaying-Domain: iol.unh.edu
Date: Wed, 17 May 2023 03:38:58 -0700 (PDT)
Message-ID: <6464aec2.630a0220.93fe.e695SMTPIN_ADDED_MISSING@mx.google.com>
Received: from [172.17.0.2] (unknown [172.18.0.34])
 by postal.iol.unh.edu (Postfix) with ESMTP id 6855A605246B;
 Wed, 17 May 2023 06:38:57 -0400 (EDT)
Subject: |SUCCESS| pw126907 [PATCH] [v3] app/dma-perf: introduce dma-perf
 application
From: dpdklab@iol.unh.edu
To: Test Report <test-report@dpdk.org>
Cc: dpdk-test-reports@iol.unh.edu
Content-Type: text/plain
X-BeenThere: test-report@dpdk.org
X-Mailman-Version: 2.1.29
Precedence: list
List-Id: automatic DPDK test reports <test-report.dpdk.org>
List-Unsubscribe: <https://mails.dpdk.org/options/test-report>,
 <mailto:test-report-request@dpdk.org?subject=unsubscribe>
List-Archive: <http://mails.dpdk.org/archives/test-report/>
List-Post: <mailto:test-report@dpdk.org>
List-Help: <mailto:test-report-request@dpdk.org?subject=help>
List-Subscribe: <https://mails.dpdk.org/listinfo/test-report>,
 <mailto:test-report-request@dpdk.org?subject=subscribe>
Errors-To: test-report-bounces@dpdk.org

Test-Label: iol-aarch64-unit-testing
Test-Status: SUCCESS
http://dpdk.org/patch/126907

_Testing PASS_

Submitter: Cheng Jiang <Cheng1.jiang@intel.com>
Date: Wednesday, May 17 2023 07:31:08 
DPDK git baseline: Repo:dpdk
  Branch: master
  CommitID:a399d7b5a994e335c446d4b15d7622d71dd8848c

126907 --> testing pass

Test environment and result as below:

+----------------------+------------------------------+---------------------------+--------------+
|     Environment      | cryptodev_sw_snow3g_autotest | cryptodev_sw_zuc_autotest | lpm_autotest |
+======================+==============================+===========================+==============+
| Debian 11            | PASS                         | PASS                      | SKIPPED      |
+----------------------+------------------------------+---------------------------+--------------+
| Ubuntu 20.04 ARM SVE | SKIPPED                      | SKIPPED                   | PASS         |
+----------------------+------------------------------+---------------------------+--------------+


Debian 11
	Kernel: Container Host Kernel
	Compiler: gcc 10.2.1

Ubuntu 20.04 ARM SVE
	Kernel: 5.4.0-80-generic
	Compiler: gcc 10.3.0 (Ubuntu 10.3.0-1ubuntu1~20.04)

To view detailed results, visit:
https://lab.dpdk.org/results/dashboard/patchsets/26252/

UNH-IOL DPDK Community Lab

To manage your email subscriptions, visit: 
https://lab.dpdk.org/results/dashboard/preferences/subscriptions/