From mboxrd@z Thu Jan  1 00:00:00 1970
Return-Path: <test-report-bounces@dpdk.org>
Received: from mails.dpdk.org (mails.dpdk.org [217.70.189.124])
	by inbox.dpdk.org (Postfix) with ESMTP id 7500142AE1
	for <public@inbox.dpdk.org>; Wed, 17 May 2023 12:46:32 +0200 (CEST)
Received: from mails.dpdk.org (localhost [127.0.0.1])
	by mails.dpdk.org (Postfix) with ESMTP id 706AE4067B;
	Wed, 17 May 2023 12:46:32 +0200 (CEST)
Received: from mail-yb1-f228.google.com (mail-yb1-f228.google.com
 [209.85.219.228])
 by mails.dpdk.org (Postfix) with ESMTP id 8D3B74067B
 for <test-report@dpdk.org>; Wed, 17 May 2023 12:46:31 +0200 (CEST)
Received: by mail-yb1-f228.google.com with SMTP id
 3f1490d57ef6-ba82059eec9so811466276.3
 for <test-report@dpdk.org>; Wed, 17 May 2023 03:46:31 -0700 (PDT)
DKIM-Signature: v=1; a=rsa-sha256; c=relaxed/relaxed;
 d=iol.unh.edu; s=unh-iol; t=1684320391; x=1686912391;
 h=cc:to:from:subject:message-id:date:from:to:cc:subject:date
 :message-id:reply-to;
 bh=nh6CSB6MBDuSkbqiujatrn1F+SiThrKL3VOP35/CG8Q=;
 b=hwraiPhTQE81OGyi+ynLL5Vyc6I9Bv5i9Y/ZJevPLFhyzFWFYk0zx6yZhb41zfFFZN
 HuKJq5MN4UtbNc5pBifeHuPiKONBipdsYgjFQKqHqbrNQXgpOM1g/gWOuvOhrOMjlhPy
 a8Gzh7u4e3MjXJcLqcAnhT6SGM4s2NUo8loes=
X-Google-DKIM-Signature: v=1; a=rsa-sha256; c=relaxed/relaxed;
 d=1e100.net; s=20221208; t=1684320391; x=1686912391;
 h=cc:to:from:subject:message-id:date:x-gm-message-state:from:to:cc
 :subject:date:message-id:reply-to;
 bh=nh6CSB6MBDuSkbqiujatrn1F+SiThrKL3VOP35/CG8Q=;
 b=SfasxydEz6KrugLyRg7XqYspE/G/KM+besaEQemBGBvdBV2V5JqJcD1w3JdW0fLs0I
 A4ylWHWNF+gaXTLO+fUfD5/VS1GNCkv5io1Dm4hl5iRWHdpWjK8YD4lzQWj18juS5USL
 ni66Oa3lecKzIIlnySIFLeTv252dy/90uGx20kjCLv9JPB1/PIrYEDEdXqb8YbOnRWeq
 Xa0jypxiADbzHkU+73lSL/uul1J9G4qBAPsjgoLJrRClcigk7xBU5yHlYzdnOU0NEVeT
 avOgpn4KSlB52lQuY0BKlS12vtDvKdead9rlVIq+BPLGcsu4BjKLPUhIJyTQdivLbYQ6
 UzLg==
X-Gm-Message-State: AC+VfDxNSA5fqSlUVinlOVxrqssexqIImxGBM/f4n3NoBB16CEPeF5no
 JSyYDOeSkB3LoPYsbq7NoZTbBOAo9bOADoKZpAcWRhn0XuJsEy5muKrVnw==
X-Google-Smtp-Source: ACHHUZ7ubovhrLeF5IDgrRpHNTz/vAPXQiPv9HZtgC+aG68BotutAs8xdN9Brl3sPaGvmbgSQLFpR7st+JpR
X-Received: by 2002:a25:3449:0:b0:ba7:4356:e0fa with SMTP id
 b70-20020a253449000000b00ba74356e0famr12875007yba.3.1684320391036; 
 Wed, 17 May 2023 03:46:31 -0700 (PDT)
Received: from postal.iol.unh.edu (postal.iol.unh.edu. [132.177.123.84])
 by smtp-relay.gmail.com with ESMTPS id
 u126-20020a818484000000b0055df581d44bsm161377ywf.18.2023.05.17.03.46.30
 (version=TLS1_2 cipher=ECDHE-ECDSA-AES128-GCM-SHA256 bits=128/128);
 Wed, 17 May 2023 03:46:31 -0700 (PDT)
X-Relaying-Domain: iol.unh.edu
Date: Wed, 17 May 2023 03:46:31 -0700 (PDT)
Message-ID: <6464b087.810a0220.a0da0.6e7fSMTPIN_ADDED_MISSING@mx.google.com>
Received: from [172.17.0.2] (unknown [172.18.0.34])
 by postal.iol.unh.edu (Postfix) with ESMTP id AA524605246B;
 Wed, 17 May 2023 06:46:30 -0400 (EDT)
Subject: |SUCCESS| pw126907 [PATCH] [v3] app/dma-perf: introduce dma-perf
 application
From: dpdklab@iol.unh.edu
To: Test Report <test-report@dpdk.org>
Cc: dpdk-test-reports@iol.unh.edu
Content-Type: text/plain
X-BeenThere: test-report@dpdk.org
X-Mailman-Version: 2.1.29
Precedence: list
List-Id: automatic DPDK test reports <test-report.dpdk.org>
List-Unsubscribe: <https://mails.dpdk.org/options/test-report>,
 <mailto:test-report-request@dpdk.org?subject=unsubscribe>
List-Archive: <http://mails.dpdk.org/archives/test-report/>
List-Post: <mailto:test-report@dpdk.org>
List-Help: <mailto:test-report-request@dpdk.org?subject=help>
List-Subscribe: <https://mails.dpdk.org/listinfo/test-report>,
 <mailto:test-report-request@dpdk.org?subject=subscribe>
Errors-To: test-report-bounces@dpdk.org

Test-Label: iol-abi-testing
Test-Status: SUCCESS
http://dpdk.org/patch/126907

_Testing PASS_

Submitter: Cheng Jiang <Cheng1.jiang@intel.com>
Date: Wednesday, May 17 2023 07:31:08 
DPDK git baseline: Repo:dpdk
  Branch: master
  CommitID:a399d7b5a994e335c446d4b15d7622d71dd8848c

126907 --> testing pass

Test environment and result as below:

+------------------+----------+
|   Environment    | abi_test |
+==================+==========+
| Ubuntu 22.04     | PASS     |
+------------------+----------+
| openSUSE Leap 15 | PASS     |
+------------------+----------+
| Debian Bullseye  | PASS     |
+------------------+----------+
| Debian Buster    | PASS     |
+------------------+----------+
| CentOS Stream 8  | PASS     |
+------------------+----------+
| CentOS Stream 9  | PASS     |
+------------------+----------+


Ubuntu 22.04
	Kernel: Container Host Kernel
	Compiler: gcc 11.3.1-2

openSUSE Leap 15
	Kernel: 4.18.0-240.10.1.el8_3.x86_64
	Compiler: gcc 7.5.0

Debian Bullseye
	Kernel: 5.4.0-122-generic
	Compiler: gcc 10.2.1-6

Debian Buster
	Kernel: 5.4.0-122-generic
	Compiler: gcc 8.3.0-6

CentOS Stream 8
	Kernel: 4.18.0-240.10.1.el8_3.x86_64
	Compiler: gcc 8.4.1 20200928

CentOS Stream 9
	Kernel: 4.18.0-240.10.1.el8_3.x86_64
	Compiler: gcc 11.3.1 20220421

To view detailed results, visit:
https://lab.dpdk.org/results/dashboard/patchsets/26252/

UNH-IOL DPDK Community Lab

To manage your email subscriptions, visit: 
https://lab.dpdk.org/results/dashboard/preferences/subscriptions/