From mboxrd@z Thu Jan  1 00:00:00 1970
Return-Path: <test-report-bounces@dpdk.org>
Received: from mails.dpdk.org (mails.dpdk.org [217.70.189.124])
	by inbox.dpdk.org (Postfix) with ESMTP id D51A242AE1
	for <public@inbox.dpdk.org>; Wed, 17 May 2023 12:57:59 +0200 (CEST)
Received: from mails.dpdk.org (localhost [127.0.0.1])
	by mails.dpdk.org (Postfix) with ESMTP id D03C14067B;
	Wed, 17 May 2023 12:57:59 +0200 (CEST)
Received: from mail-io1-f100.google.com (mail-io1-f100.google.com
 [209.85.166.100])
 by mails.dpdk.org (Postfix) with ESMTP id AECDE4067B
 for <test-report@dpdk.org>; Wed, 17 May 2023 12:57:58 +0200 (CEST)
Received: by mail-io1-f100.google.com with SMTP id
 ca18e2360f4ac-76c73f7443dso55177339f.0
 for <test-report@dpdk.org>; Wed, 17 May 2023 03:57:58 -0700 (PDT)
DKIM-Signature: v=1; a=rsa-sha256; c=relaxed/relaxed;
 d=iol.unh.edu; s=unh-iol; t=1684321078; x=1686913078;
 h=cc:to:from:subject:message-id:date:from:to:cc:subject:date
 :message-id:reply-to;
 bh=Zl+UTDc9ArlUmGm5UsuhxiT4wEAju/96RP8YNnqRCyQ=;
 b=ZihNJSkq3UorysrBlZyc1ILB/aplHDnSdyoJcPquTOcmsppmT/uclCA6nH1o/F2KMG
 A8rc+yKfs9WcS0qXvU+8j6Y0HqWS87Z9RR5UrOEJel9fBYdgnvTtt6dDfdDODgoxFzkv
 p+FwfeVsfk2JBAe00gaAE5N6wXBAr37PT0z4M=
X-Google-DKIM-Signature: v=1; a=rsa-sha256; c=relaxed/relaxed;
 d=1e100.net; s=20221208; t=1684321078; x=1686913078;
 h=cc:to:from:subject:message-id:date:x-gm-message-state:from:to:cc
 :subject:date:message-id:reply-to;
 bh=Zl+UTDc9ArlUmGm5UsuhxiT4wEAju/96RP8YNnqRCyQ=;
 b=YQ2dd7WIMynVZiCDhvBGwuTHTZxVqw84T/veiRdCIUQhS0YDWFyl2dBrE/sGYZur4p
 dRfqPJX94XcxKesXjScYzAGt3abvc4rybj42kvVyh0avFfQA1TIh880/TuNxGPdEy7DE
 HJju69V8quPJJWMoSfTcEIwBwIPpvN1j1PVj6wpra4i1S1oddGdXmLJRfqua8nd/45wg
 gwfhSknwDwiY6nr1c7FLejgKaQ+3AqLyeT9P9YKMLKCJRmofigrWlvUg1RAnPUMldEVM
 FURKc4nIa0UnIOOUsImcSct0s2yJimIHk8LAXm+kh1CkKXPBdOLX4YD1yTcEd7lHHqeN
 rQHA==
X-Gm-Message-State: AC+VfDy20L+57guiqtFHg8MkvCb0gfXyOGPa3qUz0DO2Mbm/Bm2oIDZt
 KF5Rb1d0lbPpLgqkDQ+aIAp6vw2jps6KVrL2GEaiWFNFlZtWQfXG2AHOqnMUbfBsiKNLCMmu9A=
 =
X-Google-Smtp-Source: ACHHUZ6rUb/mTWegcCZ1C+sAkwS6kT557oanzhfnxAd6YCvwcAVlAL4yuwJLBatH5bkVagFwkKU0U3QCWRf8
X-Received: by 2002:a5e:c003:0:b0:766:5445:2690 with SMTP id
 u3-20020a5ec003000000b0076654452690mr4333126iol.14.1684321078063; 
 Wed, 17 May 2023 03:57:58 -0700 (PDT)
Received: from postal.iol.unh.edu (postal.iol.unh.edu.
 [2606:4100:3880:1234::84]) by smtp-relay.gmail.com with ESMTPS id
 b8-20020a6b6708000000b007700f8e1cd7sm221386ioc.23.2023.05.17.03.57.57
 (version=TLS1_2 cipher=ECDHE-ECDSA-AES128-GCM-SHA256 bits=128/128);
 Wed, 17 May 2023 03:57:58 -0700 (PDT)
X-Relaying-Domain: iol.unh.edu
Date: Wed, 17 May 2023 03:57:58 -0700 (PDT)
Message-ID: <6464b336.6b0a0220.e36eb.ac60SMTPIN_ADDED_MISSING@mx.google.com>
Received: from [172.17.0.2] (unknown [172.18.0.34])
 by postal.iol.unh.edu (Postfix) with ESMTP id 9782F605246B;
 Wed, 17 May 2023 06:57:57 -0400 (EDT)
Subject: |SUCCESS| pw126907 [PATCH] [v3] app/dma-perf: introduce dma-perf
 application
From: dpdklab@iol.unh.edu
To: Test Report <test-report@dpdk.org>
Cc: dpdk-test-reports@iol.unh.edu
Content-Type: text/plain
X-BeenThere: test-report@dpdk.org
X-Mailman-Version: 2.1.29
Precedence: list
List-Id: automatic DPDK test reports <test-report.dpdk.org>
List-Unsubscribe: <https://mails.dpdk.org/options/test-report>,
 <mailto:test-report-request@dpdk.org?subject=unsubscribe>
List-Archive: <http://mails.dpdk.org/archives/test-report/>
List-Post: <mailto:test-report@dpdk.org>
List-Help: <mailto:test-report-request@dpdk.org?subject=help>
List-Subscribe: <https://mails.dpdk.org/listinfo/test-report>,
 <mailto:test-report-request@dpdk.org?subject=subscribe>
Errors-To: test-report-bounces@dpdk.org

Test-Label: iol-abi-testing
Test-Status: SUCCESS
http://dpdk.org/patch/126907

_Testing PASS_

Submitter: Cheng Jiang <Cheng1.jiang@intel.com>
Date: Wednesday, May 17 2023 07:31:08 
DPDK git baseline: Repo:dpdk
  Branch: master
  CommitID:a399d7b5a994e335c446d4b15d7622d71dd8848c

126907 --> testing pass

Test environment and result as below:

+------------------+----------+
|   Environment    | abi_test |
+==================+==========+
| Ubuntu 22.04     | PASS     |
+------------------+----------+
| openSUSE Leap 15 | PASS     |
+------------------+----------+
| Debian Bullseye  | PASS     |
+------------------+----------+
| Debian Buster    | PASS     |
+------------------+----------+
| CentOS Stream 8  | PASS     |
+------------------+----------+
| CentOS Stream 9  | PASS     |
+------------------+----------+
| RHEL 7           | PASS     |
+------------------+----------+
| RHEL8            | PASS     |
+------------------+----------+


Ubuntu 22.04
	Kernel: Container Host Kernel
	Compiler: gcc 11.3.1-2

openSUSE Leap 15
	Kernel: 4.18.0-240.10.1.el8_3.x86_64
	Compiler: gcc 7.5.0

Debian Bullseye
	Kernel: 5.4.0-122-generic
	Compiler: gcc 10.2.1-6

Debian Buster
	Kernel: 5.4.0-122-generic
	Compiler: gcc 8.3.0-6

CentOS Stream 8
	Kernel: 4.18.0-240.10.1.el8_3.x86_64
	Compiler: gcc 8.4.1 20200928

CentOS Stream 9
	Kernel: 4.18.0-240.10.1.el8_3.x86_64
	Compiler: gcc 11.3.1 20220421

RHEL 7
	Kernel: 4.18.0-240.10.1.el8_3.x86_64
	Compiler: gcc 4.8.5 20150623 (Red Hat 4.8.5-44)

RHEL8
	Kernel: 4.18.0-240.10.1.el8_3.x86_64
	Compiler: gcc 8.3.1 20191121 (Red Hat 8.3.1-5)

To view detailed results, visit:
https://lab.dpdk.org/results/dashboard/patchsets/26252/

UNH-IOL DPDK Community Lab

To manage your email subscriptions, visit: 
https://lab.dpdk.org/results/dashboard/preferences/subscriptions/