From mboxrd@z Thu Jan  1 00:00:00 1970
Return-Path: <test-report-bounces@dpdk.org>
Received: from mails.dpdk.org (mails.dpdk.org [217.70.189.124])
	by inbox.dpdk.org (Postfix) with ESMTP id 8A66542AE1
	for <public@inbox.dpdk.org>; Wed, 17 May 2023 13:44:41 +0200 (CEST)
Received: from mails.dpdk.org (localhost [127.0.0.1])
	by mails.dpdk.org (Postfix) with ESMTP id 6A0494067B;
	Wed, 17 May 2023 13:44:41 +0200 (CEST)
Received: from mail-qk1-f225.google.com (mail-qk1-f225.google.com
 [209.85.222.225])
 by mails.dpdk.org (Postfix) with ESMTP id E41CF4067B
 for <test-report@dpdk.org>; Wed, 17 May 2023 13:44:39 +0200 (CEST)
Received: by mail-qk1-f225.google.com with SMTP id
 af79cd13be357-75939de402dso40186485a.1
 for <test-report@dpdk.org>; Wed, 17 May 2023 04:44:39 -0700 (PDT)
DKIM-Signature: v=1; a=rsa-sha256; c=relaxed/relaxed;
 d=iol.unh.edu; s=unh-iol; t=1684323879; x=1686915879;
 h=cc:to:from:subject:message-id:date:from:to:cc:subject:date
 :message-id:reply-to;
 bh=KsxJ/iWTSHKb2vFDhANjXrOXljB2HPxRHooilM/Ff2c=;
 b=D6ocLZxR3ZHVa6oKHTMtWP7JdFul9KQLS0gH8VZJqCkU7HKsB8e3N2OEgykjr7rqOG
 cFOTC9/w0XcHNDyZM3POk/XOLDOrQrhQckoVtppD+9HRjAUd5qwimLmOMc69RBD9ftVb
 3k6adU1qhR6ISsvfu5Q3nUfyje7HZpfNVwNNQ=
X-Google-DKIM-Signature: v=1; a=rsa-sha256; c=relaxed/relaxed;
 d=1e100.net; s=20221208; t=1684323879; x=1686915879;
 h=cc:to:from:subject:message-id:date:x-gm-message-state:from:to:cc
 :subject:date:message-id:reply-to;
 bh=KsxJ/iWTSHKb2vFDhANjXrOXljB2HPxRHooilM/Ff2c=;
 b=DiPoM92QL6T8s/uYyUPrWRdiYeQMu+GWA6aja31pA+gyilrSZq7J/eShEdeDzBDcLP
 tbC0DSWQrbuaLwebpWxIXjbPJJLZyCqMNL/AovVZ93f/RiqVmm+9qlFcaWzDGswZscqf
 Tx2qPnsYlg59ZemGGTMUy6AHozdKaBqwDDGvaq0H3q2Vn7vqw2Bi5TEaeSlYyKW5mN/E
 6pKSK3Dn2NbZD6EYn80a6AY0OhmlfYYv6uxiZHC5HWUdH6efODiRAF8ZjhJ8kUW3cgVj
 eFxklDVuw0ICjIbiHb53jRFcHiIEm4/pgmC0CP5OnmQ6qtHwZqqNLERjAkA/eFUgtrXY
 BSwA==
X-Gm-Message-State: AC+VfDwlzauGSwqjFgKsZb8U9zUB2uBSMeHV7zWxLJNNhUcQ8bxvyTO2
 39qfg20Es8q67xISM3l+djf9ZscUXKYMh9AZTFIcjByqHkGsKT5GZuv1/vcnl/CiKXQ7L8QQ0g=
 =
X-Google-Smtp-Source: ACHHUZ59Rg/xJGUaopcVNVWDG+4CkTrpLTlJIbmAOwIxtYJ4H2Bh108ONIZsrv9vCdx7tv5PLSGzWavQIlGz
X-Received: by 2002:ad4:5f0c:0:b0:5ea:9fc5:fca2 with SMTP id
 fo12-20020ad45f0c000000b005ea9fc5fca2mr67629124qvb.45.1684323879356; 
 Wed, 17 May 2023 04:44:39 -0700 (PDT)
Received: from postal.iol.unh.edu (postal.iol.unh.edu.
 [2606:4100:3880:1234::84]) by smtp-relay.gmail.com with ESMTPS id
 h10-20020a0cfcaa000000b005dd8b74ba17sm1258638qvq.71.2023.05.17.04.44.39
 (version=TLS1_2 cipher=ECDHE-ECDSA-AES128-GCM-SHA256 bits=128/128);
 Wed, 17 May 2023 04:44:39 -0700 (PDT)
X-Relaying-Domain: iol.unh.edu
Date: Wed, 17 May 2023 04:44:39 -0700 (PDT)
Message-ID: <6464be27.0c0a0220.48697.272fSMTPIN_ADDED_MISSING@mx.google.com>
Received: from [172.17.0.2] (unknown [172.18.0.34])
 by postal.iol.unh.edu (Postfix) with ESMTP id 127EE605246B;
 Wed, 17 May 2023 07:44:39 -0400 (EDT)
Subject: |SUCCESS| pw126909-126913 [PATCH] [v3,
 4/4] vhost: add device op to offload the interrupt kick
From: dpdklab@iol.unh.edu
To: Test Report <test-report@dpdk.org>
Cc: dpdk-test-reports@iol.unh.edu
Content-Type: text/plain
X-BeenThere: test-report@dpdk.org
X-Mailman-Version: 2.1.29
Precedence: list
List-Id: automatic DPDK test reports <test-report.dpdk.org>
List-Unsubscribe: <https://mails.dpdk.org/options/test-report>,
 <mailto:test-report-request@dpdk.org?subject=unsubscribe>
List-Archive: <http://mails.dpdk.org/archives/test-report/>
List-Post: <mailto:test-report@dpdk.org>
List-Help: <mailto:test-report-request@dpdk.org?subject=help>
List-Subscribe: <https://mails.dpdk.org/listinfo/test-report>,
 <mailto:test-report-request@dpdk.org?subject=subscribe>
Errors-To: test-report-bounces@dpdk.org

Test-Label: iol-abi-testing
Test-Status: SUCCESS
http://dpdk.org/patch/126913

_Testing PASS_

Submitter: Eelco Chaudron <echaudro@redhat.com>
Date: Wednesday, May 17 2023 09:09:13 
DPDK git baseline: Repo:dpdk
  Branch: master
  CommitID:a399d7b5a994e335c446d4b15d7622d71dd8848c

126909-126913 --> testing pass

Test environment and result as below:

+------------------+----------+
|   Environment    | abi_test |
+==================+==========+
| Ubuntu 22.04     | PASS     |
+------------------+----------+
| CentOS Stream 8  | PASS     |
+------------------+----------+
| CentOS Stream 9  | PASS     |
+------------------+----------+
| RHEL 7           | PASS     |
+------------------+----------+
| openSUSE Leap 15 | PASS     |
+------------------+----------+
| Debian Buster    | PASS     |
+------------------+----------+
| RHEL8            | PASS     |
+------------------+----------+
| Debian Bullseye  | PASS     |
+------------------+----------+


Ubuntu 22.04
	Kernel: Container Host Kernel
	Compiler: clang 14.0.5-1.fc36

CentOS Stream 8
	Kernel: 4.18.0-240.10.1.el8_3.x86_64
	Compiler: gcc 8.4.1 20200928

CentOS Stream 9
	Kernel: 4.18.0-240.10.1.el8_3.x86_64
	Compiler: gcc 11.3.1 20220421

RHEL 7
	Kernel: 4.18.0-240.10.1.el8_3.x86_64
	Compiler: gcc 4.8.5 20150623 (Red Hat 4.8.5-44)

openSUSE Leap 15
	Kernel: 4.18.0-240.10.1.el8_3.x86_64
	Compiler: gcc 7.5.0

Debian Buster
	Kernel: 5.4.0-122-generic
	Compiler: gcc 8.3.0-6

RHEL8
	Kernel: 4.18.0-240.10.1.el8_3.x86_64
	Compiler: gcc 8.3.1 20191121 (Red Hat 8.3.1-5)

Debian Bullseye
	Kernel: 5.4.0-122-generic
	Compiler: gcc 10.2.1-6

To view detailed results, visit:
https://lab.dpdk.org/results/dashboard/patchsets/26253/

UNH-IOL DPDK Community Lab

To manage your email subscriptions, visit: 
https://lab.dpdk.org/results/dashboard/preferences/subscriptions/