From mboxrd@z Thu Jan  1 00:00:00 1970
Return-Path: <test-report-bounces@dpdk.org>
Received: from mails.dpdk.org (mails.dpdk.org [217.70.189.124])
	by inbox.dpdk.org (Postfix) with ESMTP id F364042B2F
	for <public@inbox.dpdk.org>; Thu, 18 May 2023 01:36:44 +0200 (CEST)
Received: from mails.dpdk.org (localhost [127.0.0.1])
	by mails.dpdk.org (Postfix) with ESMTP id F0BAD40698;
	Thu, 18 May 2023 01:36:44 +0200 (CEST)
Received: from mail-pf1-f226.google.com (mail-pf1-f226.google.com
 [209.85.210.226])
 by mails.dpdk.org (Postfix) with ESMTP id 9FA9E40698
 for <test-report@dpdk.org>; Thu, 18 May 2023 01:36:43 +0200 (CEST)
Received: by mail-pf1-f226.google.com with SMTP id
 d2e1a72fcca58-643aad3bc41so1508925b3a.0
 for <test-report@dpdk.org>; Wed, 17 May 2023 16:36:43 -0700 (PDT)
DKIM-Signature: v=1; a=rsa-sha256; c=relaxed/relaxed;
 d=iol.unh.edu; s=unh-iol; t=1684366603; x=1686958603;
 h=cc:to:from:subject:message-id:date:from:to:cc:subject:date
 :message-id:reply-to;
 bh=C2Qh1swxj/FtboDKOgLRk5PXSmaWzVuSuDg9efhMdFk=;
 b=VoARVMiJwAJWIBeVS4IJwnrrWhF7duKLywQrfGaoglBVsB/PM0hUTK+KwAqeWTIXPs
 mKJwIqsr/AhUcYTrv+qUGn05TQLnY4JiSs6BHQvdXbQ9/ojykoOQzoG2Py42n96sumGd
 GlKIqFnuc6PrUEBkxD+mfDWJiWX+CWSO/yvZ4=
X-Google-DKIM-Signature: v=1; a=rsa-sha256; c=relaxed/relaxed;
 d=1e100.net; s=20221208; t=1684366603; x=1686958603;
 h=cc:to:from:subject:message-id:date:x-gm-message-state:from:to:cc
 :subject:date:message-id:reply-to;
 bh=C2Qh1swxj/FtboDKOgLRk5PXSmaWzVuSuDg9efhMdFk=;
 b=BCp36pIk47CHlFbAsagnU2SFu6lio/lMaI6E6Zb3QNxKKo6ZWNZ5pEGHjTqWJCBHTm
 daMkl61WgK7G1Q9ThaB2r8DsDe4q07Ybn2t9fhR3M5A675K1q71427PUwUYb6JTSH0S7
 Gmf3wYjQ+RlBG/UjeHCH63mx2caapDYXFMx1tGY6o+7gGRAOgJzsWy1o7KatSNrLuzSb
 7zpGrtRyZd2/N7s8oy2tOLx2Xxf+lOGXA7GJlz9TyB7l+nvHtajZv1tCQGU9MUGL4vWd
 w0UYR9iLGS5HHAts2/RXNPWVeFwGrTpN106JcsQODhsmY3PwZQUsuXwDc9FUlOmhSk49
 CVXw==
X-Gm-Message-State: AC+VfDy11wGs4eHw4bKNqItMkHqCCOw8wuzAKwZtgu9xGxqQSdetWBkq
 YLHZQHivKjrZBHtR46svl2ZxHKEd0T7t9pi1P7eyxhL/f6kCYwLN5VKB6Q==
X-Google-Smtp-Source: ACHHUZ6Y1xjFM9boEmquwl+KaaqhEpgVvwVz3y4Hg048RSFVnliw68umNG3CcbY2Snl9u110sCbZV27cMcN8
X-Received: by 2002:a05:6a00:2287:b0:64b:205:dbf3 with SMTP id
 f7-20020a056a00228700b0064b0205dbf3mr1766726pfe.34.1684366602856; 
 Wed, 17 May 2023 16:36:42 -0700 (PDT)
Received: from postal.iol.unh.edu (postal.iol.unh.edu. [132.177.123.84])
 by smtp-relay.gmail.com with ESMTPS id
 m6-20020a632606000000b005308d1aeecdsm793053pgm.18.2023.05.17.16.36.42
 (version=TLS1_2 cipher=ECDHE-ECDSA-AES128-GCM-SHA256 bits=128/128);
 Wed, 17 May 2023 16:36:42 -0700 (PDT)
X-Relaying-Domain: iol.unh.edu
Date: Wed, 17 May 2023 16:36:42 -0700 (PDT)
Message-ID: <6465650a.630a0220.8c124.5d87SMTPIN_ADDED_MISSING@mx.google.com>
Received: from [172.17.0.2] (unknown [172.18.0.34])
 by postal.iol.unh.edu (Postfix) with ESMTP id 1C5B2605246B;
 Wed, 17 May 2023 19:36:42 -0400 (EDT)
Subject: |SUCCESS| pw126954-126957 [PATCH] [4/4] app/test: add rsa kat and
 pwct tests
From: dpdklab@iol.unh.edu
To: Test Report <test-report@dpdk.org>
Cc: dpdk-test-reports@iol.unh.edu
Content-Type: text/plain
X-BeenThere: test-report@dpdk.org
X-Mailman-Version: 2.1.29
Precedence: list
List-Id: automatic DPDK test reports <test-report.dpdk.org>
List-Unsubscribe: <https://mails.dpdk.org/options/test-report>,
 <mailto:test-report-request@dpdk.org?subject=unsubscribe>
List-Archive: <http://mails.dpdk.org/archives/test-report/>
List-Post: <mailto:test-report@dpdk.org>
List-Help: <mailto:test-report-request@dpdk.org?subject=help>
List-Subscribe: <https://mails.dpdk.org/listinfo/test-report>,
 <mailto:test-report-request@dpdk.org?subject=subscribe>
Errors-To: test-report-bounces@dpdk.org

Test-Label: iol-aarch64-unit-testing
Test-Status: SUCCESS
http://dpdk.org/patch/126957

_Testing PASS_

Submitter: Arek Kusztal <arkadiuszx.kusztal@intel.com>
Date: Wednesday, May 17 2023 21:19:00 
DPDK git baseline: Repo:dpdk
  Branch: master
  CommitID:a399d7b5a994e335c446d4b15d7622d71dd8848c

126954-126957 --> testing pass

Test environment and result as below:

+----------------------+---------------------------+------------------------------+--------------+
|     Environment      | cryptodev_sw_zuc_autotest | cryptodev_sw_snow3g_autotest | lpm_autotest |
+======================+===========================+==============================+==============+
| Debian 11            | PASS                      | PASS                         | SKIPPED      |
+----------------------+---------------------------+------------------------------+--------------+
| Ubuntu 20.04 ARM SVE | SKIPPED                   | SKIPPED                      | PASS         |
+----------------------+---------------------------+------------------------------+--------------+


Debian 11
	Kernel: Container Host Kernel
	Compiler: gcc 10.2.1

Ubuntu 20.04 ARM SVE
	Kernel: 5.4.0-80-generic
	Compiler: gcc 10.3.0 (Ubuntu 10.3.0-1ubuntu1~20.04)

To view detailed results, visit:
https://lab.dpdk.org/results/dashboard/patchsets/26268/

UNH-IOL DPDK Community Lab

To manage your email subscriptions, visit: 
https://lab.dpdk.org/results/dashboard/preferences/subscriptions/