From mboxrd@z Thu Jan  1 00:00:00 1970
Return-Path: <test-report-bounces@dpdk.org>
Received: from mails.dpdk.org (mails.dpdk.org [217.70.189.124])
	by inbox.dpdk.org (Postfix) with ESMTP id BA03B42B30
	for <public@inbox.dpdk.org>; Thu, 18 May 2023 03:02:04 +0200 (CEST)
Received: from mails.dpdk.org (localhost [127.0.0.1])
	by mails.dpdk.org (Postfix) with ESMTP id B706840698;
	Thu, 18 May 2023 03:02:04 +0200 (CEST)
Received: from mail-pf1-f226.google.com (mail-pf1-f226.google.com
 [209.85.210.226])
 by mails.dpdk.org (Postfix) with ESMTP id 8E93240698
 for <test-report@dpdk.org>; Thu, 18 May 2023 03:02:03 +0200 (CEST)
Received: by mail-pf1-f226.google.com with SMTP id
 d2e1a72fcca58-643995a47f7so1567489b3a.1
 for <test-report@dpdk.org>; Wed, 17 May 2023 18:02:03 -0700 (PDT)
DKIM-Signature: v=1; a=rsa-sha256; c=relaxed/relaxed;
 d=iol.unh.edu; s=unh-iol; t=1684371722; x=1686963722;
 h=cc:to:from:subject:message-id:date:from:to:cc:subject:date
 :message-id:reply-to;
 bh=DTyMqTjnOsTMxAsLDsXtGXxLVvP+rW+ePNBrbZXn2lE=;
 b=Th8z3kZ1g/bgF4eU94pn4SLfMuIJoiMvm11AQ+/Aw0iKzyqne+YKuLFb4ofP2aRllw
 2VsGvhR1Ztnp1qyYiqDSzT09cTirczcPwA/NZmAQZLIgfMC1SgKtroIjCf3JkYkL8dTZ
 0GrMDm34yPfHag1GZL2NfdD5Njxb4NifLiazY=
X-Google-DKIM-Signature: v=1; a=rsa-sha256; c=relaxed/relaxed;
 d=1e100.net; s=20221208; t=1684371722; x=1686963722;
 h=cc:to:from:subject:message-id:date:x-gm-message-state:from:to:cc
 :subject:date:message-id:reply-to;
 bh=DTyMqTjnOsTMxAsLDsXtGXxLVvP+rW+ePNBrbZXn2lE=;
 b=KGvvSKhMTAwCBH5W5cARqEYhD41T07M/Tf9NQVd+u9Q/Ps5iu4q6XPqSCSdXVXLJIQ
 my8YxilMFY3WMMugffKwu1aHJ7o5ake3p8lbp7U66csz/EsWc6O7vtVkh9tD6jqLu0bt
 38oVz5TZujJ/AffrQ8fllK7i4wygm6KQFGaZ6wwVvdfVXjr+e6H5lIi0UrYOkLUm+ITl
 3lmwKLitjdkmyA8325e+/itNK9OhStPdwZsl2Fdd7HqqKgs0lOEmMbwRZ3f1pStx38rB
 SZ4nMkFD9E3Bi/eJJMCpoGaks+XZPAD9BvqYskrYg0ndQXtxdwOO46ZIXgq2pWSHledE
 qMvQ==
X-Gm-Message-State: AC+VfDxh3t4YrR+hwZllxa3ZZE5+fP6SK3gSsJzSRnNqvA2SfYkLxlNz
 RX5o64u/aspzKeNJo4/Er1yx9AxExO9hGuNkJ3r5wP87dfPOYhN37xQROQ==
X-Google-Smtp-Source: ACHHUZ6i0Da+sJoIPB6YquaqcEOrlH6FjOoQX0cWA9fHCfqtTJp0I1WNABir4ap4JwVWSpnnDGVTNX+06z5H
X-Received: by 2002:a05:6a20:2d29:b0:f4:24e6:1065 with SMTP id
 g41-20020a056a202d2900b000f424e61065mr181252pzl.39.1684371722662; 
 Wed, 17 May 2023 18:02:02 -0700 (PDT)
Received: from postal.iol.unh.edu (postal.iol.unh.edu. [132.177.123.84])
 by smtp-relay.gmail.com with ESMTPS id
 y9-20020a63ce09000000b0053469740490sm4726pgf.12.2023.05.17.18.02.02
 (version=TLS1_2 cipher=ECDHE-ECDSA-AES128-GCM-SHA256 bits=128/128);
 Wed, 17 May 2023 18:02:02 -0700 (PDT)
X-Relaying-Domain: iol.unh.edu
Date: Wed, 17 May 2023 18:02:02 -0700 (PDT)
Message-ID: <6465790a.630a0220.62c25.063dSMTPIN_ADDED_MISSING@mx.google.com>
Received: from [172.17.0.2] (unknown [172.18.0.34])
 by postal.iol.unh.edu (Postfix) with ESMTP id E1174605246B;
 Wed, 17 May 2023 21:02:01 -0400 (EDT)
Subject: |SUCCESS| pw126962 [PATCH] drivers/net/bnx2x : Add experimental
 2.5Gbps support for BCM578xx.
From: dpdklab@iol.unh.edu
To: Test Report <test-report@dpdk.org>
Cc: dpdk-test-reports@iol.unh.edu
Content-Type: text/plain
X-BeenThere: test-report@dpdk.org
X-Mailman-Version: 2.1.29
Precedence: list
List-Id: automatic DPDK test reports <test-report.dpdk.org>
List-Unsubscribe: <https://mails.dpdk.org/options/test-report>,
 <mailto:test-report-request@dpdk.org?subject=unsubscribe>
List-Archive: <http://mails.dpdk.org/archives/test-report/>
List-Post: <mailto:test-report@dpdk.org>
List-Help: <mailto:test-report-request@dpdk.org?subject=help>
List-Subscribe: <https://mails.dpdk.org/listinfo/test-report>,
 <mailto:test-report-request@dpdk.org?subject=subscribe>
Errors-To: test-report-bounces@dpdk.org

Test-Label: iol-aarch64-unit-testing
Test-Status: SUCCESS
http://dpdk.org/patch/126962

_Testing PASS_

Submitter: None <julien_dpdk@jaube.fr>
Date: Wednesday, May 17 2023 23:16:56 
DPDK git baseline: Repo:dpdk
  Branch: master
  CommitID:a399d7b5a994e335c446d4b15d7622d71dd8848c

126962 --> testing pass

Test environment and result as below:

+----------------------+---------------------------+------------------------------+--------------+
|     Environment      | cryptodev_sw_zuc_autotest | cryptodev_sw_snow3g_autotest | lpm_autotest |
+======================+===========================+==============================+==============+
| Debian 11            | PASS                      | PASS                         | SKIPPED      |
+----------------------+---------------------------+------------------------------+--------------+
| Ubuntu 20.04 ARM SVE | SKIPPED                   | SKIPPED                      | PASS         |
+----------------------+---------------------------+------------------------------+--------------+


Debian 11
	Kernel: Container Host Kernel
	Compiler: gcc 10.2.1

Ubuntu 20.04 ARM SVE
	Kernel: 5.4.0-80-generic
	Compiler: gcc 10.3.0 (Ubuntu 10.3.0-1ubuntu1~20.04)

To view detailed results, visit:
https://lab.dpdk.org/results/dashboard/patchsets/26273/

UNH-IOL DPDK Community Lab

To manage your email subscriptions, visit: 
https://lab.dpdk.org/results/dashboard/preferences/subscriptions/