From mboxrd@z Thu Jan  1 00:00:00 1970
Return-Path: <test-report-bounces@dpdk.org>
Received: from mails.dpdk.org (mails.dpdk.org [217.70.189.124])
	by inbox.dpdk.org (Postfix) with ESMTP id 6EF2C42B30
	for <public@inbox.dpdk.org>; Thu, 18 May 2023 03:13:49 +0200 (CEST)
Received: from mails.dpdk.org (localhost [127.0.0.1])
	by mails.dpdk.org (Postfix) with ESMTP id 6BE2340698;
	Thu, 18 May 2023 03:13:49 +0200 (CEST)
Received: from mail-pf1-f226.google.com (mail-pf1-f226.google.com
 [209.85.210.226])
 by mails.dpdk.org (Postfix) with ESMTP id 88C3440698
 for <test-report@dpdk.org>; Thu, 18 May 2023 03:13:48 +0200 (CEST)
Received: by mail-pf1-f226.google.com with SMTP id
 d2e1a72fcca58-6434e263962so1142150b3a.2
 for <test-report@dpdk.org>; Wed, 17 May 2023 18:13:48 -0700 (PDT)
DKIM-Signature: v=1; a=rsa-sha256; c=relaxed/relaxed;
 d=iol.unh.edu; s=unh-iol; t=1684372427; x=1686964427;
 h=cc:to:from:subject:message-id:date:from:to:cc:subject:date
 :message-id:reply-to;
 bh=JAQ7CjMBw3lk/y7Rs04+XaYPro6LNCnkz28JWXzrrDo=;
 b=IHiUQOwN6wzqR/jbr6wWZNtMH+Wul9lAjHsrPpsxVGLa6pe1oeSwiOTwuUwGZWoz5A
 Y9eyF6L9n+bpqwVUjzytqjPzwQj/N06zS01EVvnM+cuugSeM/D0t8IJzabVj2SMHoZK5
 jFEUqeVwrlsB6fnfkUvK4FQ4WuPUuHDVTMkL8=
X-Google-DKIM-Signature: v=1; a=rsa-sha256; c=relaxed/relaxed;
 d=1e100.net; s=20221208; t=1684372427; x=1686964427;
 h=cc:to:from:subject:message-id:date:x-gm-message-state:from:to:cc
 :subject:date:message-id:reply-to;
 bh=JAQ7CjMBw3lk/y7Rs04+XaYPro6LNCnkz28JWXzrrDo=;
 b=Zx5QRSg0+uWN3ujbj1qN/oM+aOGSaxnTieZCYHRGnRsib5OZAhU7iHbZLEdaDISNL3
 B1HkGzhDrSMolAhA8NzgN+GZdQOjdK0N8/SIOKuVfcSOEzHekbOwz3fr+SKydQiNjifc
 cR1QZHnfvWdsGoWuN9S+8urgFIMO4YvyON7frmw8i3ptZ5m42aGBwfwWFXv8n2+2/scx
 FBArMawgw+3IxJYp57OotDpreYhHJpxC2Em/YjHM4cYvX4fOEGGvChTbhiSl8P8Wp+dM
 2n1OzLsL3q7Bqr0bt9p84AuFf3Wmlirfx5Ob80+x5eqYtKRgpRQ9LuUbJCPJH+ClKQMA
 D5Ow==
X-Gm-Message-State: AC+VfDzbMItl0ZzuZCN6VQK03Za5Q4Hc/6BoN/hlABasl7XtfFbcFpbF
 Dhw/zs6zATJh7yUq8+QIbm4q8FVks0+ZCUiujme76FBZTSB+3ZZJyT9M+PVwMb7S1lJhuhv/5w=
 =
X-Google-Smtp-Source: ACHHUZ5XRUg/c1NWxgQZz3UWrXKDWtWab8RrFhp6iw8vIPWeXlls++DXLREKBvLZdsaWWNCfgbO1tXx7G06E
X-Received: by 2002:a05:6a20:a581:b0:105:eded:537c with SMTP id
 bc1-20020a056a20a58100b00105eded537cmr228172pzb.37.1684372427683; 
 Wed, 17 May 2023 18:13:47 -0700 (PDT)
Received: from postal.iol.unh.edu (postal.iol.unh.edu.
 [2606:4100:3880:1234::84]) by smtp-relay.gmail.com with ESMTPS id
 a20-20020a63e414000000b0051b8deb2b5fsm4332pgi.11.2023.05.17.18.13.47
 (version=TLS1_2 cipher=ECDHE-ECDSA-AES128-GCM-SHA256 bits=128/128);
 Wed, 17 May 2023 18:13:47 -0700 (PDT)
X-Relaying-Domain: iol.unh.edu
Date: Wed, 17 May 2023 18:13:47 -0700 (PDT)
Message-ID: <64657bcb.630a0220.5e41.05ebSMTPIN_ADDED_MISSING@mx.google.com>
Received: from [172.17.0.2] (unknown [172.18.0.34])
 by postal.iol.unh.edu (Postfix) with ESMTP id EBEBD605246B;
 Wed, 17 May 2023 21:13:46 -0400 (EDT)
Subject: |SUCCESS| pw126962 [PATCH] drivers/net/bnx2x : Add experimental
 2.5Gbps support for BCM578xx.
From: dpdklab@iol.unh.edu
To: Test Report <test-report@dpdk.org>
Cc: dpdk-test-reports@iol.unh.edu
Content-Type: text/plain
X-BeenThere: test-report@dpdk.org
X-Mailman-Version: 2.1.29
Precedence: list
List-Id: automatic DPDK test reports <test-report.dpdk.org>
List-Unsubscribe: <https://mails.dpdk.org/options/test-report>,
 <mailto:test-report-request@dpdk.org?subject=unsubscribe>
List-Archive: <http://mails.dpdk.org/archives/test-report/>
List-Post: <mailto:test-report@dpdk.org>
List-Help: <mailto:test-report-request@dpdk.org?subject=help>
List-Subscribe: <https://mails.dpdk.org/listinfo/test-report>,
 <mailto:test-report-request@dpdk.org?subject=subscribe>
Errors-To: test-report-bounces@dpdk.org

Test-Label: iol-unit-testing
Test-Status: SUCCESS
http://dpdk.org/patch/126962

_Testing PASS_

Submitter: None <julien_dpdk@jaube.fr>
Date: Wednesday, May 17 2023 23:16:56 
DPDK git baseline: Repo:dpdk
  Branch: master
  CommitID:a399d7b5a994e335c446d4b15d7622d71dd8848c

126962 --> testing pass

Test environment and result as below:

+--------------------------+----------------+
|       Environment        | dpdk_unit_test |
+==========================+================+
| Fedora 36 (ARM)          | PASS           |
+--------------------------+----------------+
| CentOS Stream 9 (ARM)    | PASS           |
+--------------------------+----------------+
| Debian 11 (Buster) (ARM) | PASS           |
+--------------------------+----------------+
| Ubuntu 20.04 (ARM)       | PASS           |
+--------------------------+----------------+
| CentOS Stream 8          | PASS           |
+--------------------------+----------------+
| CentOS Stream 9          | PASS           |
+--------------------------+----------------+
| Debian Bullseye          | PASS           |
+--------------------------+----------------+
| Fedora 36 Clang (ARM)    | PASS           |
+--------------------------+----------------+
| Ubuntu 22.04             | PASS           |
+--------------------------+----------------+
| Debian Buster            | PASS           |
+--------------------------+----------------+
| RHEL 7                   | PASS           |
+--------------------------+----------------+
| RHEL8                    | PASS           |
+--------------------------+----------------+
| openSUSE Leap 15         | PASS           |
+--------------------------+----------------+
| Ubuntu 20.04             | PASS           |
+--------------------------+----------------+


Fedora 36 (ARM)
	Kernel: Container Host Kernel
	Compiler: gcc 12.2.1

CentOS Stream 9 (ARM)
	Kernel: Container Host Kernel
	Compiler: gcc 11.3.1

Debian 11 (Buster) (ARM)
	Kernel: Container Host Kernel
	Compiler: gcc 10.2.1

Ubuntu 20.04 (ARM)
	Kernel: Container Host Kernel
	Compiler: gcc 9.4.0

CentOS Stream 8
	Kernel: 4.18.0-240.10.1.el8_3.x86_64
	Compiler: gcc 8.4.1 20200928

CentOS Stream 9
	Kernel: 4.18.0-240.10.1.el8_3.x86_64
	Compiler: gcc 11.3.1 20220421

Debian Bullseye
	Kernel: 5.4.0-122-generic
	Compiler: gcc 10.2.1-6

Fedora 36 Clang (ARM)
	Kernel: Container Host Kernel
	Compiler: clang 14.0.5

Ubuntu 22.04
	Kernel: Container Host Kernel
	Compiler: gcc 11.3.1-2

Debian Buster
	Kernel: 5.4.0-122-generic
	Compiler: gcc 8.3.0-6

RHEL 7
	Kernel: 4.18.0-240.10.1.el8_3.x86_64
	Compiler: gcc 4.8.5 20150623 (Red Hat 4.8.5-44)

RHEL8
	Kernel: 4.18.0-240.10.1.el8_3.x86_64
	Compiler: gcc 8.3.1 20191121 (Red Hat 8.3.1-5)

openSUSE Leap 15
	Kernel: 4.18.0-240.10.1.el8_3.x86_64
	Compiler: gcc 7.5.0

Ubuntu 20.04
	Kernel: 4.18.0-240.10.1.el8_3.x86_64
	Compiler: gcc 9.3.0-17ubuntu1~20.04

To view detailed results, visit:
https://lab.dpdk.org/results/dashboard/patchsets/26273/

UNH-IOL DPDK Community Lab

To manage your email subscriptions, visit: 
https://lab.dpdk.org/results/dashboard/preferences/subscriptions/