From mboxrd@z Thu Jan  1 00:00:00 1970
Return-Path: <test-report-bounces@dpdk.org>
Received: from mails.dpdk.org (mails.dpdk.org [217.70.189.124])
	by inbox.dpdk.org (Postfix) with ESMTP id E355E42B30
	for <public@inbox.dpdk.org>; Thu, 18 May 2023 03:22:45 +0200 (CEST)
Received: from mails.dpdk.org (localhost [127.0.0.1])
	by mails.dpdk.org (Postfix) with ESMTP id E033F40698;
	Thu, 18 May 2023 03:22:45 +0200 (CEST)
Received: from mail-qk1-f226.google.com (mail-qk1-f226.google.com
 [209.85.222.226])
 by mails.dpdk.org (Postfix) with ESMTP id ABF8740698
 for <test-report@dpdk.org>; Thu, 18 May 2023 03:22:44 +0200 (CEST)
Received: by mail-qk1-f226.google.com with SMTP id
 af79cd13be357-757720be6abso79448485a.2
 for <test-report@dpdk.org>; Wed, 17 May 2023 18:22:44 -0700 (PDT)
DKIM-Signature: v=1; a=rsa-sha256; c=relaxed/relaxed;
 d=iol.unh.edu; s=unh-iol; t=1684372964; x=1686964964;
 h=cc:to:from:subject:message-id:date:from:to:cc:subject:date
 :message-id:reply-to;
 bh=WuFmZDTw/LmmJYPNp5G3YIOAnPZb1Qk81Rw6uBh7fho=;
 b=gJ+SpYq6eHZNHFchZ37XYCQbcXk6iWUG9lr4h9h34TZiWOssJv/7ODdWIp++XdTFoJ
 25ousfIbo+S48MQZvTvHtQrvdl8V48HGs9YTllHWsNFFosxwnFC3ukC+NlK5tUhGntFj
 /yXzVE9V4zp5/D36Z5ZdkC8HbtflXH/6iQN2M=
X-Google-DKIM-Signature: v=1; a=rsa-sha256; c=relaxed/relaxed;
 d=1e100.net; s=20221208; t=1684372964; x=1686964964;
 h=cc:to:from:subject:message-id:date:x-gm-message-state:from:to:cc
 :subject:date:message-id:reply-to;
 bh=WuFmZDTw/LmmJYPNp5G3YIOAnPZb1Qk81Rw6uBh7fho=;
 b=SjxFSm51XWWF1RVgbMJVFhq83IQwpGuZjK7v5LHn8vqBoFZTrSwnQeJkudvXih0kaG
 oPb0ME/7rGfHwiOMQhqZ343vIaBiQVj0a7Z5fw+CfJq8bVVkCyCQiGd0KsiQomNakS0i
 v7trpLYgxoCDOEn35KFHRxDbSd06tNObKSAvbu1V/mRRJIKdQ9iKoUFHcZyAAi/kyi5Z
 ZdjUue51qfnNf/1iwxKnU3mW31hhr4InvESxCWgQsyaAgm37wc41qcXe4mIBKsNRy+1c
 tsjA7pTxZ/a7qZQIJ/+W0Ss7KwipDyU1RCAvygeCqzgdoQmqStzhqctz9dnRPFYxnEiF
 sZIg==
X-Gm-Message-State: AC+VfDxey6GB+f4Xm7OxPrTz76pPNQSjGi79Z05vbqbVUfBnB3aMDqfu
 MJqU3t8jtVyzkLdB3Vo5bpwAW0KAV6qTGP79kMdCW/dZKmq/d10kLMAnj7xW9eRvSp0rtE+xyw=
 =
X-Google-Smtp-Source: ACHHUZ4tCyzOSzkCBPl2/CTPm8XlZ/UHi/LLcnXgTJ/+zulORjsVdOsFxyZ/GntC0eDYgKXxRCfe3QIjNp4D
X-Received: by 2002:a05:6214:27e5:b0:623:855a:9239 with SMTP id
 jt5-20020a05621427e500b00623855a9239mr2226257qvb.26.1684372964113; 
 Wed, 17 May 2023 18:22:44 -0700 (PDT)
Received: from postal.iol.unh.edu (postal.iol.unh.edu.
 [2606:4100:3880:1234::84]) by smtp-relay.gmail.com with ESMTPS id
 bm20-20020a05620a199400b007595a8d4d21sm9344qkb.2.2023.05.17.18.22.44
 (version=TLS1_2 cipher=ECDHE-ECDSA-AES128-GCM-SHA256 bits=128/128);
 Wed, 17 May 2023 18:22:44 -0700 (PDT)
X-Relaying-Domain: iol.unh.edu
Date: Wed, 17 May 2023 18:22:44 -0700 (PDT)
Message-ID: <64657de4.050a0220.15c22.099bSMTPIN_ADDED_MISSING@mx.google.com>
Received: from [172.17.0.2] (unknown [172.18.0.34])
 by postal.iol.unh.edu (Postfix) with ESMTP id C92A4605246B;
 Wed, 17 May 2023 21:22:43 -0400 (EDT)
Subject: |SUCCESS| pw126962 [PATCH] drivers/net/bnx2x : Add experimental
 2.5Gbps support for BCM578xx.
From: dpdklab@iol.unh.edu
To: Test Report <test-report@dpdk.org>
Cc: None <julien_dpdk@jaube.fr>
Content-Type: text/plain
X-BeenThere: test-report@dpdk.org
X-Mailman-Version: 2.1.29
Precedence: list
List-Id: automatic DPDK test reports <test-report.dpdk.org>
List-Unsubscribe: <https://mails.dpdk.org/options/test-report>,
 <mailto:test-report-request@dpdk.org?subject=unsubscribe>
List-Archive: <http://mails.dpdk.org/archives/test-report/>
List-Post: <mailto:test-report@dpdk.org>
List-Help: <mailto:test-report-request@dpdk.org?subject=help>
List-Subscribe: <https://mails.dpdk.org/listinfo/test-report>,
 <mailto:test-report-request@dpdk.org?subject=subscribe>
Errors-To: test-report-bounces@dpdk.org

Test-Label: iol-abi-testing
Test-Status: SUCCESS
http://dpdk.org/patch/126962

_Testing PASS_

Submitter: None <julien_dpdk@jaube.fr>
Date: Wednesday, May 17 2023 23:16:56 
DPDK git baseline: Repo:dpdk
  Branch: master
  CommitID:a399d7b5a994e335c446d4b15d7622d71dd8848c

126962 --> testing pass

Test environment and result as below:

+-----------------+----------+
|   Environment   | abi_test |
+=================+==========+
| CentOS Stream 8 | PASS     |
+-----------------+----------+
| Ubuntu 22.04    | PASS     |
+-----------------+----------+
| RHEL 7          | PASS     |
+-----------------+----------+
| CentOS Stream 9 | PASS     |
+-----------------+----------+
| Debian Bullseye | PASS     |
+-----------------+----------+


CentOS Stream 8
	Kernel: 4.18.0-240.10.1.el8_3.x86_64
	Compiler: gcc 8.4.1 20200928

Ubuntu 22.04
	Kernel: Container Host Kernel
	Compiler: gcc 12.2.1-2

RHEL 7
	Kernel: 4.18.0-240.10.1.el8_3.x86_64
	Compiler: gcc 4.8.5 20150623 (Red Hat 4.8.5-44)

CentOS Stream 9
	Kernel: 4.18.0-240.10.1.el8_3.x86_64
	Compiler: gcc 11.3.1 20220421

Debian Bullseye
	Kernel: 5.4.0-122-generic
	Compiler: gcc 10.2.1-6

To view detailed results, visit:
https://lab.dpdk.org/results/dashboard/patchsets/26273/

UNH-IOL DPDK Community Lab

To manage your email subscriptions, visit: 
https://lab.dpdk.org/results/dashboard/preferences/subscriptions/