From mboxrd@z Thu Jan  1 00:00:00 1970
Return-Path: <test-report-bounces@dpdk.org>
Received: from mails.dpdk.org (mails.dpdk.org [217.70.189.124])
	by inbox.dpdk.org (Postfix) with ESMTP id A894142B30
	for <public@inbox.dpdk.org>; Thu, 18 May 2023 03:50:06 +0200 (CEST)
Received: from mails.dpdk.org (localhost [127.0.0.1])
	by mails.dpdk.org (Postfix) with ESMTP id A69DD40E25;
	Thu, 18 May 2023 03:50:06 +0200 (CEST)
Received: from mail-il1-f228.google.com (mail-il1-f228.google.com
 [209.85.166.228])
 by mails.dpdk.org (Postfix) with ESMTP id F11BF40E25
 for <test-report@dpdk.org>; Thu, 18 May 2023 03:50:04 +0200 (CEST)
Received: by mail-il1-f228.google.com with SMTP id
 e9e14a558f8ab-338516ea11aso1665655ab.3
 for <test-report@dpdk.org>; Wed, 17 May 2023 18:50:04 -0700 (PDT)
DKIM-Signature: v=1; a=rsa-sha256; c=relaxed/relaxed;
 d=iol.unh.edu; s=unh-iol; t=1684374604; x=1686966604;
 h=cc:to:from:subject:message-id:date:from:to:cc:subject:date
 :message-id:reply-to;
 bh=CXuvOv8WyJXVIuJyeL1Xn8p5tDM5ORxhb+9q/8hjlqg=;
 b=DTetFrbJ9akzGXH/+FAE/IHmuOdFs0uZ/7qnv23e3wRBo5bJAR6QqfF4hfk9yIDV1C
 ER95ecUYi4//3VzbmpoHIEkjgStzNVd/d3LljJ650uUwXnk04B9s/asBoz0md3DbKo4a
 tghK5y3rZLzrOF5CoBvPZ+9FcuumzohYSfjSc=
X-Google-DKIM-Signature: v=1; a=rsa-sha256; c=relaxed/relaxed;
 d=1e100.net; s=20221208; t=1684374604; x=1686966604;
 h=cc:to:from:subject:message-id:date:x-gm-message-state:from:to:cc
 :subject:date:message-id:reply-to;
 bh=CXuvOv8WyJXVIuJyeL1Xn8p5tDM5ORxhb+9q/8hjlqg=;
 b=DImS5nbbUaKdvOLliNgghKBG+aril52T6OgJQBRE4vw/xzxV0+l0nuCkCeq6BC9IMz
 YKeydd/bgz2FZEGVKiTW00wj1tgMDOg52qJgPGY1gWaB2m0J74N3K1lEUS+MWa+E4Ct2
 nMnhfCIsiT/cKgFfv/R3rzhv+JVH9goOgCdJ9eQPqFvXcHX9/BG4CAyUqZfvW3oOrKY8
 9CV6hGcQNUUmSt6UFghhFg4MXCQt+QYhY5x7VW0NLEZ4NQerfEipdrLwF/JiOTOXxf1a
 YbFuFQnez85QxKms93VXPj3Hf/VyVQ5OosX5XOpwn4xBguOUbJ5RijJpzNDMGLVPclCu
 DZJw==
X-Gm-Message-State: AC+VfDzjKEzGy3GklX2wKktNEySfrnYPnhULhEzwOiAOrqeU0GLyj52+
 0ilCJzz8+07SXafpQrcSrL3Zx7Fx9ZQT6drh5U7LQoAQfdwyQBnlS4EliAeKon0UwZZUqm+uvg=
 =
X-Google-Smtp-Source: ACHHUZ42CAyqXlHsmUZP9qbF8YPbFwq7qKV6gTdG3t0UJrDh9QBd509JQt+X1i6B8IaWU3NTKbJSqgmrK/S2
X-Received: by 2002:a92:c0d1:0:b0:338:2004:b137 with SMTP id
 t17-20020a92c0d1000000b003382004b137mr3396356ilf.1.1684374604373; 
 Wed, 17 May 2023 18:50:04 -0700 (PDT)
Received: from postal.iol.unh.edu (postal.iol.unh.edu.
 [2606:4100:3880:1234::84]) by smtp-relay.gmail.com with ESMTPS id
 w13-20020a92db4d000000b0033864e42704sm5150ilq.11.2023.05.17.18.50.04
 (version=TLS1_2 cipher=ECDHE-ECDSA-AES128-GCM-SHA256 bits=128/128);
 Wed, 17 May 2023 18:50:04 -0700 (PDT)
X-Relaying-Domain: iol.unh.edu
Date: Wed, 17 May 2023 18:50:04 -0700 (PDT)
Message-ID: <6465844c.920a0220.daf3d.06c8SMTPIN_ADDED_MISSING@mx.google.com>
Received: from [172.17.0.2] (unknown [172.18.0.34])
 by postal.iol.unh.edu (Postfix) with ESMTP id E8AC2605246B;
 Wed, 17 May 2023 21:50:03 -0400 (EDT)
Subject: |SUCCESS| pw126964 [PATCH] [v2] drivers/net/bnx2x : Add experimental
 2.5Gbps support for BCM578xx.
From: dpdklab@iol.unh.edu
To: Test Report <test-report@dpdk.org>
Cc: dpdk-test-reports@iol.unh.edu
Content-Type: text/plain
X-BeenThere: test-report@dpdk.org
X-Mailman-Version: 2.1.29
Precedence: list
List-Id: automatic DPDK test reports <test-report.dpdk.org>
List-Unsubscribe: <https://mails.dpdk.org/options/test-report>,
 <mailto:test-report-request@dpdk.org?subject=unsubscribe>
List-Archive: <http://mails.dpdk.org/archives/test-report/>
List-Post: <mailto:test-report@dpdk.org>
List-Help: <mailto:test-report-request@dpdk.org?subject=help>
List-Subscribe: <https://mails.dpdk.org/listinfo/test-report>,
 <mailto:test-report-request@dpdk.org?subject=subscribe>
Errors-To: test-report-bounces@dpdk.org

Test-Label: iol-unit-testing
Test-Status: SUCCESS
http://dpdk.org/patch/126964

_Testing PASS_

Submitter: None <julien_dpdk@jaube.fr>
Date: Thursday, May 18 2023 00:01:11 
DPDK git baseline: Repo:dpdk
  Branch: master
  CommitID:a399d7b5a994e335c446d4b15d7622d71dd8848c

126964 --> testing pass

Test environment and result as below:

+--------------------------+----------------+
|       Environment        | dpdk_unit_test |
+==========================+================+
| CentOS Stream 9 (ARM)    | PASS           |
+--------------------------+----------------+
| Fedora 36 (ARM)          | PASS           |
+--------------------------+----------------+
| Debian 11 (Buster) (ARM) | PASS           |
+--------------------------+----------------+
| Ubuntu 20.04 (ARM)       | PASS           |
+--------------------------+----------------+
| Fedora 36 Clang (ARM)    | PASS           |
+--------------------------+----------------+
| Ubuntu 22.04             | PASS           |
+--------------------------+----------------+
| Debian Bullseye          | PASS           |
+--------------------------+----------------+
| CentOS Stream 8          | PASS           |
+--------------------------+----------------+
| CentOS Stream 9          | PASS           |
+--------------------------+----------------+
| Debian Buster            | PASS           |
+--------------------------+----------------+
| openSUSE Leap 15         | PASS           |
+--------------------------+----------------+
| RHEL8                    | PASS           |
+--------------------------+----------------+
| RHEL 7                   | PASS           |
+--------------------------+----------------+
| Ubuntu 20.04             | PASS           |
+--------------------------+----------------+


CentOS Stream 9 (ARM)
	Kernel: Container Host Kernel
	Compiler: gcc 11.3.1

Fedora 36 (ARM)
	Kernel: Container Host Kernel
	Compiler: gcc 12.2.1

Debian 11 (Buster) (ARM)
	Kernel: Container Host Kernel
	Compiler: gcc 10.2.1

Ubuntu 20.04 (ARM)
	Kernel: Container Host Kernel
	Compiler: gcc 9.4.0

Fedora 36 Clang (ARM)
	Kernel: Container Host Kernel
	Compiler: clang 14.0.5

Ubuntu 22.04
	Kernel: Container Host Kernel
	Compiler: gcc 11.3.1-2

Debian Bullseye
	Kernel: 5.4.0-122-generic
	Compiler: gcc 10.2.1-6

CentOS Stream 8
	Kernel: 4.18.0-240.10.1.el8_3.x86_64
	Compiler: gcc 8.4.1 20200928

CentOS Stream 9
	Kernel: 4.18.0-240.10.1.el8_3.x86_64
	Compiler: gcc 11.3.1 20220421

Debian Buster
	Kernel: 5.4.0-122-generic
	Compiler: gcc 8.3.0-6

openSUSE Leap 15
	Kernel: 4.18.0-240.10.1.el8_3.x86_64
	Compiler: gcc 7.5.0

RHEL8
	Kernel: 4.18.0-240.10.1.el8_3.x86_64
	Compiler: gcc 8.3.1 20191121 (Red Hat 8.3.1-5)

RHEL 7
	Kernel: 4.18.0-240.10.1.el8_3.x86_64
	Compiler: gcc 4.8.5 20150623 (Red Hat 4.8.5-44)

Ubuntu 20.04
	Kernel: 4.18.0-240.10.1.el8_3.x86_64
	Compiler: gcc 9.3.0-17ubuntu1~20.04

To view detailed results, visit:
https://lab.dpdk.org/results/dashboard/patchsets/26275/

UNH-IOL DPDK Community Lab

To manage your email subscriptions, visit: 
https://lab.dpdk.org/results/dashboard/preferences/subscriptions/