From mboxrd@z Thu Jan  1 00:00:00 1970
Return-Path: <test-report-bounces@dpdk.org>
Received: from mails.dpdk.org (mails.dpdk.org [217.70.189.124])
	by inbox.dpdk.org (Postfix) with ESMTP id 04DC242B30
	for <public@inbox.dpdk.org>; Thu, 18 May 2023 03:52:10 +0200 (CEST)
Received: from mails.dpdk.org (localhost [127.0.0.1])
	by mails.dpdk.org (Postfix) with ESMTP id DFFF440E25;
	Thu, 18 May 2023 03:52:10 +0200 (CEST)
Received: from mail-il1-f227.google.com (mail-il1-f227.google.com
 [209.85.166.227])
 by mails.dpdk.org (Postfix) with ESMTP id 6B7FA40E25
 for <test-report@dpdk.org>; Thu, 18 May 2023 03:52:09 +0200 (CEST)
Received: by mail-il1-f227.google.com with SMTP id
 e9e14a558f8ab-3352b8b9b70so24550985ab.0
 for <test-report@dpdk.org>; Wed, 17 May 2023 18:52:09 -0700 (PDT)
DKIM-Signature: v=1; a=rsa-sha256; c=relaxed/relaxed;
 d=iol.unh.edu; s=unh-iol; t=1684374729; x=1686966729;
 h=cc:to:from:subject:message-id:date:from:to:cc:subject:date
 :message-id:reply-to;
 bh=/l+QJrcnZbs3/+RNtGYIhwVzw1HWRvRkRLEvwVvY8Wk=;
 b=IM+XnsyGxeUGTsVInti4YI4h2gqpYSOmIFvICaWild7LAapJzR1izSdzZu+DUeZhXV
 8HKBC99vcZexyP117Xm7Vcan+qnLYD5i3IkuqQYQHUZqn1eaFdEGu3PAyMc5YlcyiGpt
 Hm/2n7esguwmebKowWBK6QvkhwGAhZh67XVz0=
X-Google-DKIM-Signature: v=1; a=rsa-sha256; c=relaxed/relaxed;
 d=1e100.net; s=20221208; t=1684374729; x=1686966729;
 h=cc:to:from:subject:message-id:date:x-gm-message-state:from:to:cc
 :subject:date:message-id:reply-to;
 bh=/l+QJrcnZbs3/+RNtGYIhwVzw1HWRvRkRLEvwVvY8Wk=;
 b=Sg0PT4/SysJelNiCS9Reh6jDP5yyfrWqlOJDsFsN1m82SSXyC3Ch+AHLipGiMrPYtj
 lKtmUyEBDY5enJUlo9rIO9SXSpznVMhFQz1dDVFUQge+kTy3OAdKrwnFtaN451/xsEsR
 Qb+F25BD/49pYhKlTXHqFj2S7ymMAM30dC0uco4fQI3/tpjxyblwUinxY5q0QEEFeSxJ
 Q29KOnD5J8gfoF2ugONhrPJkLj2B/ZrxjuEYPi5GMvDoYKoKhL0zfFCaMconN3uEqsiD
 LySgM04OQNnrx9ztqwih07osquUWgyHf+i3W7AseMs2TYUd7XLbggNRLMWzeEeiMdFDE
 04jg==
X-Gm-Message-State: AC+VfDz3tqHiAi52MlR/SNEv7L5MWYnQBMbXoRR1zOhFYCDjZ0KiCkqN
 vl9z/3ZoC/Wxt52Ii51oS9vfZEP2x/3KS2l5qLZxbfmlommEhei4M4N+xw==
X-Google-Smtp-Source: ACHHUZ50Kh59kNGtSyVv8kbf/XzBcaffmNB0hODjaJ53TIUujwk+qNy4zYn5U6kB145ZL5ISRUbF5cmmjzqZ
X-Received: by 2002:a05:6e02:20e2:b0:335:e48:e7ec with SMTP id
 q2-20020a056e0220e200b003350e48e7ecmr3054647ilv.7.1684374728807; 
 Wed, 17 May 2023 18:52:08 -0700 (PDT)
Received: from postal.iol.unh.edu (postal.iol.unh.edu. [132.177.123.84])
 by smtp-relay.gmail.com with ESMTPS id
 c9-20020a92cf09000000b0033591c27135sm4729ilo.43.2023.05.17.18.52.08
 (version=TLS1_2 cipher=ECDHE-ECDSA-AES128-GCM-SHA256 bits=128/128);
 Wed, 17 May 2023 18:52:08 -0700 (PDT)
X-Relaying-Domain: iol.unh.edu
Date: Wed, 17 May 2023 18:52:08 -0700 (PDT)
Message-ID: <646584c8.920a0220.a9a03.0663SMTPIN_ADDED_MISSING@mx.google.com>
Received: from [172.17.0.2] (unknown [172.18.0.34])
 by postal.iol.unh.edu (Postfix) with ESMTP id 4DEAA605246B;
 Wed, 17 May 2023 21:52:08 -0400 (EDT)
Subject: |SUCCESS| pw126962 [PATCH] drivers/net/bnx2x : Add experimental
 2.5Gbps support for BCM578xx.
From: dpdklab@iol.unh.edu
To: Test Report <test-report@dpdk.org>
Cc: dpdk-test-reports@iol.unh.edu
Content-Type: text/plain
X-BeenThere: test-report@dpdk.org
X-Mailman-Version: 2.1.29
Precedence: list
List-Id: automatic DPDK test reports <test-report.dpdk.org>
List-Unsubscribe: <https://mails.dpdk.org/options/test-report>,
 <mailto:test-report-request@dpdk.org?subject=unsubscribe>
List-Archive: <http://mails.dpdk.org/archives/test-report/>
List-Post: <mailto:test-report@dpdk.org>
List-Help: <mailto:test-report-request@dpdk.org?subject=help>
List-Subscribe: <https://mails.dpdk.org/listinfo/test-report>,
 <mailto:test-report-request@dpdk.org?subject=subscribe>
Errors-To: test-report-bounces@dpdk.org

Test-Label: iol-abi-testing
Test-Status: SUCCESS
http://dpdk.org/patch/126962

_Testing PASS_

Submitter: None <julien_dpdk@jaube.fr>
Date: Wednesday, May 17 2023 23:16:56 
DPDK git baseline: Repo:dpdk
  Branch: master
  CommitID:a399d7b5a994e335c446d4b15d7622d71dd8848c

126962 --> testing pass

Test environment and result as below:

+------------------+----------+
|   Environment    | abi_test |
+==================+==========+
| CentOS Stream 8  | PASS     |
+------------------+----------+
| Ubuntu 22.04     | PASS     |
+------------------+----------+
| RHEL 7           | PASS     |
+------------------+----------+
| CentOS Stream 9  | PASS     |
+------------------+----------+
| Debian Bullseye  | PASS     |
+------------------+----------+
| Debian Buster    | PASS     |
+------------------+----------+
| openSUSE Leap 15 | PASS     |
+------------------+----------+
| RHEL8            | PASS     |
+------------------+----------+


CentOS Stream 8
	Kernel: 4.18.0-240.10.1.el8_3.x86_64
	Compiler: gcc 8.4.1 20200928

Ubuntu 22.04
	Kernel: Container Host Kernel
	Compiler: gcc 12.2.1-2

RHEL 7
	Kernel: 4.18.0-240.10.1.el8_3.x86_64
	Compiler: gcc 4.8.5 20150623 (Red Hat 4.8.5-44)

CentOS Stream 9
	Kernel: 4.18.0-240.10.1.el8_3.x86_64
	Compiler: gcc 11.3.1 20220421

Debian Bullseye
	Kernel: 5.4.0-122-generic
	Compiler: gcc 10.2.1-6

Debian Buster
	Kernel: 5.4.0-122-generic
	Compiler: gcc 8.3.0-6

openSUSE Leap 15
	Kernel: 4.18.0-240.10.1.el8_3.x86_64
	Compiler: gcc 7.5.0

RHEL8
	Kernel: 4.18.0-240.10.1.el8_3.x86_64
	Compiler: gcc 8.3.1 20191121 (Red Hat 8.3.1-5)

To view detailed results, visit:
https://lab.dpdk.org/results/dashboard/patchsets/26273/

UNH-IOL DPDK Community Lab

To manage your email subscriptions, visit: 
https://lab.dpdk.org/results/dashboard/preferences/subscriptions/