From mboxrd@z Thu Jan  1 00:00:00 1970
Return-Path: <test-report-bounces@dpdk.org>
Received: from mails.dpdk.org (mails.dpdk.org [217.70.189.124])
	by inbox.dpdk.org (Postfix) with ESMTP id 6CA4742B31
	for <public@inbox.dpdk.org>; Thu, 18 May 2023 04:30:28 +0200 (CEST)
Received: from mails.dpdk.org (localhost [127.0.0.1])
	by mails.dpdk.org (Postfix) with ESMTP id 685B040E25;
	Thu, 18 May 2023 04:30:28 +0200 (CEST)
Received: from mail-pj1-f100.google.com (mail-pj1-f100.google.com
 [209.85.216.100])
 by mails.dpdk.org (Postfix) with ESMTP id E29E740E25
 for <test-report@dpdk.org>; Thu, 18 May 2023 04:30:27 +0200 (CEST)
Received: by mail-pj1-f100.google.com with SMTP id
 98e67ed59e1d1-25367154308so38206a91.1
 for <test-report@dpdk.org>; Wed, 17 May 2023 19:30:27 -0700 (PDT)
DKIM-Signature: v=1; a=rsa-sha256; c=relaxed/relaxed;
 d=iol.unh.edu; s=unh-iol; t=1684377027; x=1686969027;
 h=cc:to:from:subject:message-id:date:from:to:cc:subject:date
 :message-id:reply-to;
 bh=LVHqQt5bLOEzYtDBXhrJIaRnYWydwWwqh/p9ts6nydA=;
 b=KZgEfn4rl13HPX4WRYaKPglzPEYAAUFpyyUgJCduaPc684HXH34g/BHD65zsJ8U/2E
 dXwnG5jfCjKEiIS8QFejBDHb0OkKo1hRURC/3e28dxH3jhSudOUHaffiApzkkt93AoA1
 FFzU9d1BaDbx0qqV8rdldJFRtkJGq0kYiLFsY=
X-Google-DKIM-Signature: v=1; a=rsa-sha256; c=relaxed/relaxed;
 d=1e100.net; s=20221208; t=1684377027; x=1686969027;
 h=cc:to:from:subject:message-id:date:x-gm-message-state:from:to:cc
 :subject:date:message-id:reply-to;
 bh=LVHqQt5bLOEzYtDBXhrJIaRnYWydwWwqh/p9ts6nydA=;
 b=a9SNIPJzQneqxhF/lNdIHHLHqrf+UJd7ZJL+Z3I+KZkhkLNebqhYRMvuSL/WLpCCIN
 qkCHERH0ty0CJ+UV4uxpXxCywVQ0JnX23YOHhncuEERSWk/LaqqVlCcfxWUDd45CH9ME
 jWHlRjuFmYR9oPAPQcRNl00fQe+oooSRo482SIw8zQXm59dj631TfEdRfmGcFAIIbCq/
 CxVJtAXOx90ihScmQG8qO64FACZNTi2jmO1FQdAxVdu9GnFiZZ0d1KLgmtG/l8kku0rq
 P6rwM5K5RoDah4srNzqwZnb9ADD9bGrlwVys/E/UoZlrwvmGxRyIlYh1gTfODvx0uqtU
 DBkw==
X-Gm-Message-State: AC+VfDy4XLYQo9j6m1MKcj5ibGVicfmVQ5bM4P7j+006Nyvdxmcqee6/
 FXPMgW2GBf6qPg8E+bvSGWfEk4iEDTp+BO6rXdkGZur1olwQ2cfHBs7uXw==
X-Google-Smtp-Source: ACHHUZ6StDINPzrOXQv3zZEIAIkDQCro+JmcQ6NLfXE9RB9lUypDTGOvQzqTO5irQS9uohLm6l6VIm/2krZx
X-Received: by 2002:a17:90a:178c:b0:253:5605:ddd9 with SMTP id
 q12-20020a17090a178c00b002535605ddd9mr836705pja.35.1684377027100; 
 Wed, 17 May 2023 19:30:27 -0700 (PDT)
Received: from postal.iol.unh.edu (postal.iol.unh.edu. [132.177.123.84])
 by smtp-relay.gmail.com with ESMTPS id
 on15-20020a17090b1d0f00b002330dc6ac63sm45800pjb.8.2023.05.17.19.30.26
 (version=TLS1_2 cipher=ECDHE-ECDSA-AES128-GCM-SHA256 bits=128/128);
 Wed, 17 May 2023 19:30:27 -0700 (PDT)
X-Relaying-Domain: iol.unh.edu
Date: Wed, 17 May 2023 19:30:27 -0700 (PDT)
Message-ID: <64658dc3.170a0220.97d49.1b63SMTPIN_ADDED_MISSING@mx.google.com>
Received: from [172.17.0.2] (unknown [172.18.0.34])
 by postal.iol.unh.edu (Postfix) with ESMTP id 59CCB605246B;
 Wed, 17 May 2023 22:30:26 -0400 (EDT)
Subject: |SUCCESS| pw126964 [PATCH] [v2] drivers/net/bnx2x : Add experimental
 2.5Gbps support for BCM578xx.
From: dpdklab@iol.unh.edu
To: Test Report <test-report@dpdk.org>
Cc: dpdk-test-reports@iol.unh.edu
Content-Type: text/plain
X-BeenThere: test-report@dpdk.org
X-Mailman-Version: 2.1.29
Precedence: list
List-Id: automatic DPDK test reports <test-report.dpdk.org>
List-Unsubscribe: <https://mails.dpdk.org/options/test-report>,
 <mailto:test-report-request@dpdk.org?subject=unsubscribe>
List-Archive: <http://mails.dpdk.org/archives/test-report/>
List-Post: <mailto:test-report@dpdk.org>
List-Help: <mailto:test-report-request@dpdk.org?subject=help>
List-Subscribe: <https://mails.dpdk.org/listinfo/test-report>,
 <mailto:test-report-request@dpdk.org?subject=subscribe>
Errors-To: test-report-bounces@dpdk.org

Test-Label: iol-aarch64-compile-testing
Test-Status: SUCCESS
http://dpdk.org/patch/126964

_Testing PASS_

Submitter: None <julien_dpdk@jaube.fr>
Date: Thursday, May 18 2023 00:01:11 
DPDK git baseline: Repo:dpdk
  Branch: master
  CommitID:a399d7b5a994e335c446d4b15d7622d71dd8848c

126964 --> testing pass

Test environment and result as below:

+----------------------------------------+--------------------+
|              Environment               | dpdk_meson_compile |
+========================================+====================+
| Ubuntu 20.04 ARM Clang Native          | PASS               |
+----------------------------------------+--------------------+
| Ubuntu 20.04 ARM GCC Native            | PASS               |
+----------------------------------------+--------------------+
| Ubuntu 20.04 ARM GCC Cross Compile     | PASS               |
+----------------------------------------+--------------------+
| Ubuntu 20.04 aarch32 GCC Cross Compile | PASS               |
+----------------------------------------+--------------------+
| Ubuntu 20.04 ARM Clang Cross Compile   | PASS               |
+----------------------------------------+--------------------+
| Ubuntu 20.04 ARM SVE                   | PASS               |
+----------------------------------------+--------------------+


Ubuntu 20.04 ARM Clang Native
	Kernel: 5.4.0-53-generic
	Compiler: clang 10.0.0-4ubuntu1

Ubuntu 20.04 ARM GCC Native
	Kernel: 5.4.0-53-generic
	Compiler: gcc 9.3

Ubuntu 20.04 ARM GCC Cross Compile
	Kernel: 5.4.0-72-generic
	Compiler: aarch64-linux-gnu-gcc (Ubuntu 9.3.0-17ubuntu1~20.04) 9.3.0

Ubuntu 20.04 aarch32 GCC Cross Compile
	Kernel: 5.4.0-72-generic
	Compiler: gcc 9.3.0

Ubuntu 20.04 ARM Clang Cross Compile
	Kernel: 5.4.0-72-generic
	Compiler: clang version 10.0.0-4ubuntu1

Ubuntu 20.04 ARM SVE
	Kernel: 5.4.0-80-generic
	Compiler: gcc 10.3.0 (Ubuntu 10.3.0-1ubuntu1~20.04)

To view detailed results, visit:
https://lab.dpdk.org/results/dashboard/patchsets/26275/

UNH-IOL DPDK Community Lab

To manage your email subscriptions, visit: 
https://lab.dpdk.org/results/dashboard/preferences/subscriptions/