From mboxrd@z Thu Jan  1 00:00:00 1970
Return-Path: <test-report-bounces@dpdk.org>
Received: from mails.dpdk.org (mails.dpdk.org [217.70.189.124])
	by inbox.dpdk.org (Postfix) with ESMTP id AE4A442B31
	for <public@inbox.dpdk.org>; Thu, 18 May 2023 05:58:34 +0200 (CEST)
Received: from mails.dpdk.org (localhost [127.0.0.1])
	by mails.dpdk.org (Postfix) with ESMTP id AAC2E42B71;
	Thu, 18 May 2023 05:58:34 +0200 (CEST)
Received: from mail-qv1-f98.google.com (mail-qv1-f98.google.com
 [209.85.219.98]) by mails.dpdk.org (Postfix) with ESMTP id 34E1B42B71
 for <test-report@dpdk.org>; Thu, 18 May 2023 05:58:34 +0200 (CEST)
Received: by mail-qv1-f98.google.com with SMTP id
 6a1803df08f44-6237c957c5aso6412286d6.2
 for <test-report@dpdk.org>; Wed, 17 May 2023 20:58:34 -0700 (PDT)
DKIM-Signature: v=1; a=rsa-sha256; c=relaxed/relaxed;
 d=iol.unh.edu; s=unh-iol; t=1684382313; x=1686974313;
 h=cc:to:from:subject:message-id:date:from:to:cc:subject:date
 :message-id:reply-to;
 bh=oDAdm8rwoLn05Jxr87x10g5bnhWoWEWy0BOqVLlCVrk=;
 b=goc9rStaMyFVZDzL6AiU0wjy9k/TPpv741RlMM5egvn068m/MJr6Zzt60O9cPoFAuM
 lVFIQHMRVyJIBbqbjG+byIOR1+SXZxh/YKhk5b1X9+h6iOps1aL/sSl4dxMcuAPNb1ZF
 wQnIc+At5wfn30BzGBnkammePYe3GDNpQr0rM=
X-Google-DKIM-Signature: v=1; a=rsa-sha256; c=relaxed/relaxed;
 d=1e100.net; s=20221208; t=1684382313; x=1686974313;
 h=cc:to:from:subject:message-id:date:x-gm-message-state:from:to:cc
 :subject:date:message-id:reply-to;
 bh=oDAdm8rwoLn05Jxr87x10g5bnhWoWEWy0BOqVLlCVrk=;
 b=i2a9Thx7y/Rupwbf+Dk/r0cHHbSc/jCuIFqSZiKcEbn/SrmqdqndVAlg1ZfyJqes/t
 24gMeVJK+ZQsr/qAWIwupRqMQOVKcXVbnw8bmDHIZXi63ktOlheABSJAFwCwBGTemGSA
 pt1BhR5t2ft+FtOTvrZQv9IOjvK05hzJFx92lTZyqexNNHNadZFpWEPrEOsE7VrJhgLy
 cUzvRFEWIRNyKLIY4BpskZUqfVSbM+EtAC52YO1VUn6LG5Oh5SYeysNmI8xR/3t03IlT
 QgDM9CB18m/hEpPd3HEMbwgQj1R60W9256n0/xOeGYrEpUBRB10qMyA/e8xzDLvzbzA6
 wVmA==
X-Gm-Message-State: AC+VfDylfzf1CXQ0sRCt/69215TzSYZ/BL2js4PzbjDYGwctILrNEp4E
 yU7ilsoDRvuQwLXXLeTUtr514KRxzRrWopxXjYhj8tPbBLJau2TfXeN+WrxXVv95dQK2Cts5zg=
 =
X-Google-Smtp-Source: ACHHUZ795gFAu1PghhJilLJholzHhy1np7PXgyLVuxu2QgBYLt8CDIet8RBN5/pE1JHQy/jYkJPlTwGTXns3
X-Received: by 2002:a05:6214:1c48:b0:623:82ae:8a5a with SMTP id
 if8-20020a0562141c4800b0062382ae8a5amr3865263qvb.8.1684382313680; 
 Wed, 17 May 2023 20:58:33 -0700 (PDT)
Received: from postal.iol.unh.edu (postal.iol.unh.edu.
 [2606:4100:3880:1234::84]) by smtp-relay.gmail.com with ESMTPS id
 k1-20020a0cabc1000000b005dd8b74ba17sm34915qvb.71.2023.05.17.20.58.33
 (version=TLS1_2 cipher=ECDHE-ECDSA-AES128-GCM-SHA256 bits=128/128);
 Wed, 17 May 2023 20:58:33 -0700 (PDT)
X-Relaying-Domain: iol.unh.edu
Date: Wed, 17 May 2023 20:58:33 -0700 (PDT)
Message-ID: <6465a269.0c0a0220.67dc3.18e7SMTPIN_ADDED_MISSING@mx.google.com>
Received: from [172.17.0.3] (unknown [172.18.0.34])
 by postal.iol.unh.edu (Postfix) with ESMTP id 656EA605246B;
 Wed, 17 May 2023 23:58:33 -0400 (EDT)
Subject: |SUCCESS| pw126963 [PATCH] [v2] app/test-pmd : Add 2.5Gbps and 5Gbps
 support to test-pmd
From: dpdklab@iol.unh.edu
To: Test Report <test-report@dpdk.org>
Cc: dpdk-test-reports@iol.unh.edu
Content-Type: text/plain
X-BeenThere: test-report@dpdk.org
X-Mailman-Version: 2.1.29
Precedence: list
List-Id: automatic DPDK test reports <test-report.dpdk.org>
List-Unsubscribe: <https://mails.dpdk.org/options/test-report>,
 <mailto:test-report-request@dpdk.org?subject=unsubscribe>
List-Archive: <http://mails.dpdk.org/archives/test-report/>
List-Post: <mailto:test-report@dpdk.org>
List-Help: <mailto:test-report-request@dpdk.org?subject=help>
List-Subscribe: <https://mails.dpdk.org/listinfo/test-report>,
 <mailto:test-report-request@dpdk.org?subject=subscribe>
Errors-To: test-report-bounces@dpdk.org

Test-Label: iol-abi-testing
Test-Status: SUCCESS
http://dpdk.org/patch/126963

_Testing PASS_

Submitter: None <julien_dpdk@jaube.fr>
Date: Thursday, May 18 2023 00:00:50 
DPDK git baseline: Repo:dpdk
  Branch: master
  CommitID:a399d7b5a994e335c446d4b15d7622d71dd8848c

126963 --> testing pass

Test environment and result as below:

+------------------+----------+
|   Environment    | abi_test |
+==================+==========+
| RHEL 7           | PASS     |
+------------------+----------+
| Ubuntu 22.04     | PASS     |
+------------------+----------+
| CentOS Stream 9  | PASS     |
+------------------+----------+
| RHEL8            | PASS     |
+------------------+----------+
| Debian Buster    | PASS     |
+------------------+----------+
| openSUSE Leap 15 | PASS     |
+------------------+----------+
| CentOS Stream 8  | PASS     |
+------------------+----------+


RHEL 7
	Kernel: 4.18.0-240.10.1.el8_3.x86_64
	Compiler: gcc 4.8.5 20150623 (Red Hat 4.8.5-44)

Ubuntu 22.04
	Kernel: 4.18.0-240.10.1.el8_3.x86_64
	Compiler: gcc 11.3.0

CentOS Stream 9
	Kernel: 4.18.0-240.10.1.el8_3.x86_64
	Compiler: gcc 11.3.1 20220421

RHEL8
	Kernel: 4.18.0-240.10.1.el8_3.x86_64
	Compiler: gcc 8.3.1 20191121 (Red Hat 8.3.1-5)

Debian Buster
	Kernel: 5.4.0-122-generic
	Compiler: gcc 8.3.0-6

openSUSE Leap 15
	Kernel: 4.18.0-240.10.1.el8_3.x86_64
	Compiler: gcc 7.5.0

CentOS Stream 8
	Kernel: 4.18.0-240.10.1.el8_3.x86_64
	Compiler: gcc 8.4.1 20200928

To view detailed results, visit:
https://lab.dpdk.org/results/dashboard/patchsets/26274/

UNH-IOL DPDK Community Lab

To manage your email subscriptions, visit: 
https://lab.dpdk.org/results/dashboard/preferences/subscriptions/