From mboxrd@z Thu Jan  1 00:00:00 1970
Return-Path: <test-report-bounces@dpdk.org>
Received: from mails.dpdk.org (mails.dpdk.org [217.70.189.124])
	by inbox.dpdk.org (Postfix) with ESMTP id 7BB0042B37
	for <public@inbox.dpdk.org>; Thu, 18 May 2023 09:00:19 +0200 (CEST)
Received: from mails.dpdk.org (localhost [127.0.0.1])
	by mails.dpdk.org (Postfix) with ESMTP id 78AFD42B71;
	Thu, 18 May 2023 09:00:19 +0200 (CEST)
Received: from mail-yw1-f228.google.com (mail-yw1-f228.google.com
 [209.85.128.228])
 by mails.dpdk.org (Postfix) with ESMTP id EE60342B71
 for <test-report@dpdk.org>; Thu, 18 May 2023 09:00:17 +0200 (CEST)
Received: by mail-yw1-f228.google.com with SMTP id
 00721157ae682-56204ac465fso639667b3.2
 for <test-report@dpdk.org>; Thu, 18 May 2023 00:00:17 -0700 (PDT)
DKIM-Signature: v=1; a=rsa-sha256; c=relaxed/relaxed;
 d=iol.unh.edu; s=unh-iol; t=1684393217; x=1686985217;
 h=cc:to:from:subject:message-id:date:from:to:cc:subject:date
 :message-id:reply-to;
 bh=ESTqZs/FbV5cM7oapdZHZJUWDexjuYS4emLRDpJLcy8=;
 b=IHdC73cPdbc38KyH0AO7HAt6peM7N44a95XC2s12bZdWZOyFAiFJdvJ4X3NczKwevA
 XR0GCmzvD23OSX2TD+sIZa0gY0uCzyughth3Q3F5wwOy1mIaua92RJM462gJytNCmyDI
 HuFxsLBayAzyQFEyuTFgdbeirAy1fu6NUBZPI=
X-Google-DKIM-Signature: v=1; a=rsa-sha256; c=relaxed/relaxed;
 d=1e100.net; s=20221208; t=1684393217; x=1686985217;
 h=cc:to:from:subject:message-id:date:x-gm-message-state:from:to:cc
 :subject:date:message-id:reply-to;
 bh=ESTqZs/FbV5cM7oapdZHZJUWDexjuYS4emLRDpJLcy8=;
 b=W2tJFvzjP5B0TzUt05wpOH8cBq2Ko7U6l5YNikSL+bNu8X416HvAz+A1u/pWCe+jQh
 vBVvlUKIDywYCe3qlJaR0c/IdsRkJWnLs6S52vm/7WfOy/TU/nZqW6igN0iTcLtMJbev
 A0uHPwrht1BYvm8pWn60zLXBbaMtsG/oN48fROvuB+9GOGO/iRcwEACbjto5xff7mjIR
 4xwzRPMS3acRqNmQYx95Mga71SQKdIqONg4pdlgtEHdbipwun+P3MmbqRwmkQCrmeQYF
 IApFRUaaNRAuK3SjXsVyQUGgRxZMo+HuZ3ylQ/Ock9DyM38MrKTu/sF4UZWoJXGcXXe+
 RhVw==
X-Gm-Message-State: AC+VfDxc6KERLEjrkjQ0yPizu1RqUdkcLFaZVFwdbVCvThfhaMjFKHfC
 W0Sfyr4kZXqpough8Z7vBOXGMvFKXjx+zw/4gvlrXJVIj/fF17PpLQ4k1g==
X-Google-Smtp-Source: ACHHUZ6P9Yzef+0tMBvrfd2/qAX1p3yTd67EAaoccKgwQ1TrqUBHb7Oe4P9sr1VBCit0MJShrC9zvq1Fm3DW
X-Received: by 2002:a0d:ca58:0:b0:561:afdd:3830 with SMTP id
 m85-20020a0dca58000000b00561afdd3830mr605108ywd.26.1684393217363; 
 Thu, 18 May 2023 00:00:17 -0700 (PDT)
Received: from postal.iol.unh.edu (postal.iol.unh.edu. [132.177.123.84])
 by smtp-relay.gmail.com with ESMTPS id
 x66-20020a818745000000b0055a6c4c8069sm32828ywf.31.2023.05.18.00.00.17
 (version=TLS1_2 cipher=ECDHE-ECDSA-AES128-GCM-SHA256 bits=128/128);
 Thu, 18 May 2023 00:00:17 -0700 (PDT)
X-Relaying-Domain: iol.unh.edu
Date: Thu, 18 May 2023 00:00:17 -0700 (PDT)
Message-ID: <6465cd01.810a0220.6c43d.2a9aSMTPIN_ADDED_MISSING@mx.google.com>
Received: from [172.17.0.2] (unknown [172.18.0.34])
 by postal.iol.unh.edu (Postfix) with ESMTP id 001626052472;
 Thu, 18 May 2023 03:00:16 -0400 (EDT)
Subject: |SUCCESS| pw126960 [PATCH] app/test-pmd : Add 2.5Gbps and 5Gbps
 support to test-pmd
From: dpdklab@iol.unh.edu
To: Test Report <test-report@dpdk.org>
Cc: dpdk-test-reports@iol.unh.edu
Content-Type: text/plain
X-BeenThere: test-report@dpdk.org
X-Mailman-Version: 2.1.29
Precedence: list
List-Id: automatic DPDK test reports <test-report.dpdk.org>
List-Unsubscribe: <https://mails.dpdk.org/options/test-report>,
 <mailto:test-report-request@dpdk.org?subject=unsubscribe>
List-Archive: <http://mails.dpdk.org/archives/test-report/>
List-Post: <mailto:test-report@dpdk.org>
List-Help: <mailto:test-report-request@dpdk.org?subject=help>
List-Subscribe: <https://mails.dpdk.org/listinfo/test-report>,
 <mailto:test-report-request@dpdk.org?subject=subscribe>
Errors-To: test-report-bounces@dpdk.org

Test-Label: iol-abi-testing
Test-Status: SUCCESS
http://dpdk.org/patch/126960

_Testing PASS_

Submitter: None <julien_dpdk@jaube.fr>
Date: Wednesday, May 17 2023 23:16:14 
DPDK git baseline: Repo:dpdk
  Branch: master
  CommitID:a399d7b5a994e335c446d4b15d7622d71dd8848c

126960 --> testing pass

Test environment and result as below:

+------------------+----------+
|   Environment    | abi_test |
+==================+==========+
| Debian Buster    | PASS     |
+------------------+----------+
| Debian Bullseye  | PASS     |
+------------------+----------+
| openSUSE Leap 15 | PASS     |
+------------------+----------+
| CentOS Stream 9  | PASS     |
+------------------+----------+
| Ubuntu 22.04     | PASS     |
+------------------+----------+


Debian Buster
	Kernel: 5.4.0-122-generic
	Compiler: gcc 8.3.0-6

Debian Bullseye
	Kernel: 5.4.0-122-generic
	Compiler: gcc 10.2.1-6

openSUSE Leap 15
	Kernel: 4.18.0-240.10.1.el8_3.x86_64
	Compiler: gcc 7.5.0

CentOS Stream 9
	Kernel: 4.18.0-240.10.1.el8_3.x86_64
	Compiler: gcc 11.3.1 20220421

Ubuntu 22.04
	Kernel: Container Host Kernel
	Compiler: gcc 12.2.1-2

To view detailed results, visit:
https://lab.dpdk.org/results/dashboard/patchsets/26271/

UNH-IOL DPDK Community Lab

To manage your email subscriptions, visit: 
https://lab.dpdk.org/results/dashboard/preferences/subscriptions/