From mboxrd@z Thu Jan  1 00:00:00 1970
Return-Path: <test-report-bounces@dpdk.org>
Received: from mails.dpdk.org (mails.dpdk.org [217.70.189.124])
	by inbox.dpdk.org (Postfix) with ESMTP id 8C9F742B37
	for <public@inbox.dpdk.org>; Thu, 18 May 2023 09:00:49 +0200 (CEST)
Received: from mails.dpdk.org (localhost [127.0.0.1])
	by mails.dpdk.org (Postfix) with ESMTP id 8A6BF42B71;
	Thu, 18 May 2023 09:00:49 +0200 (CEST)
Received: from mail-yw1-f228.google.com (mail-yw1-f228.google.com
 [209.85.128.228])
 by mails.dpdk.org (Postfix) with ESMTP id 815AA42B71
 for <test-report@dpdk.org>; Thu, 18 May 2023 09:00:47 +0200 (CEST)
Received: by mail-yw1-f228.google.com with SMTP id
 00721157ae682-561d5a16be0so22355557b3.2
 for <test-report@dpdk.org>; Thu, 18 May 2023 00:00:47 -0700 (PDT)
DKIM-Signature: v=1; a=rsa-sha256; c=relaxed/relaxed;
 d=iol.unh.edu; s=unh-iol; t=1684393247; x=1686985247;
 h=cc:to:from:subject:message-id:date:from:to:cc:subject:date
 :message-id:reply-to;
 bh=rXALVVtUDYaYhLlv7/a4Bdmz28NeS8atqhmeIonT8NA=;
 b=TZjBMbGbw7wOxqXDWkxTCdDnrPL/j1rtzg+jfV3j9JNlsx5z5RFh73Us5QI0Gxw++X
 Op960+aVFuCpk9Xq9Y7sDTcKTS0z4/FSuYW6TWX6F3x58CyPj2czlEcVTGBYi6Farh8g
 CuoV+ZVaXnQqIkAnoNuD4hF84xjf4Jnq34x2k=
X-Google-DKIM-Signature: v=1; a=rsa-sha256; c=relaxed/relaxed;
 d=1e100.net; s=20221208; t=1684393247; x=1686985247;
 h=cc:to:from:subject:message-id:date:x-gm-message-state:from:to:cc
 :subject:date:message-id:reply-to;
 bh=rXALVVtUDYaYhLlv7/a4Bdmz28NeS8atqhmeIonT8NA=;
 b=aLkQ8xxh4vcSZKdrTCP1Acv4Nfy2wJxiwK9kYyfWB+VxJcOPqMXPQNj94LmZLffmtx
 x+0CVYhtTdFsc0271SyFm5i0nDNgPaZyQO1CBbI6BG4yiwHjsLOOgro8WydJxuWtcHc+
 a8vGSKIsXYX0aPY13E6Ufgp93NC0bmMVjCyTXKAdoXEFZj0EoDduZ6AfniIshCKDOVDN
 58iqCe4CebX+IUkFeCkh/lsLdUA+Dmav0zhhQ8OZmaLhcZ/J9m7nJ7mW2BlwzeiL4a3D
 gyu8GEB+4FWQ9cOCOS4le5alWwW7vTbvaYdFFWs1nVSnCCs2YLzidUuwa8oKoEwlcm8D
 opXw==
X-Gm-Message-State: AC+VfDzyduDTiYBT7qtm0hPBHjpw8TBIv7HTG37zY1u2lIhpCFQW5sM7
 lSt2jDYGP9JEnqe7frAHLV8nrLgy//k9MnuyDLKBO+icJjaH9KUjLEPfKQ==
X-Google-Smtp-Source: ACHHUZ6t9m0iE4UVt2U1FV/9Kg1cI+Wz/hwncPpx9H+xzprR8BUxV2rcmSzqL6zTavBD8eoaRR6r8H+soakG
X-Received: by 2002:a81:4fcc:0:b0:561:b3da:e698 with SMTP id
 d195-20020a814fcc000000b00561b3dae698mr525507ywb.21.1684393247025; 
 Thu, 18 May 2023 00:00:47 -0700 (PDT)
Received: from postal.iol.unh.edu (postal.iol.unh.edu. [132.177.123.84])
 by smtp-relay.gmail.com with ESMTPS id
 x82-20020a81a055000000b005459f233f5csm31860ywg.20.2023.05.18.00.00.46
 (version=TLS1_2 cipher=ECDHE-ECDSA-AES128-GCM-SHA256 bits=128/128);
 Thu, 18 May 2023 00:00:47 -0700 (PDT)
X-Relaying-Domain: iol.unh.edu
Date: Thu, 18 May 2023 00:00:47 -0700 (PDT)
Message-ID: <6465cd1f.810a0220.132f1.2909SMTPIN_ADDED_MISSING@mx.google.com>
Received: from [172.17.0.2] (unknown [172.18.0.34])
 by postal.iol.unh.edu (Postfix) with ESMTP id ABB2C605246B;
 Thu, 18 May 2023 03:00:46 -0400 (EDT)
Subject: |SUCCESS| pw126960 [PATCH] app/test-pmd : Add 2.5Gbps and 5Gbps
 support to test-pmd
From: dpdklab@iol.unh.edu
To: Test Report <test-report@dpdk.org>
Cc: dpdk-test-reports@iol.unh.edu
Content-Type: text/plain
X-BeenThere: test-report@dpdk.org
X-Mailman-Version: 2.1.29
Precedence: list
List-Id: automatic DPDK test reports <test-report.dpdk.org>
List-Unsubscribe: <https://mails.dpdk.org/options/test-report>,
 <mailto:test-report-request@dpdk.org?subject=unsubscribe>
List-Archive: <http://mails.dpdk.org/archives/test-report/>
List-Post: <mailto:test-report@dpdk.org>
List-Help: <mailto:test-report-request@dpdk.org?subject=help>
List-Subscribe: <https://mails.dpdk.org/listinfo/test-report>,
 <mailto:test-report-request@dpdk.org?subject=subscribe>
Errors-To: test-report-bounces@dpdk.org

Test-Label: iol-abi-testing
Test-Status: SUCCESS
http://dpdk.org/patch/126960

_Testing PASS_

Submitter: None <julien_dpdk@jaube.fr>
Date: Wednesday, May 17 2023 23:16:14 
DPDK git baseline: Repo:dpdk
  Branch: master
  CommitID:a399d7b5a994e335c446d4b15d7622d71dd8848c

126960 --> testing pass

Test environment and result as below:

+------------------+----------+
|   Environment    | abi_test |
+==================+==========+
| Debian Buster    | PASS     |
+------------------+----------+
| Debian Bullseye  | PASS     |
+------------------+----------+
| openSUSE Leap 15 | PASS     |
+------------------+----------+
| CentOS Stream 9  | PASS     |
+------------------+----------+
| Ubuntu 22.04     | PASS     |
+------------------+----------+
| RHEL 7           | PASS     |
+------------------+----------+


Debian Buster
	Kernel: 5.4.0-122-generic
	Compiler: gcc 8.3.0-6

Debian Bullseye
	Kernel: 5.4.0-122-generic
	Compiler: gcc 10.2.1-6

openSUSE Leap 15
	Kernel: 4.18.0-240.10.1.el8_3.x86_64
	Compiler: gcc 7.5.0

CentOS Stream 9
	Kernel: 4.18.0-240.10.1.el8_3.x86_64
	Compiler: gcc 11.3.1 20220421

Ubuntu 22.04
	Kernel: Container Host Kernel
	Compiler: gcc 12.2.1-2

RHEL 7
	Kernel: 4.18.0-240.10.1.el8_3.x86_64
	Compiler: gcc 4.8.5 20150623 (Red Hat 4.8.5-44)

To view detailed results, visit:
https://lab.dpdk.org/results/dashboard/patchsets/26271/

UNH-IOL DPDK Community Lab

To manage your email subscriptions, visit: 
https://lab.dpdk.org/results/dashboard/preferences/subscriptions/