From mboxrd@z Thu Jan  1 00:00:00 1970
Return-Path: <test-report-bounces@dpdk.org>
Received: from mails.dpdk.org (mails.dpdk.org [217.70.189.124])
	by inbox.dpdk.org (Postfix) with ESMTP id 1EBD742B37
	for <public@inbox.dpdk.org>; Thu, 18 May 2023 09:04:04 +0200 (CEST)
Received: from mails.dpdk.org (localhost [127.0.0.1])
	by mails.dpdk.org (Postfix) with ESMTP id 1C2B140E25;
	Thu, 18 May 2023 09:04:04 +0200 (CEST)
Received: from mail-yw1-f228.google.com (mail-yw1-f228.google.com
 [209.85.128.228])
 by mails.dpdk.org (Postfix) with ESMTP id 9B11540E25
 for <test-report@dpdk.org>; Thu, 18 May 2023 09:04:01 +0200 (CEST)
Received: by mail-yw1-f228.google.com with SMTP id
 00721157ae682-561b65b34c4so21408277b3.1
 for <test-report@dpdk.org>; Thu, 18 May 2023 00:04:01 -0700 (PDT)
DKIM-Signature: v=1; a=rsa-sha256; c=relaxed/relaxed;
 d=iol.unh.edu; s=unh-iol; t=1684393441; x=1686985441;
 h=cc:to:from:subject:message-id:date:from:to:cc:subject:date
 :message-id:reply-to;
 bh=6ruPltsw2byGvMTSNtkHaXvrm3bJWqeR8O33Ws01hRA=;
 b=Owgu1punvlxeKQ25I3Wo7zPh7i/8crskpEg13SS2/PKO8g1EL5tIciwYNqeHxOTGUu
 muh8Ea4gtW0uiYKAPMse/L+bHSbClp58b5qnKa9qJxK1zlxj63PdLQZMZWHFZL5oREbg
 701zK9/V8yLgtFD/ZMLiH3wYop72sC1PZcsVQ=
X-Google-DKIM-Signature: v=1; a=rsa-sha256; c=relaxed/relaxed;
 d=1e100.net; s=20221208; t=1684393441; x=1686985441;
 h=cc:to:from:subject:message-id:date:x-gm-message-state:from:to:cc
 :subject:date:message-id:reply-to;
 bh=6ruPltsw2byGvMTSNtkHaXvrm3bJWqeR8O33Ws01hRA=;
 b=UzasOKWdbeMtkHFMNt+3FyrTWH+rOCBNmZp3RgHfCwWMJ3FXGHZ2RzijgEXRmuf8dn
 2wbJz0tgKH/xbgOw9G+aPbqht07XWHIYVMyLrLWRljrzxms4wWaV7Wdk0/fJqhk2Zr/m
 uZ32OkioKP4KSRPEj9FmKJ1UdnslyU/dueISi47ZE1ZsF4ncZbEXMcaUGc0UNJbxulMb
 MaROzTP6LUzff9U7BDWbsTjAjuXAnQUJo6aXkioqiNAA2uxQIue4oRVZ/mrlK7r4tKSM
 LGvWcip8NP6Q0+OC3OwO00GGlBibyJ4SpIw+YurbUCzu6DlOG0uctCs5CTfITJKZd7o3
 J4TA==
X-Gm-Message-State: AC+VfDw0eFlIfF0jfcNr/TrToMJZ4Wv9hMDchewfJBk8JGYz34NHzVnj
 RJg2RjewsZFz9quLEBeLrHThWybnZgtbgi5fksP2q14a3SppsmzHMRMoVmUequCAmyeuHw7c1Q=
 =
X-Google-Smtp-Source: ACHHUZ6cQBZDXQAwlK4Gas5F3zobg2R09uObBpqi2ZPNSnb+abWvIz8TNYTuzMlIjHeuLgJYRRgV/B9bYY2b
X-Received: by 2002:a81:83c2:0:b0:55a:29ec:64f7 with SMTP id
 t185-20020a8183c2000000b0055a29ec64f7mr514734ywf.40.1684393441319; 
 Thu, 18 May 2023 00:04:01 -0700 (PDT)
Received: from postal.iol.unh.edu (postal.iol.unh.edu.
 [2606:4100:3880:1234::84]) by smtp-relay.gmail.com with ESMTPS id
 w188-20020a0dedc5000000b00559f1b8134esm31331ywe.49.2023.05.18.00.04.01
 (version=TLS1_2 cipher=ECDHE-ECDSA-AES128-GCM-SHA256 bits=128/128);
 Thu, 18 May 2023 00:04:01 -0700 (PDT)
X-Relaying-Domain: iol.unh.edu
Date: Thu, 18 May 2023 00:04:01 -0700 (PDT)
Message-ID: <6465cde1.0d0a0220.15403.2af7SMTPIN_ADDED_MISSING@mx.google.com>
Received: from [172.17.0.2] (unknown [172.18.0.34])
 by postal.iol.unh.edu (Postfix) with ESMTP id 02A70605246B;
 Thu, 18 May 2023 03:04:01 -0400 (EDT)
Subject: |SUCCESS| pw126960 [PATCH] app/test-pmd : Add 2.5Gbps and 5Gbps
 support to test-pmd
From: dpdklab@iol.unh.edu
To: Test Report <test-report@dpdk.org>
Cc: dpdk-test-reports@iol.unh.edu
Content-Type: text/plain
X-BeenThere: test-report@dpdk.org
X-Mailman-Version: 2.1.29
Precedence: list
List-Id: automatic DPDK test reports <test-report.dpdk.org>
List-Unsubscribe: <https://mails.dpdk.org/options/test-report>,
 <mailto:test-report-request@dpdk.org?subject=unsubscribe>
List-Archive: <http://mails.dpdk.org/archives/test-report/>
List-Post: <mailto:test-report@dpdk.org>
List-Help: <mailto:test-report-request@dpdk.org?subject=help>
List-Subscribe: <https://mails.dpdk.org/listinfo/test-report>,
 <mailto:test-report-request@dpdk.org?subject=subscribe>
Errors-To: test-report-bounces@dpdk.org

Test-Label: iol-abi-testing
Test-Status: SUCCESS
http://dpdk.org/patch/126960

_Testing PASS_

Submitter: None <julien_dpdk@jaube.fr>
Date: Wednesday, May 17 2023 23:16:14 
DPDK git baseline: Repo:dpdk
  Branch: master
  CommitID:a399d7b5a994e335c446d4b15d7622d71dd8848c

126960 --> testing pass

Test environment and result as below:

+------------------+----------+
|   Environment    | abi_test |
+==================+==========+
| Debian Buster    | PASS     |
+------------------+----------+
| Debian Bullseye  | PASS     |
+------------------+----------+
| openSUSE Leap 15 | PASS     |
+------------------+----------+
| CentOS Stream 9  | PASS     |
+------------------+----------+
| Ubuntu 22.04     | PASS     |
+------------------+----------+
| RHEL 7           | PASS     |
+------------------+----------+
| RHEL8            | PASS     |
+------------------+----------+


Debian Buster
	Kernel: 5.4.0-122-generic
	Compiler: gcc 8.3.0-6

Debian Bullseye
	Kernel: 5.4.0-122-generic
	Compiler: gcc 10.2.1-6

openSUSE Leap 15
	Kernel: 4.18.0-240.10.1.el8_3.x86_64
	Compiler: gcc 7.5.0

CentOS Stream 9
	Kernel: 4.18.0-240.10.1.el8_3.x86_64
	Compiler: gcc 11.3.1 20220421

Ubuntu 22.04
	Kernel: Container Host Kernel
	Compiler: gcc 12.2.1-2

RHEL 7
	Kernel: 4.18.0-240.10.1.el8_3.x86_64
	Compiler: gcc 4.8.5 20150623 (Red Hat 4.8.5-44)

RHEL8
	Kernel: 4.18.0-240.10.1.el8_3.x86_64
	Compiler: gcc 8.3.1 20191121 (Red Hat 8.3.1-5)

To view detailed results, visit:
https://lab.dpdk.org/results/dashboard/patchsets/26271/

UNH-IOL DPDK Community Lab

To manage your email subscriptions, visit: 
https://lab.dpdk.org/results/dashboard/preferences/subscriptions/