From mboxrd@z Thu Jan  1 00:00:00 1970
Return-Path: <test-report-bounces@dpdk.org>
Received: from mails.dpdk.org (mails.dpdk.org [217.70.189.124])
	by inbox.dpdk.org (Postfix) with ESMTP id EF7D042B37
	for <public@inbox.dpdk.org>; Thu, 18 May 2023 09:24:49 +0200 (CEST)
Received: from mails.dpdk.org (localhost [127.0.0.1])
	by mails.dpdk.org (Postfix) with ESMTP id EB1EB40E25;
	Thu, 18 May 2023 09:24:49 +0200 (CEST)
Received: from mail-ua1-f97.google.com (mail-ua1-f97.google.com
 [209.85.222.97]) by mails.dpdk.org (Postfix) with ESMTP id 2747940E25
 for <test-report@dpdk.org>; Thu, 18 May 2023 09:24:49 +0200 (CEST)
Received: by mail-ua1-f97.google.com with SMTP id
 a1e0cc1a2514c-783f88ce548so935778241.1
 for <test-report@dpdk.org>; Thu, 18 May 2023 00:24:49 -0700 (PDT)
DKIM-Signature: v=1; a=rsa-sha256; c=relaxed/relaxed;
 d=iol.unh.edu; s=unh-iol; t=1684394688; x=1686986688;
 h=cc:to:from:subject:message-id:date:from:to:cc:subject:date
 :message-id:reply-to;
 bh=6nrR8WsMiUhQiBrDuLFovv+rVw7yv5UwI/lbpXTEM48=;
 b=KznUw9KsD0h08W6BYiUNZ970y4RBmVhTVqEd5gaRnvZwe5sMzgovMEFyC3W7c1QhJM
 c4IiKx1kpXHJjSSURA3vj0dfjJfXHllW0JMlAFzfpMfqeacRwuUwoEp41qMXuoeMifHx
 WRspmKo9orW8ax52DHmea9s83DCXQhQVFE6Q0=
X-Google-DKIM-Signature: v=1; a=rsa-sha256; c=relaxed/relaxed;
 d=1e100.net; s=20221208; t=1684394688; x=1686986688;
 h=cc:to:from:subject:message-id:date:x-gm-message-state:from:to:cc
 :subject:date:message-id:reply-to;
 bh=6nrR8WsMiUhQiBrDuLFovv+rVw7yv5UwI/lbpXTEM48=;
 b=Gx8pB4dA7utTFRicD6A5hWG6s6GsVdQYbfu/STUHMe8zO5ug8xt7YVDbWsWYsMdFtF
 D0Kwspmsqs6wmECZ1aMoBVOM2nDt8QVXFiCs/H98tyytC62bsFOZRDXgnVme7Pj5PlCx
 ERvuCmuHZzDmsfXWACfJE2mOq3JkRtLvb4HgxWRag3JXUtts7FkaPV8QFwXf+vOE8UhR
 aLW7j9kFGOARk8euF7nQlE4GBK7FGZf20wcCj/Fs5+OPUJBznMCuKJCEMeyWgYO/NO3D
 2a0WmBSpuKs1BDoqHModV0XjC5azZ01BEWt9J78eMMngU1wbWeFGwhMfkqUTBQjBkhz/
 qjRw==
X-Gm-Message-State: AC+VfDxjHZ8vnRG8r2liy/Iwa12BSMPsZtXeBdnOFiiNeJglMGWXlzIw
 SD/NSHbQvARP931vdegcT4So9uslHYEpzU76bHffYaTnZgh/4Qxfr9PAQQ==
X-Google-Smtp-Source: ACHHUZ67+VswbQUKHjQtoqbw/l2kUf7DvZE44mgRi73Jgp5rBxD+gmkSLE10ApgtVx5zt2KnS5xqinkZHwmi
X-Received: by 2002:a05:6102:418:b0:437:dfec:c654 with SMTP id
 d24-20020a056102041800b00437dfecc654mr233650vsq.12.1684394688537; 
 Thu, 18 May 2023 00:24:48 -0700 (PDT)
Received: from postal.iol.unh.edu (postal.iol.unh.edu. [132.177.123.84])
 by smtp-relay.gmail.com with ESMTPS id
 h14-20020a0561023d8e00b0043473c7014dsm2493vsv.0.2023.05.18.00.24.48
 (version=TLS1_2 cipher=ECDHE-ECDSA-AES128-GCM-SHA256 bits=128/128);
 Thu, 18 May 2023 00:24:48 -0700 (PDT)
X-Relaying-Domain: iol.unh.edu
Date: Thu, 18 May 2023 00:24:48 -0700 (PDT)
Message-ID: <6465d2c0.050a0220.8b790.0308SMTPIN_ADDED_MISSING@mx.google.com>
Received: from [172.17.0.2] (unknown [172.18.0.34])
 by postal.iol.unh.edu (Postfix) with ESMTP id E0EEE605246B;
 Thu, 18 May 2023 03:24:47 -0400 (EDT)
Subject: |SUCCESS| pw126949-126951 [PATCH] [2/2] net/mlx5: add modify field
 actions number validation
From: dpdklab@iol.unh.edu
To: Test Report <test-report@dpdk.org>
Cc: dpdk-test-reports@iol.unh.edu
Content-Type: text/plain
X-BeenThere: test-report@dpdk.org
X-Mailman-Version: 2.1.29
Precedence: list
List-Id: automatic DPDK test reports <test-report.dpdk.org>
List-Unsubscribe: <https://mails.dpdk.org/options/test-report>,
 <mailto:test-report-request@dpdk.org?subject=unsubscribe>
List-Archive: <http://mails.dpdk.org/archives/test-report/>
List-Post: <mailto:test-report@dpdk.org>
List-Help: <mailto:test-report-request@dpdk.org?subject=help>
List-Subscribe: <https://mails.dpdk.org/listinfo/test-report>,
 <mailto:test-report-request@dpdk.org?subject=subscribe>
Errors-To: test-report-bounces@dpdk.org

Test-Label: iol-abi-testing
Test-Status: SUCCESS
http://dpdk.org/patch/126951

_Testing PASS_

Submitter: Dariusz Sosnowski <dsosnowski@nvidia.com>
Date: Wednesday, May 17 2023 20:24:46 
DPDK git baseline: Repo:dpdk
  Branch: master
  CommitID:a399d7b5a994e335c446d4b15d7622d71dd8848c

126949-126951 --> testing pass

Test environment and result as below:

+------------------+----------+
|   Environment    | abi_test |
+==================+==========+
| Debian Buster    | PASS     |
+------------------+----------+
| CentOS Stream 9  | PASS     |
+------------------+----------+
| Ubuntu 22.04     | PASS     |
+------------------+----------+
| RHEL8            | PASS     |
+------------------+----------+
| openSUSE Leap 15 | PASS     |
+------------------+----------+
| CentOS Stream 8  | PASS     |
+------------------+----------+


Debian Buster
	Kernel: 5.4.0-122-generic
	Compiler: gcc 8.3.0-6

CentOS Stream 9
	Kernel: 4.18.0-240.10.1.el8_3.x86_64
	Compiler: gcc 11.3.1 20220421

Ubuntu 22.04
	Kernel: Container Host Kernel
	Compiler: gcc 12.2.1-2

RHEL8
	Kernel: 4.18.0-240.10.1.el8_3.x86_64
	Compiler: gcc 8.3.1 20191121 (Red Hat 8.3.1-5)

openSUSE Leap 15
	Kernel: 4.18.0-240.10.1.el8_3.x86_64
	Compiler: gcc 7.5.0

CentOS Stream 8
	Kernel: 4.18.0-240.10.1.el8_3.x86_64
	Compiler: gcc 8.4.1 20200928

To view detailed results, visit:
https://lab.dpdk.org/results/dashboard/patchsets/26266/

UNH-IOL DPDK Community Lab

To manage your email subscriptions, visit: 
https://lab.dpdk.org/results/dashboard/preferences/subscriptions/