From mboxrd@z Thu Jan  1 00:00:00 1970
Return-Path: <test-report-bounces@dpdk.org>
Received: from mails.dpdk.org (mails.dpdk.org [217.70.189.124])
	by inbox.dpdk.org (Postfix) with ESMTP id 9550A42B37
	for <public@inbox.dpdk.org>; Thu, 18 May 2023 09:29:18 +0200 (CEST)
Received: from mails.dpdk.org (localhost [127.0.0.1])
	by mails.dpdk.org (Postfix) with ESMTP id 76C9140E25;
	Thu, 18 May 2023 09:29:18 +0200 (CEST)
Received: from mail-ua1-f98.google.com (mail-ua1-f98.google.com
 [209.85.222.98]) by mails.dpdk.org (Postfix) with ESMTP id 59D0B42B71
 for <test-report@dpdk.org>; Thu, 18 May 2023 09:29:17 +0200 (CEST)
Received: by mail-ua1-f98.google.com with SMTP id
 a1e0cc1a2514c-783fb4f87e1so421340241.1
 for <test-report@dpdk.org>; Thu, 18 May 2023 00:29:17 -0700 (PDT)
DKIM-Signature: v=1; a=rsa-sha256; c=relaxed/relaxed;
 d=iol.unh.edu; s=unh-iol; t=1684394956; x=1686986956;
 h=cc:to:from:subject:message-id:date:from:to:cc:subject:date
 :message-id:reply-to;
 bh=0AxVnd4Ol6MLwiWxxk56E8eS64jiXH/DWeVSWR3CeDA=;
 b=MzgJaiTWRXHs7M/7S5cKyFKQmDI3ojESEmKw8AM/g1SML2xFKNSw+wCvAI3zSdzJaU
 tfBiSR+K9QOIPUNtoWEpmwJ2rYHhrOisG2SJEAsOSA07Ua+XiY+3/aSpd3+sWpK/HQrK
 m+dJ6sMeuCYBvx1W3pqRTyFZYRxJfWj7y0QHM=
X-Google-DKIM-Signature: v=1; a=rsa-sha256; c=relaxed/relaxed;
 d=1e100.net; s=20221208; t=1684394956; x=1686986956;
 h=cc:to:from:subject:message-id:date:x-gm-message-state:from:to:cc
 :subject:date:message-id:reply-to;
 bh=0AxVnd4Ol6MLwiWxxk56E8eS64jiXH/DWeVSWR3CeDA=;
 b=T5iXKkp2756D6ZIVO5NZ90CE4mG0f5ey7QGUPvEsblywcCzD2HKKO8QUZ8QPzurnXr
 I29qANI9C8plsoTJOzPUyIi8MssA4SiCBvID+NAYZVO/bvOcTXmnma/ohtSKZHSIaaLV
 jgABqrIYgRmMK1Abx+jdOuaBp2a14TvWCf/5i2FrK4Sem8Gh78w3Xz+bTta0B3zlgCyA
 Z3SHocvQRES7vN2Utr6xhXAN8DdptjOpoojI9r8kspTDQUX7dKG50wpLs+7RQtDw3z0p
 xEQ7s70SSSVPGiOVJ25kkumRa6JgAJtwHCGKjWTdYcfLBcX9XOuZ2btKlxj3xFM8Kn/1
 sYJw==
X-Gm-Message-State: AC+VfDzviyBdcJH/uP79xU0F1g1IXB6QuGK3kGRHNd7/15isBFbyoBku
 aZrEy+kDk6EfcaoByKxPPkJJFMS9xFygq573XvOwbtwsMmvpZ7NlupR4Nd6V0r8LJMuygkwjEg=
 =
X-Google-Smtp-Source: ACHHUZ6PSEMGkah8Te0hKvpARgWGYbd8hTXjDFRYXH1atRoq0VknZiSFB0660AMzUl7jfnUXwaU8NWlN6kp4
X-Received: by 2002:a67:cd09:0:b0:42c:910d:26ee with SMTP id
 u9-20020a67cd09000000b0042c910d26eemr238777vsl.18.1684394956720; 
 Thu, 18 May 2023 00:29:16 -0700 (PDT)
Received: from postal.iol.unh.edu (postal.iol.unh.edu.
 [2606:4100:3880:1234::84]) by smtp-relay.gmail.com with ESMTPS id
 j25-20020ab06459000000b0077a7cc7ebd7sm34762uap.20.2023.05.18.00.29.16
 (version=TLS1_2 cipher=ECDHE-ECDSA-AES128-GCM-SHA256 bits=128/128);
 Thu, 18 May 2023 00:29:16 -0700 (PDT)
X-Relaying-Domain: iol.unh.edu
Date: Thu, 18 May 2023 00:29:16 -0700 (PDT)
Message-ID: <6465d3cc.b00a0220.91206.2e0cSMTPIN_ADDED_MISSING@mx.google.com>
Received: from [172.17.0.2] (unknown [172.18.0.34])
 by postal.iol.unh.edu (Postfix) with ESMTP id 6230F605246B;
 Thu, 18 May 2023 03:29:16 -0400 (EDT)
Subject: |SUCCESS| pw126949-126951 [PATCH] [2/2] net/mlx5: add modify field
 actions number validation
From: dpdklab@iol.unh.edu
To: Test Report <test-report@dpdk.org>
Cc: Dariusz Sosnowski <dsosnowski@nvidia.com>
Content-Type: text/plain
X-BeenThere: test-report@dpdk.org
X-Mailman-Version: 2.1.29
Precedence: list
List-Id: automatic DPDK test reports <test-report.dpdk.org>
List-Unsubscribe: <https://mails.dpdk.org/options/test-report>,
 <mailto:test-report-request@dpdk.org?subject=unsubscribe>
List-Archive: <http://mails.dpdk.org/archives/test-report/>
List-Post: <mailto:test-report@dpdk.org>
List-Help: <mailto:test-report-request@dpdk.org?subject=help>
List-Subscribe: <https://mails.dpdk.org/listinfo/test-report>,
 <mailto:test-report-request@dpdk.org?subject=subscribe>
Errors-To: test-report-bounces@dpdk.org

Test-Label: iol-abi-testing
Test-Status: SUCCESS
http://dpdk.org/patch/126951

_Testing PASS_

Submitter: Dariusz Sosnowski <dsosnowski@nvidia.com>
Date: Wednesday, May 17 2023 20:24:46 
DPDK git baseline: Repo:dpdk
  Branch: master
  CommitID:a399d7b5a994e335c446d4b15d7622d71dd8848c

126949-126951 --> testing pass

Test environment and result as below:

+------------------+----------+
|   Environment    | abi_test |
+==================+==========+
| Debian Buster    | PASS     |
+------------------+----------+
| CentOS Stream 9  | PASS     |
+------------------+----------+
| Ubuntu 22.04     | PASS     |
+------------------+----------+
| RHEL8            | PASS     |
+------------------+----------+
| openSUSE Leap 15 | PASS     |
+------------------+----------+
| CentOS Stream 8  | PASS     |
+------------------+----------+
| RHEL 7           | PASS     |
+------------------+----------+
| Debian Bullseye  | PASS     |
+------------------+----------+


Debian Buster
	Kernel: 5.4.0-122-generic
	Compiler: gcc 8.3.0-6

CentOS Stream 9
	Kernel: 4.18.0-240.10.1.el8_3.x86_64
	Compiler: gcc 11.3.1 20220421

Ubuntu 22.04
	Kernel: Container Host Kernel
	Compiler: gcc 12.2.1-2

RHEL8
	Kernel: 4.18.0-240.10.1.el8_3.x86_64
	Compiler: gcc 8.3.1 20191121 (Red Hat 8.3.1-5)

openSUSE Leap 15
	Kernel: 4.18.0-240.10.1.el8_3.x86_64
	Compiler: gcc 7.5.0

CentOS Stream 8
	Kernel: 4.18.0-240.10.1.el8_3.x86_64
	Compiler: gcc 8.4.1 20200928

RHEL 7
	Kernel: 4.18.0-240.10.1.el8_3.x86_64
	Compiler: gcc 4.8.5 20150623 (Red Hat 4.8.5-44)

Debian Bullseye
	Kernel: 5.4.0-122-generic
	Compiler: gcc 10.2.1-6

To view detailed results, visit:
https://lab.dpdk.org/results/dashboard/patchsets/26266/

UNH-IOL DPDK Community Lab

To manage your email subscriptions, visit: 
https://lab.dpdk.org/results/dashboard/preferences/subscriptions/