From mboxrd@z Thu Jan  1 00:00:00 1970
Return-Path: <test-report-bounces@dpdk.org>
Received: from mails.dpdk.org (mails.dpdk.org [217.70.189.124])
	by inbox.dpdk.org (Postfix) with ESMTP id 8333542B37
	for <public@inbox.dpdk.org>; Thu, 18 May 2023 09:44:12 +0200 (CEST)
Received: from mails.dpdk.org (localhost [127.0.0.1])
	by mails.dpdk.org (Postfix) with ESMTP id 735F942B71;
	Thu, 18 May 2023 09:44:12 +0200 (CEST)
Received: from mail-pg1-f227.google.com (mail-pg1-f227.google.com
 [209.85.215.227])
 by mails.dpdk.org (Postfix) with ESMTP id 1926F42B71
 for <test-report@dpdk.org>; Thu, 18 May 2023 09:44:11 +0200 (CEST)
Received: by mail-pg1-f227.google.com with SMTP id
 41be03b00d2f7-528cdc9576cso1151902a12.0
 for <test-report@dpdk.org>; Thu, 18 May 2023 00:44:11 -0700 (PDT)
DKIM-Signature: v=1; a=rsa-sha256; c=relaxed/relaxed;
 d=iol.unh.edu; s=unh-iol; t=1684395850; x=1686987850;
 h=cc:to:from:subject:message-id:date:from:to:cc:subject:date
 :message-id:reply-to;
 bh=0AxVnd4Ol6MLwiWxxk56E8eS64jiXH/DWeVSWR3CeDA=;
 b=Eum+HxzuQaltMqw25jPb8cwsArmhd5ZY+Kzm2oxQ8/5E/rj0GqOizIeilogq/Gdfhk
 +xmh1ZMaLaF+jg1VIKEr4eERGt3W8kaK9bP+osIDKHGVkwt1bGvjbEhlx8uG4d19ueSS
 goWnKYxSgIZ1OOU7yU1hpmXQCsBmRCeXkyC00=
X-Google-DKIM-Signature: v=1; a=rsa-sha256; c=relaxed/relaxed;
 d=1e100.net; s=20221208; t=1684395850; x=1686987850;
 h=cc:to:from:subject:message-id:date:x-gm-message-state:from:to:cc
 :subject:date:message-id:reply-to;
 bh=0AxVnd4Ol6MLwiWxxk56E8eS64jiXH/DWeVSWR3CeDA=;
 b=Xp8k5RDzBYosnIWKHeOM/UIqUEnSRNuBDPtP1ZnTxsA1Fs8lsyUG+OWQJE3sz/PwgS
 7SOvzshaW4SCCbGj2GUplalRQ4dpP4pvhGbfBP4rFGO2n38g91oexnuIdWf/4XH1FSK9
 2p4NYI8yg1TnzH8dwAUoXStAjALRjs/EFwgOdvuJRIi6AsJwK/owAc4gjWStLPZJg305
 gCZymVqGxkM0mZ3AL3IyG26VQnsH8gOd092zSUUFaEooeSeoQljfGVVLIXCc7qgTa73n
 cINvKOYZRzm3TKZYpp084fU5+ldcYdaPz5GMVtnz1+q/1GBY1+CBjqXiQL8zjjEx8hEQ
 NXoA==
X-Gm-Message-State: AC+VfDy8JHAdSDCE6k/Kik/Yp7s0p/n07j8vME3zPRAE9J7Std78VeZ/
 71g5XyTkuGNq5W5BTXg/mHf6F4+fxVnDWeCw0pkCP8u843TRFELlfjxxtg==
X-Google-Smtp-Source: ACHHUZ5T5J6fDb4fhqiKAxqCwJJs0xZeCwKyR4Eu6gtUsyTkEhl/L9P7RovT471VMZ3FNQJUhC4wPzQ0XQ7W
X-Received: by 2002:a17:902:e80a:b0:19d:297:f30b with SMTP id
 u10-20020a170902e80a00b0019d0297f30bmr1873122plg.19.1684395850289; 
 Thu, 18 May 2023 00:44:10 -0700 (PDT)
Received: from postal.iol.unh.edu (postal.iol.unh.edu. [132.177.123.84])
 by smtp-relay.gmail.com with ESMTPS id
 jk3-20020a170903330300b001a683234179sm11214plb.7.2023.05.18.00.44.10
 (version=TLS1_2 cipher=ECDHE-ECDSA-AES128-GCM-SHA256 bits=128/128);
 Thu, 18 May 2023 00:44:10 -0700 (PDT)
X-Relaying-Domain: iol.unh.edu
Date: Thu, 18 May 2023 00:44:10 -0700 (PDT)
Message-ID: <6465d74a.170a0220.e998f.0effSMTPIN_ADDED_MISSING@mx.google.com>
Received: from [172.17.0.2] (unknown [172.18.0.34])
 by postal.iol.unh.edu (Postfix) with ESMTP id 8BC28605246B;
 Thu, 18 May 2023 03:44:09 -0400 (EDT)
Subject: |SUCCESS| pw126949-126951 [PATCH] [2/2] net/mlx5: add modify field
 actions number validation
From: dpdklab@iol.unh.edu
To: Test Report <test-report@dpdk.org>
Cc: dpdk-test-reports@iol.unh.edu
Content-Type: text/plain
X-BeenThere: test-report@dpdk.org
X-Mailman-Version: 2.1.29
Precedence: list
List-Id: automatic DPDK test reports <test-report.dpdk.org>
List-Unsubscribe: <https://mails.dpdk.org/options/test-report>,
 <mailto:test-report-request@dpdk.org?subject=unsubscribe>
List-Archive: <http://mails.dpdk.org/archives/test-report/>
List-Post: <mailto:test-report@dpdk.org>
List-Help: <mailto:test-report-request@dpdk.org?subject=help>
List-Subscribe: <https://mails.dpdk.org/listinfo/test-report>,
 <mailto:test-report-request@dpdk.org?subject=subscribe>
Errors-To: test-report-bounces@dpdk.org

Test-Label: iol-abi-testing
Test-Status: SUCCESS
http://dpdk.org/patch/126951

_Testing PASS_

Submitter: Dariusz Sosnowski <dsosnowski@nvidia.com>
Date: Wednesday, May 17 2023 20:24:46 
DPDK git baseline: Repo:dpdk
  Branch: master
  CommitID:a399d7b5a994e335c446d4b15d7622d71dd8848c

126949-126951 --> testing pass

Test environment and result as below:

+------------------+----------+
|   Environment    | abi_test |
+==================+==========+
| Debian Buster    | PASS     |
+------------------+----------+
| CentOS Stream 9  | PASS     |
+------------------+----------+
| Ubuntu 22.04     | PASS     |
+------------------+----------+
| RHEL8            | PASS     |
+------------------+----------+
| openSUSE Leap 15 | PASS     |
+------------------+----------+
| CentOS Stream 8  | PASS     |
+------------------+----------+
| RHEL 7           | PASS     |
+------------------+----------+
| Debian Bullseye  | PASS     |
+------------------+----------+


Debian Buster
	Kernel: 5.4.0-122-generic
	Compiler: gcc 8.3.0-6

CentOS Stream 9
	Kernel: 4.18.0-240.10.1.el8_3.x86_64
	Compiler: gcc 11.3.1 20220421

Ubuntu 22.04
	Kernel: Container Host Kernel
	Compiler: gcc 12.2.1-2

RHEL8
	Kernel: 4.18.0-240.10.1.el8_3.x86_64
	Compiler: gcc 8.3.1 20191121 (Red Hat 8.3.1-5)

openSUSE Leap 15
	Kernel: 4.18.0-240.10.1.el8_3.x86_64
	Compiler: gcc 7.5.0

CentOS Stream 8
	Kernel: 4.18.0-240.10.1.el8_3.x86_64
	Compiler: gcc 8.4.1 20200928

RHEL 7
	Kernel: 4.18.0-240.10.1.el8_3.x86_64
	Compiler: gcc 4.8.5 20150623 (Red Hat 4.8.5-44)

Debian Bullseye
	Kernel: 5.4.0-122-generic
	Compiler: gcc 10.2.1-6

To view detailed results, visit:
https://lab.dpdk.org/results/dashboard/patchsets/26266/

UNH-IOL DPDK Community Lab

To manage your email subscriptions, visit: 
https://lab.dpdk.org/results/dashboard/preferences/subscriptions/