From mboxrd@z Thu Jan  1 00:00:00 1970
Return-Path: <test-report-bounces@dpdk.org>
Received: from mails.dpdk.org (mails.dpdk.org [217.70.189.124])
	by inbox.dpdk.org (Postfix) with ESMTP id 9E07042B39
	for <public@inbox.dpdk.org>; Thu, 18 May 2023 10:25:25 +0200 (CEST)
Received: from mails.dpdk.org (localhost [127.0.0.1])
	by mails.dpdk.org (Postfix) with ESMTP id 9B26642BDA;
	Thu, 18 May 2023 10:25:25 +0200 (CEST)
Received: from mail-yw1-f228.google.com (mail-yw1-f228.google.com
 [209.85.128.228])
 by mails.dpdk.org (Postfix) with ESMTP id AE52B42BFE
 for <test-report@dpdk.org>; Thu, 18 May 2023 10:25:23 +0200 (CEST)
Received: by mail-yw1-f228.google.com with SMTP id
 00721157ae682-561d5a16be0so23303017b3.2
 for <test-report@dpdk.org>; Thu, 18 May 2023 01:25:23 -0700 (PDT)
DKIM-Signature: v=1; a=rsa-sha256; c=relaxed/relaxed;
 d=iol.unh.edu; s=unh-iol; t=1684398323; x=1686990323;
 h=cc:to:from:subject:message-id:date:from:to:cc:subject:date
 :message-id:reply-to;
 bh=UnKsqFDD84uXRvUsm/1kMNIfCd/1RsPy/lQkybQH6fY=;
 b=Re9L4gUkGmRcPR7Denwk2uifpHtvIJNhm3RMY1rmGmue4M0FCyiISRzgPaE/PDxLMM
 b7XKy0mXoRHgPElhd3IpjeEjYTO9jfDNiuCj1nEdM4jSZxwe5uPjxvm3WZAO5I76/3M5
 WA/WobfqCWZNrH7FrjqZ2yNV7YyyuQ34MxkiQ=
X-Google-DKIM-Signature: v=1; a=rsa-sha256; c=relaxed/relaxed;
 d=1e100.net; s=20221208; t=1684398323; x=1686990323;
 h=cc:to:from:subject:message-id:date:x-gm-message-state:from:to:cc
 :subject:date:message-id:reply-to;
 bh=UnKsqFDD84uXRvUsm/1kMNIfCd/1RsPy/lQkybQH6fY=;
 b=LvevzHkPJXJI0ZFd7Sn+P3Xhvz1Y0wNPqg8KUuv1rlCZXoNYp3USdHdPIbCSobC670
 h2KHtFfB1i4D31A3uSG0AES8YbhGvm4w1KmxYfHon3K4yN66AKx1rmTTDdB7ADSmkmOI
 PzUezN1MxENVveNfN3nIN+DhH05AwNexRrF7FnvmklpcwAvNuI7owyxJDEEuROumVF6I
 mefN4xgVTPZHEyaoUVRaQI6DlTJ/+jmJcbW2VeeAcULLkUwwuYDL1HaQ6z88l51yyq6e
 bSY+RM5s6ew+kNjH+EixdYwtyiZD8YNON56FZHkXpr0vJoLRwLbtdSKtl6ZpD1YAuYBr
 si4Q==
X-Gm-Message-State: AC+VfDzOKoWYESyGjw1bbdGbLX5dU9xc0Jyb9eVlRnMPF5TZ0/VRvrGx
 2dm5KKOShSpGJu7OgPqr1WoXj/x7Aw4/rdNB+AqkxXcd/BBthwVFdJvCvQ==
X-Google-Smtp-Source: ACHHUZ4fYHAwCZh0+Qdh7tJqWZlxnUBHFq32o+f30Ayz2Tb8fCxreW4ZtS+/Us+kliIO+yLN7pcgn4wxOs5s
X-Received: by 2002:a81:6a82:0:b0:559:e965:fee7 with SMTP id
 f124-20020a816a82000000b00559e965fee7mr690254ywc.41.1684398323163; 
 Thu, 18 May 2023 01:25:23 -0700 (PDT)
Received: from postal.iol.unh.edu (postal.iol.unh.edu. [132.177.123.84])
 by smtp-relay.gmail.com with ESMTPS id
 x17-20020a0dd511000000b00559f15fff3asm35962ywd.45.2023.05.18.01.25.23
 (version=TLS1_2 cipher=ECDHE-ECDSA-AES128-GCM-SHA256 bits=128/128);
 Thu, 18 May 2023 01:25:23 -0700 (PDT)
X-Relaying-Domain: iol.unh.edu
Date: Thu, 18 May 2023 01:25:23 -0700 (PDT)
Message-ID: <6465e0f3.0d0a0220.23a97.3d31SMTPIN_ADDED_MISSING@mx.google.com>
Received: from [172.17.0.2] (unknown [172.18.0.34])
 by postal.iol.unh.edu (Postfix) with ESMTP id BDB08605246B;
 Thu, 18 May 2023 04:25:22 -0400 (EDT)
Subject: |SUCCESS| pw126948 [PATCH] [v3] build: announce requirement for C11
From: dpdklab@iol.unh.edu
To: Test Report <test-report@dpdk.org>
Cc: dpdk-test-reports@iol.unh.edu
Content-Type: text/plain
X-BeenThere: test-report@dpdk.org
X-Mailman-Version: 2.1.29
Precedence: list
List-Id: automatic DPDK test reports <test-report.dpdk.org>
List-Unsubscribe: <https://mails.dpdk.org/options/test-report>,
 <mailto:test-report-request@dpdk.org?subject=unsubscribe>
List-Archive: <http://mails.dpdk.org/archives/test-report/>
List-Post: <mailto:test-report@dpdk.org>
List-Help: <mailto:test-report-request@dpdk.org?subject=help>
List-Subscribe: <https://mails.dpdk.org/listinfo/test-report>,
 <mailto:test-report-request@dpdk.org?subject=subscribe>
Errors-To: test-report-bounces@dpdk.org

Test-Label: iol-abi-testing
Test-Status: SUCCESS
http://dpdk.org/patch/126948

_Testing PASS_

Submitter: Bruce Richardson <bruce.richardson@intel.com>
Date: Wednesday, May 17 2023 17:34:00 
DPDK git baseline: Repo:dpdk
  Branch: master
  CommitID:a399d7b5a994e335c446d4b15d7622d71dd8848c

126948 --> testing pass

Test environment and result as below:

+------------------+----------+
|   Environment    | abi_test |
+==================+==========+
| CentOS Stream 9  | PASS     |
+------------------+----------+
| RHEL8            | PASS     |
+------------------+----------+
| Ubuntu 22.04     | PASS     |
+------------------+----------+
| openSUSE Leap 15 | PASS     |
+------------------+----------+
| RHEL 7           | PASS     |
+------------------+----------+


CentOS Stream 9
	Kernel: 4.18.0-240.10.1.el8_3.x86_64
	Compiler: gcc 11.3.1 20220421

RHEL8
	Kernel: 4.18.0-240.10.1.el8_3.x86_64
	Compiler: gcc 8.3.1 20191121 (Red Hat 8.3.1-5)

Ubuntu 22.04
	Kernel: Container Host Kernel
	Compiler: clang 14.0.5-1.fc36

openSUSE Leap 15
	Kernel: 4.18.0-240.10.1.el8_3.x86_64
	Compiler: gcc 7.5.0

RHEL 7
	Kernel: 4.18.0-240.10.1.el8_3.x86_64
	Compiler: gcc 4.8.5 20150623 (Red Hat 4.8.5-44)

To view detailed results, visit:
https://lab.dpdk.org/results/dashboard/patchsets/26265/

UNH-IOL DPDK Community Lab

To manage your email subscriptions, visit: 
https://lab.dpdk.org/results/dashboard/preferences/subscriptions/