From mboxrd@z Thu Jan  1 00:00:00 1970
Return-Path: <test-report-bounces@dpdk.org>
Received: from mails.dpdk.org (mails.dpdk.org [217.70.189.124])
	by inbox.dpdk.org (Postfix) with ESMTP id 14D8C42B39
	for <public@inbox.dpdk.org>; Thu, 18 May 2023 11:09:30 +0200 (CEST)
Received: from mails.dpdk.org (localhost [127.0.0.1])
	by mails.dpdk.org (Postfix) with ESMTP id E71B44014F;
	Thu, 18 May 2023 11:09:29 +0200 (CEST)
Received: from mail-pg1-f225.google.com (mail-pg1-f225.google.com
 [209.85.215.225])
 by mails.dpdk.org (Postfix) with ESMTP id 5B80E4014F
 for <test-report@dpdk.org>; Thu, 18 May 2023 11:09:28 +0200 (CEST)
Received: by mail-pg1-f225.google.com with SMTP id
 41be03b00d2f7-51b0f9d7d70so1576770a12.1
 for <test-report@dpdk.org>; Thu, 18 May 2023 02:09:28 -0700 (PDT)
DKIM-Signature: v=1; a=rsa-sha256; c=relaxed/relaxed;
 d=iol.unh.edu; s=unh-iol; t=1684400967; x=1686992967;
 h=cc:to:from:subject:message-id:date:from:to:cc:subject:date
 :message-id:reply-to;
 bh=lKiaHFCsozm2hd5Bx5VDhKm0I4GLsTtkKC0yyvSKd6I=;
 b=QJ+2WnnLk7PPT7kA+YrAhcrF/VrlQCl0PrIQzI8Zdk7MFwojMraILVwi0aTdROgRD1
 sK/anBZTr5u4MMkkHDan+2UdsLMfwZDH17z6llNL0Ego1m9319t9SOMUNN9n3Q4AL8cb
 /B4TTS3hHLGSRgNPUyGKkYrZSl2ZwHJTjmXWg=
X-Google-DKIM-Signature: v=1; a=rsa-sha256; c=relaxed/relaxed;
 d=1e100.net; s=20221208; t=1684400967; x=1686992967;
 h=cc:to:from:subject:message-id:date:x-gm-message-state:from:to:cc
 :subject:date:message-id:reply-to;
 bh=lKiaHFCsozm2hd5Bx5VDhKm0I4GLsTtkKC0yyvSKd6I=;
 b=HiQGVvMf+35Lr757IyUdY/gxTj1lLJBH2U4BJvVwBFh4BfDbuOevS0e4hWnKdH2ij0
 CUd3cl8xzu9SgO0moM5gixaapMgGe7oQofb4fDjVeX0OIrdF9sCGAMrLieXXye/R/PLv
 kea6TURwW0n7rJE0EbEo4/t+j8ykQA5XWYojxRFGe7if2QJaoJznlTOC0Bou/5EIILYL
 0YNC8oJVfq2F5qWR8S9by51OK4wVGbIVyxapGEg2q91oWWilk/EjeNTVzwZj3NE1YCES
 L0YlMc9qxzYjsmdMV1LHhdTMosRqDPCFDrZm14Fgtk8KbAjwXvp9SAOM4f/m0maLV8Jv
 jqgw==
X-Gm-Message-State: AC+VfDwLJiSk3U5mfOQnVtp6SD0PD1wQkJ4GTbQ9V7zVizPktXiOsie9
 qAlklv0YD8QCf5p5R7+3juhuLxYELnIB18T2Kiydp47gh1ru4Iym9TZefQ==
X-Google-Smtp-Source: ACHHUZ4bG9JsU0+7NRDIplR16HjWR0vw/SY89erjutdWb/xn9v97oIGaOeNpqhyNqDh4hfqousz3IoSPUAID
X-Received: by 2002:a17:902:ab51:b0:1aa:ebaa:51ce with SMTP id
 ij17-20020a170902ab5100b001aaebaa51cemr1529849plb.14.1684400967485; 
 Thu, 18 May 2023 02:09:27 -0700 (PDT)
Received: from postal.iol.unh.edu (postal.iol.unh.edu. [132.177.123.84])
 by smtp-relay.gmail.com with ESMTPS id
 jn20-20020a170903051400b001a6ade4c8c9sm11996plb.100.2023.05.18.02.09.27
 (version=TLS1_2 cipher=ECDHE-ECDSA-AES128-GCM-SHA256 bits=128/128);
 Thu, 18 May 2023 02:09:27 -0700 (PDT)
X-Relaying-Domain: iol.unh.edu
Date: Thu, 18 May 2023 02:09:27 -0700 (PDT)
Message-ID: <6465eb47.170a0220.14432.1007SMTPIN_ADDED_MISSING@mx.google.com>
Received: from [172.17.0.2] (unknown [172.18.0.34])
 by postal.iol.unh.edu (Postfix) with ESMTP id AD7B1605246B;
 Thu, 18 May 2023 05:09:26 -0400 (EDT)
Subject: |SUCCESS| pw126948 [PATCH] [v3] build: announce requirement for C11
From: dpdklab@iol.unh.edu
To: Test Report <test-report@dpdk.org>
Cc: dpdk-test-reports@iol.unh.edu
Content-Type: text/plain
X-BeenThere: test-report@dpdk.org
X-Mailman-Version: 2.1.29
Precedence: list
List-Id: automatic DPDK test reports <test-report.dpdk.org>
List-Unsubscribe: <https://mails.dpdk.org/options/test-report>,
 <mailto:test-report-request@dpdk.org?subject=unsubscribe>
List-Archive: <http://mails.dpdk.org/archives/test-report/>
List-Post: <mailto:test-report@dpdk.org>
List-Help: <mailto:test-report-request@dpdk.org?subject=help>
List-Subscribe: <https://mails.dpdk.org/listinfo/test-report>,
 <mailto:test-report-request@dpdk.org?subject=subscribe>
Errors-To: test-report-bounces@dpdk.org

Test-Label: iol-aarch64-unit-testing
Test-Status: SUCCESS
http://dpdk.org/patch/126948

_Testing PASS_

Submitter: Bruce Richardson <bruce.richardson@intel.com>
Date: Wednesday, May 17 2023 17:34:00 
DPDK git baseline: Repo:dpdk
  Branch: master
  CommitID:a399d7b5a994e335c446d4b15d7622d71dd8848c

126948 --> testing pass

Test environment and result as below:

+----------------------+---------------------------+------------------------------+--------------+
|     Environment      | cryptodev_sw_zuc_autotest | cryptodev_sw_snow3g_autotest | lpm_autotest |
+======================+===========================+==============================+==============+
| Debian 11            | PASS                      | PASS                         | SKIPPED      |
+----------------------+---------------------------+------------------------------+--------------+
| Ubuntu 20.04 ARM SVE | SKIPPED                   | SKIPPED                      | PASS         |
+----------------------+---------------------------+------------------------------+--------------+


Debian 11
	Kernel: Container Host Kernel
	Compiler: gcc 10.2.1

Ubuntu 20.04 ARM SVE
	Kernel: 5.4.0-80-generic
	Compiler: gcc 10.3.0 (Ubuntu 10.3.0-1ubuntu1~20.04)

To view detailed results, visit:
https://lab.dpdk.org/results/dashboard/patchsets/26265/

UNH-IOL DPDK Community Lab

To manage your email subscriptions, visit: 
https://lab.dpdk.org/results/dashboard/preferences/subscriptions/