From mboxrd@z Thu Jan  1 00:00:00 1970
Return-Path: <test-report-bounces@dpdk.org>
Received: from mails.dpdk.org (mails.dpdk.org [217.70.189.124])
	by inbox.dpdk.org (Postfix) with ESMTP id 89A4642B3A
	for <public@inbox.dpdk.org>; Thu, 18 May 2023 15:39:42 +0200 (CEST)
Received: from mails.dpdk.org (localhost [127.0.0.1])
	by mails.dpdk.org (Postfix) with ESMTP id 696F54014F;
	Thu, 18 May 2023 15:39:42 +0200 (CEST)
Received: from mail-io1-f100.google.com (mail-io1-f100.google.com
 [209.85.166.100])
 by mails.dpdk.org (Postfix) with ESMTP id 85DB54014F
 for <test-report@dpdk.org>; Thu, 18 May 2023 15:39:41 +0200 (CEST)
Received: by mail-io1-f100.google.com with SMTP id
 ca18e2360f4ac-76c5c50ce9cso51814239f.2
 for <test-report@dpdk.org>; Thu, 18 May 2023 06:39:41 -0700 (PDT)
DKIM-Signature: v=1; a=rsa-sha256; c=relaxed/relaxed;
 d=iol.unh.edu; s=unh-iol; t=1684417181; x=1687009181;
 h=cc:to:from:subject:message-id:date:from:to:cc:subject:date
 :message-id:reply-to;
 bh=y3ys4BWYFlJciKvlQnB1V9t+rSAlP6u1COqM+utM/gU=;
 b=AHqX7clDE3cm+TX8A4+emXnO4XKyrLjlBgc5uIDK1sKx82p58pKXNNroFQwb477MOL
 fCfUGrYlpOg2/jVulWYCUCWBzsgbQOhevjMOhpFTFeUHCrGraD1RKdlBWSOd0MWxDxxM
 ANkFtH076frsK/HoVy4wrsaIY8cvv4cSdLnb4=
X-Google-DKIM-Signature: v=1; a=rsa-sha256; c=relaxed/relaxed;
 d=1e100.net; s=20221208; t=1684417181; x=1687009181;
 h=cc:to:from:subject:message-id:date:x-gm-message-state:from:to:cc
 :subject:date:message-id:reply-to;
 bh=y3ys4BWYFlJciKvlQnB1V9t+rSAlP6u1COqM+utM/gU=;
 b=Go9PlmYc61+yb5qlGyZQDKzW8eEBzJkdzHFUSqmV3qL5tc9E+FiQflU79MBfjQV3aU
 i9hQRWPGA8pFDd7bdRFkbLjI6uvxp5fgqWdBoRXWt1EGYUDSGPzIZuhadRtH9O/M0u0w
 eLjhEm1DmpmANxU2QMl2MMBRRnmFxESVGHfSr8SvxvJaaC4pTTlMNw3PqBC7VPnwzcAh
 5+RaUh4950+6ZbfsDilA+dNfbsw3aijidr+yjVpsK1VBbNwsxxr1GYhsvvuMbDolnUsa
 13ebQN0Pz+oPqXKuLx351F2STGkq90Vb0ehKHe2cL2/OMdSGiDGxRplG+VEprI190snM
 HZrQ==
X-Gm-Message-State: AC+VfDyiVOHRkUayGN0TjatvzWPPE1zamrLcdi9KefnVLM2M8/4pJIWl
 0oMp3t9saZVYrlty0GSIQC0AIVZBRyhre1CWHkkSIbomfube/uRTDWAR5cQtMXvIuBfpo1ZTiA=
 =
X-Google-Smtp-Source: ACHHUZ7woeEox/+aXI0xKOuIJS9tgzpdLvSdQRAt4xTBzYz/I1D3uZ7Q2K6sbQIkwSP+aFkU+kZrjsXQOmCu
X-Received: by 2002:a6b:ea0c:0:b0:769:a1dc:c787 with SMTP id
 m12-20020a6bea0c000000b00769a1dcc787mr7016540ioc.13.1684417180727; 
 Thu, 18 May 2023 06:39:40 -0700 (PDT)
Received: from postal.iol.unh.edu (postal.iol.unh.edu.
 [2606:4100:3880:1234::84]) by smtp-relay.gmail.com with ESMTPS id
 m67-20020a6b3f46000000b0076c5e3033c5sm58934ioa.12.2023.05.18.06.39.40
 (version=TLS1_2 cipher=ECDHE-ECDSA-AES128-GCM-SHA256 bits=128/128);
 Thu, 18 May 2023 06:39:40 -0700 (PDT)
X-Relaying-Domain: iol.unh.edu
Date: Thu, 18 May 2023 06:39:40 -0700 (PDT)
Message-ID: <64662a9c.6b0a0220.feb05.4217SMTPIN_ADDED_MISSING@mx.google.com>
Received: from [172.17.0.2] (unknown [172.18.0.34])
 by postal.iol.unh.edu (Postfix) with ESMTP id 42C4B605246B;
 Thu, 18 May 2023 09:39:40 -0400 (EDT)
Subject: |SUCCESS| pw126980-126981 [PATCH] [2/2] common/cnxk: fix
 uninitialized pointer read
From: dpdklab@iol.unh.edu
To: Test Report <test-report@dpdk.org>
Cc: dpdk-test-reports@iol.unh.edu
Content-Type: text/plain
X-BeenThere: test-report@dpdk.org
X-Mailman-Version: 2.1.29
Precedence: list
List-Id: automatic DPDK test reports <test-report.dpdk.org>
List-Unsubscribe: <https://mails.dpdk.org/options/test-report>,
 <mailto:test-report-request@dpdk.org?subject=unsubscribe>
List-Archive: <http://mails.dpdk.org/archives/test-report/>
List-Post: <mailto:test-report@dpdk.org>
List-Help: <mailto:test-report-request@dpdk.org?subject=help>
List-Subscribe: <https://mails.dpdk.org/listinfo/test-report>,
 <mailto:test-report-request@dpdk.org?subject=subscribe>
Errors-To: test-report-bounces@dpdk.org

Test-Label: iol-abi-testing
Test-Status: SUCCESS
http://dpdk.org/patch/126981

_Testing PASS_

Submitter: Satheesh Paul Antonysamy <psatheesh@marvell.com>
Date: Thursday, May 18 2023 10:04:52 
DPDK git baseline: Repo:dpdk
  Branch: master
  CommitID:a399d7b5a994e335c446d4b15d7622d71dd8848c

126980-126981 --> testing pass

Test environment and result as below:

+------------------+----------+
|   Environment    | abi_test |
+==================+==========+
| CentOS Stream 8  | PASS     |
+------------------+----------+
| Debian Buster    | PASS     |
+------------------+----------+
| CentOS Stream 9  | PASS     |
+------------------+----------+
| openSUSE Leap 15 | PASS     |
+------------------+----------+
| Ubuntu 22.04     | PASS     |
+------------------+----------+
| RHEL 7           | PASS     |
+------------------+----------+
| Debian Bullseye  | PASS     |
+------------------+----------+
| RHEL8            | PASS     |
+------------------+----------+


CentOS Stream 8
	Kernel: 4.18.0-240.10.1.el8_3.x86_64
	Compiler: gcc 8.4.1 20200928

Debian Buster
	Kernel: 5.4.0-122-generic
	Compiler: gcc 8.3.0-6

CentOS Stream 9
	Kernel: 4.18.0-240.10.1.el8_3.x86_64
	Compiler: gcc 11.3.1 20220421

openSUSE Leap 15
	Kernel: 4.18.0-240.10.1.el8_3.x86_64
	Compiler: gcc 7.5.0

Ubuntu 22.04
	Kernel: 4.18.0-240.10.1.el8_3.x86_64
	Compiler: gcc 11.3.0

RHEL 7
	Kernel: 4.18.0-240.10.1.el8_3.x86_64
	Compiler: gcc 4.8.5 20150623 (Red Hat 4.8.5-44)

Debian Bullseye
	Kernel: 5.4.0-122-generic
	Compiler: gcc 10.2.1-6

RHEL8
	Kernel: 4.18.0-240.10.1.el8_3.x86_64
	Compiler: gcc 8.3.1 20191121 (Red Hat 8.3.1-5)

To view detailed results, visit:
https://lab.dpdk.org/results/dashboard/patchsets/26281/

UNH-IOL DPDK Community Lab

To manage your email subscriptions, visit: 
https://lab.dpdk.org/results/dashboard/preferences/subscriptions/