From mboxrd@z Thu Jan  1 00:00:00 1970
Return-Path: <test-report-bounces@dpdk.org>
Received: from mails.dpdk.org (mails.dpdk.org [217.70.189.124])
	by inbox.dpdk.org (Postfix) with ESMTP id 0BB3B41CD6
	for <public@inbox.dpdk.org>; Thu, 18 May 2023 16:24:33 +0200 (CEST)
Received: from mails.dpdk.org (localhost [127.0.0.1])
	by mails.dpdk.org (Postfix) with ESMTP id 086004014F;
	Thu, 18 May 2023 16:24:33 +0200 (CEST)
Received: from mail-pl1-f226.google.com (mail-pl1-f226.google.com
 [209.85.214.226])
 by mails.dpdk.org (Postfix) with ESMTP id E20574014F
 for <test-report@dpdk.org>; Thu, 18 May 2023 16:24:31 +0200 (CEST)
Received: by mail-pl1-f226.google.com with SMTP id
 d9443c01a7336-1ae452c2777so9518885ad.0
 for <test-report@dpdk.org>; Thu, 18 May 2023 07:24:31 -0700 (PDT)
DKIM-Signature: v=1; a=rsa-sha256; c=relaxed/relaxed;
 d=iol.unh.edu; s=unh-iol; t=1684419871; x=1687011871;
 h=cc:to:from:subject:message-id:date:from:to:cc:subject:date
 :message-id:reply-to;
 bh=boiXPPWuDgsGwZtlnrpjwIUb0iBDlz/gSXUnn0ICWNE=;
 b=WAOSyB9EyvapVWpiVkOxb7USrIduOuXhv4gtTwjclAO/S8+GrZaptv71aFesO/b6fN
 NVIxE9wWJrUxFQkzvNNCA1fDzR6q5Iugw8Znssk1DJ6z8BiJ0fGMpsrtKqp6um6OivYa
 VNvZrHl8Yr5nt7f6pIAgzIsyi7v2B/088lcNM=
X-Google-DKIM-Signature: v=1; a=rsa-sha256; c=relaxed/relaxed;
 d=1e100.net; s=20221208; t=1684419871; x=1687011871;
 h=cc:to:from:subject:message-id:date:x-gm-message-state:from:to:cc
 :subject:date:message-id:reply-to;
 bh=boiXPPWuDgsGwZtlnrpjwIUb0iBDlz/gSXUnn0ICWNE=;
 b=Uia/0n8N8ZNXNfGA2Xake29f1+Sp3KauoHbuXBk3xpx5RJtnUpubwUHnEWRAx5e8Qv
 2qjcskALglBVt7ULegMy4iZD885U395lPRQWaiMShnLOl4jupvbJrbX+0M2VQcdqyFUi
 IEDHJY+gZgmfDE15DPWFVQVS8ONThSez3Ac3WS2Yhm11qQppm18U1EsceKq0Rit/6n4A
 vrU3YVHme8330LIxn/QhG7Zq5A/ummtdZ7TChmpnP1pHMSyurIdIhzjd3puzo4Ok4npj
 2ajBnxL8watkZkUod7TfAY9PwlkXGyncic3AQ43uHNwZUsjDaWT14YyNaUBlGlem/DqS
 +b+Q==
X-Gm-Message-State: AC+VfDxCs5qIDeiaN7AIogodQnws81cK+sML17vOkke/77GWz+cg4kqm
 +4YPDwycrNs8bNEqJibvtt7VwZnCv4joQS6cimTsveWaicCMYEQFIXadKg==
X-Google-Smtp-Source: ACHHUZ78HgOpN+wypv5eJl1o9zT77WfUm12VntcyiElsyAvkLMGHbmghc82JAo30ex+mQ0s9vJq6u9+Yfrfn
X-Received: by 2002:a17:902:d48e:b0:1ac:8835:b881 with SMTP id
 c14-20020a170902d48e00b001ac8835b881mr2855701plg.17.1684419871108; 
 Thu, 18 May 2023 07:24:31 -0700 (PDT)
Received: from postal.iol.unh.edu (postal.iol.unh.edu. [132.177.123.84])
 by smtp-relay.gmail.com with ESMTPS id
 ja17-20020a170902efd100b001ab18eacb9esm26929plb.5.2023.05.18.07.24.30
 (version=TLS1_2 cipher=ECDHE-ECDSA-AES128-GCM-SHA256 bits=128/128);
 Thu, 18 May 2023 07:24:31 -0700 (PDT)
X-Relaying-Domain: iol.unh.edu
Date: Thu, 18 May 2023 07:24:31 -0700 (PDT)
Message-ID: <6466351f.170a0220.4eeff.2242SMTPIN_ADDED_MISSING@mx.google.com>
Received: from [172.17.0.2] (unknown [172.18.0.34])
 by postal.iol.unh.edu (Postfix) with ESMTP id 918E0605246B;
 Thu, 18 May 2023 10:24:30 -0400 (EDT)
Subject: |SUCCESS| pw126984-126988 [PATCH] [5/5] net/hns3: add Tx/Rx
 descriptor logs
From: dpdklab@iol.unh.edu
To: Test Report <test-report@dpdk.org>
Cc: dpdk-test-reports@iol.unh.edu
Content-Type: text/plain
X-BeenThere: test-report@dpdk.org
X-Mailman-Version: 2.1.29
Precedence: list
List-Id: automatic DPDK test reports <test-report.dpdk.org>
List-Unsubscribe: <https://mails.dpdk.org/options/test-report>,
 <mailto:test-report-request@dpdk.org?subject=unsubscribe>
List-Archive: <http://mails.dpdk.org/archives/test-report/>
List-Post: <mailto:test-report@dpdk.org>
List-Help: <mailto:test-report-request@dpdk.org?subject=help>
List-Subscribe: <https://mails.dpdk.org/listinfo/test-report>,
 <mailto:test-report-request@dpdk.org?subject=subscribe>
Errors-To: test-report-bounces@dpdk.org

Test-Label: iol-abi-testing
Test-Status: SUCCESS
http://dpdk.org/patch/126988

_Testing PASS_

Submitter: Dongdong Liu <liudongdong3@huawei.com>
Date: Thursday, May 18 2023 11:29:44 
DPDK git baseline: Repo:dpdk
  Branch: master
  CommitID:a399d7b5a994e335c446d4b15d7622d71dd8848c

126984-126988 --> testing pass

Test environment and result as below:

+------------------+----------+
|   Environment    | abi_test |
+==================+==========+
| Ubuntu 22.04     | PASS     |
+------------------+----------+
| RHEL 7           | PASS     |
+------------------+----------+
| CentOS Stream 8  | PASS     |
+------------------+----------+
| Debian Bullseye  | PASS     |
+------------------+----------+
| CentOS Stream 9  | PASS     |
+------------------+----------+
| Debian Buster    | PASS     |
+------------------+----------+
| openSUSE Leap 15 | PASS     |
+------------------+----------+


Ubuntu 22.04
	Kernel: Container Host Kernel
	Compiler: gcc 12.2.1-2

RHEL 7
	Kernel: 4.18.0-240.10.1.el8_3.x86_64
	Compiler: gcc 4.8.5 20150623 (Red Hat 4.8.5-44)

CentOS Stream 8
	Kernel: 4.18.0-240.10.1.el8_3.x86_64
	Compiler: gcc 8.4.1 20200928

Debian Bullseye
	Kernel: 5.4.0-122-generic
	Compiler: gcc 10.2.1-6

CentOS Stream 9
	Kernel: 4.18.0-240.10.1.el8_3.x86_64
	Compiler: gcc 11.3.1 20220421

Debian Buster
	Kernel: 5.4.0-122-generic
	Compiler: gcc 8.3.0-6

openSUSE Leap 15
	Kernel: 4.18.0-240.10.1.el8_3.x86_64
	Compiler: gcc 7.5.0

To view detailed results, visit:
https://lab.dpdk.org/results/dashboard/patchsets/26283/

UNH-IOL DPDK Community Lab

To manage your email subscriptions, visit: 
https://lab.dpdk.org/results/dashboard/preferences/subscriptions/