From mboxrd@z Thu Jan  1 00:00:00 1970
Return-Path: <test-report-bounces@dpdk.org>
Received: from mails.dpdk.org (mails.dpdk.org [217.70.189.124])
	by inbox.dpdk.org (Postfix) with ESMTP id C97A942B34
	for <public@inbox.dpdk.org>; Thu, 18 May 2023 18:19:16 +0200 (CEST)
Received: from mails.dpdk.org (localhost [127.0.0.1])
	by mails.dpdk.org (Postfix) with ESMTP id C7D044014F;
	Thu, 18 May 2023 18:19:16 +0200 (CEST)
Received: from mail-yw1-f225.google.com (mail-yw1-f225.google.com
 [209.85.128.225])
 by mails.dpdk.org (Postfix) with ESMTP id E38754014F
 for <test-report@dpdk.org>; Thu, 18 May 2023 18:19:15 +0200 (CEST)
Received: by mail-yw1-f225.google.com with SMTP id
 00721157ae682-561d5b34e10so23586087b3.1
 for <test-report@dpdk.org>; Thu, 18 May 2023 09:19:15 -0700 (PDT)
DKIM-Signature: v=1; a=rsa-sha256; c=relaxed/relaxed;
 d=iol.unh.edu; s=unh-iol; t=1684426755; x=1687018755;
 h=cc:to:from:subject:message-id:date:from:to:cc:subject:date
 :message-id:reply-to;
 bh=rQYmdNu2H/PSeS696SX47dpLXbt607smi2J8CB7zTIQ=;
 b=bcFlqXXHGpNOFyiUflQw0fB0xaYsPrc9ITym4BCUmWZ5cIFs1mvtLAF8V08mb+Nd1J
 OV1Wf1r97MxYrBw71oOusyMGyImIiWQfrMWVNnfNq5rhRIIEPGsAqveV6cm9x6rXuvXe
 RwS9bJQCN2yQxzeRmlt1IvVB/OAtVmKP0ONok=
X-Google-DKIM-Signature: v=1; a=rsa-sha256; c=relaxed/relaxed;
 d=1e100.net; s=20221208; t=1684426755; x=1687018755;
 h=cc:to:from:subject:message-id:date:x-gm-message-state:from:to:cc
 :subject:date:message-id:reply-to;
 bh=rQYmdNu2H/PSeS696SX47dpLXbt607smi2J8CB7zTIQ=;
 b=A9WKNNXxWS0qGOlkPJLhvCXCuiWRRgLM0sLchgp8U00T8o9xG2OzZHYvS37hA9eM3+
 lP2Dscq0KRfV7wYZEXDpxpFx4jiVC5HJN0vTB4hMSecWpo1qs3dJyr5YT1Zwwry4arI/
 FQPJLSOaXNX6Fd6UFjzcIqpx+bSiNsDWVYsCMtw+c9yf2Ku3gjtua+y6eGkp9M8/q6/r
 qi9rzXPbJZZ2YYmitj0rh+aE/AGbIpk0kIDvz7876ntQaClYF7RMDqY9mlhzr1mBKi5m
 GlLjsic5OW9sXP5T0VzIptBJk09FVXhmTieXya4Sf6XMzc6Dug1OuYpplMWesUtjZalw
 ndVQ==
X-Gm-Message-State: AC+VfDxRbCXSA2FeDcjpPnehnFEqzaoGulxSUK5sGM1QAIvFGvK3yCIf
 VAo9GqxEvlZLj+AgM5ETcWfzdN0wtON2thpRK28+Zm+BOmy/dS1YBjQ4Rg==
X-Google-Smtp-Source: ACHHUZ7GsMRt17sCa0JstD41mlVKr49K8hBO6C3z1KNjM4Og9lUWsY9CRDCyVpOzdciEyZBciVsXTCGJihRf
X-Received: by 2002:a81:a042:0:b0:561:a7d9:6d26 with SMTP id
 x63-20020a81a042000000b00561a7d96d26mr1677834ywg.11.1684426755267; 
 Thu, 18 May 2023 09:19:15 -0700 (PDT)
Received: from postal.iol.unh.edu (postal.iol.unh.edu. [132.177.123.84])
 by smtp-relay.gmail.com with ESMTPS id
 p1-20020a0de601000000b0055a7c5ab6a0sm78865ywe.15.2023.05.18.09.19.15
 (version=TLS1_2 cipher=ECDHE-ECDSA-AES128-GCM-SHA256 bits=128/128);
 Thu, 18 May 2023 09:19:15 -0700 (PDT)
X-Relaying-Domain: iol.unh.edu
Date: Thu, 18 May 2023 09:19:15 -0700 (PDT)
Message-ID: <64665003.0d0a0220.55979.5c63SMTPIN_ADDED_MISSING@mx.google.com>
Received: from [172.17.0.2] (unknown [172.18.0.34])
 by postal.iol.unh.edu (Postfix) with ESMTP id E2015605246B;
 Thu, 18 May 2023 12:19:14 -0400 (EDT)
Subject: |SUCCESS| pw126993 [PATCH] [v1] doc: process for new library approval
 in principle
From: dpdklab@iol.unh.edu
To: Test Report <test-report@dpdk.org>
Cc: dpdk-test-reports@iol.unh.edu
Content-Type: text/plain
X-BeenThere: test-report@dpdk.org
X-Mailman-Version: 2.1.29
Precedence: list
List-Id: automatic DPDK test reports <test-report.dpdk.org>
List-Unsubscribe: <https://mails.dpdk.org/options/test-report>,
 <mailto:test-report-request@dpdk.org?subject=unsubscribe>
List-Archive: <http://mails.dpdk.org/archives/test-report/>
List-Post: <mailto:test-report@dpdk.org>
List-Help: <mailto:test-report-request@dpdk.org?subject=help>
List-Subscribe: <https://mails.dpdk.org/listinfo/test-report>,
 <mailto:test-report-request@dpdk.org?subject=subscribe>
Errors-To: test-report-bounces@dpdk.org

Test-Label: iol-abi-testing
Test-Status: SUCCESS
http://dpdk.org/patch/126993

_Testing PASS_

Submitter: Jerin Jacob Kollanukkaran <jerinj@marvell.com>
Date: Thursday, May 18 2023 13:21:39 
DPDK git baseline: Repo:dpdk
  Branch: master
  CommitID:a399d7b5a994e335c446d4b15d7622d71dd8848c

126993 --> testing pass

Test environment and result as below:

+-----------------+----------+
|   Environment   | abi_test |
+=================+==========+
| Debian Bullseye | PASS     |
+-----------------+----------+
| RHEL 7          | PASS     |
+-----------------+----------+
| CentOS Stream 9 | PASS     |
+-----------------+----------+


Debian Bullseye
	Kernel: 5.4.0-122-generic
	Compiler: gcc 10.2.1-6

RHEL 7
	Kernel: 4.18.0-240.10.1.el8_3.x86_64
	Compiler: gcc 4.8.5 20150623 (Red Hat 4.8.5-44)

CentOS Stream 9
	Kernel: 4.18.0-240.10.1.el8_3.x86_64
	Compiler: gcc 11.3.1 20220421

To view detailed results, visit:
https://lab.dpdk.org/results/dashboard/patchsets/26285/

UNH-IOL DPDK Community Lab

To manage your email subscriptions, visit: 
https://lab.dpdk.org/results/dashboard/preferences/subscriptions/