From mboxrd@z Thu Jan  1 00:00:00 1970
Return-Path: <test-report-bounces@dpdk.org>
Received: from mails.dpdk.org (mails.dpdk.org [217.70.189.124])
	by inbox.dpdk.org (Postfix) with ESMTP id D203642B34
	for <public@inbox.dpdk.org>; Thu, 18 May 2023 20:43:39 +0200 (CEST)
Received: from mails.dpdk.org (localhost [127.0.0.1])
	by mails.dpdk.org (Postfix) with ESMTP id B703740A8A;
	Thu, 18 May 2023 20:43:39 +0200 (CEST)
Received: from mail-qv1-f98.google.com (mail-qv1-f98.google.com
 [209.85.219.98]) by mails.dpdk.org (Postfix) with ESMTP id D950B40A8A
 for <test-report@dpdk.org>; Thu, 18 May 2023 20:43:38 +0200 (CEST)
Received: by mail-qv1-f98.google.com with SMTP id
 6a1803df08f44-623852980dfso11165856d6.0
 for <test-report@dpdk.org>; Thu, 18 May 2023 11:43:38 -0700 (PDT)
DKIM-Signature: v=1; a=rsa-sha256; c=relaxed/relaxed;
 d=iol.unh.edu; s=unh-iol; t=1684435418; x=1687027418;
 h=cc:to:from:subject:message-id:date:from:to:cc:subject:date
 :message-id:reply-to;
 bh=lorMA6JEZPkGS+5ecLfCysxlRItrqKiXth5xfE/YglQ=;
 b=LceYAxfMYOegOYipn9v5a8CYXH7KlRGoaWZJDkdZ01AqhikxVunTjeLUB89YMmP+WM
 GM/uxXM4Ir78rwfImCgzK58xOivPE8FT3naaBx5D6Sf+Fk4uPsBQ7LEQT6iY6LKytlKW
 g2bnxUDb6pFQOty7ZjQN8rfFgNpd3qyVo9BxM=
X-Google-DKIM-Signature: v=1; a=rsa-sha256; c=relaxed/relaxed;
 d=1e100.net; s=20221208; t=1684435418; x=1687027418;
 h=cc:to:from:subject:message-id:date:x-gm-message-state:from:to:cc
 :subject:date:message-id:reply-to;
 bh=lorMA6JEZPkGS+5ecLfCysxlRItrqKiXth5xfE/YglQ=;
 b=QYhnAPrdpuF4j9beUrxfo/qo/axGtat7JkO+1ph6KGcOfJ1N6VbszxqE8zIkY7hgEt
 Ek+8tPpB6/Ue9ryrSUUupdXn8pHe3fzJ/htgvKpLDYbeeKJbTpEzI6GHtsA9vH/l9CXR
 NFyiUWNmycvvoSsVkEPdSmz9ClsCnNp5OX2SKzMS87bQYVZtcn3Mucf7tApiTh4v4EPq
 jsbh5+X5SAcEXhlYXLqubPdrsbsxVol/ot8eghUFiQeLqxcTczgn5OrcJdyLtliIDi+n
 Tq0EKTf2TctNQJlYnGq8vzhh/xX69cBNZUOC5ZbIvBIn8GylwDGaNRcMnLLWSuH4PcHw
 CBOQ==
X-Gm-Message-State: AC+VfDw8eeCXD5JqiSq2ovMeu7TNNKYH4uY2lpt5nrDEiWMV6v1a671t
 qGRgMWkVwgE/FUyB0d6DH3m9/adTC3fSssCuYq1w2OZ/Pxv1Y/VaIgNviA==
X-Google-Smtp-Source: ACHHUZ4q3pX0Uzg4FGrxvN03SYbGEjcKlXru8c/HG1bC6uiJuqwiLxTvI0yI+2hAty4ryWi+A0gSMj5wIdHz
X-Received: by 2002:ad4:5742:0:b0:623:8387:3d0f with SMTP id
 q2-20020ad45742000000b0062383873d0fmr1006512qvx.28.1684435418288; 
 Thu, 18 May 2023 11:43:38 -0700 (PDT)
Received: from postal.iol.unh.edu (postal.iol.unh.edu. [132.177.123.84])
 by smtp-relay.gmail.com with ESMTPS id
 f5-20020a0ccc85000000b006238dd5ee3dsm78926qvl.28.2023.05.18.11.43.38
 (version=TLS1_2 cipher=ECDHE-ECDSA-AES128-GCM-SHA256 bits=128/128);
 Thu, 18 May 2023 11:43:38 -0700 (PDT)
X-Relaying-Domain: iol.unh.edu
Date: Thu, 18 May 2023 11:43:38 -0700 (PDT)
Message-ID: <646671da.0c0a0220.411b6.42b6SMTPIN_ADDED_MISSING@mx.google.com>
Received: from [172.17.0.2] (unknown [172.18.0.34])
 by postal.iol.unh.edu (Postfix) with ESMTP id 04768605246B;
 Thu, 18 May 2023 14:43:38 -0400 (EDT)
Subject: |SUCCESS| pw126995-127014 [PATCH] [v2,
 20/20] net/ice/base: add new AQ ro read HW sensors
From: dpdklab@iol.unh.edu
To: Test Report <test-report@dpdk.org>
Cc: dpdk-test-reports@iol.unh.edu
Content-Type: text/plain
X-BeenThere: test-report@dpdk.org
X-Mailman-Version: 2.1.29
Precedence: list
List-Id: automatic DPDK test reports <test-report.dpdk.org>
List-Unsubscribe: <https://mails.dpdk.org/options/test-report>,
 <mailto:test-report-request@dpdk.org?subject=unsubscribe>
List-Archive: <http://mails.dpdk.org/archives/test-report/>
List-Post: <mailto:test-report@dpdk.org>
List-Help: <mailto:test-report-request@dpdk.org?subject=help>
List-Subscribe: <https://mails.dpdk.org/listinfo/test-report>,
 <mailto:test-report-request@dpdk.org?subject=subscribe>
Errors-To: test-report-bounces@dpdk.org

Test-Label: iol-abi-testing
Test-Status: SUCCESS
http://dpdk.org/patch/127014

_Testing PASS_

Submitter: Qiming Yang <qiming.yang@intel.com>
Date: Thursday, May 18 2023 15:16:38 
DPDK git baseline: Repo:dpdk
  Branch: master
  CommitID:a399d7b5a994e335c446d4b15d7622d71dd8848c

126995-127014 --> testing pass

Test environment and result as below:

+------------------+----------+
|   Environment    | abi_test |
+==================+==========+
| CentOS Stream 9  | PASS     |
+------------------+----------+
| openSUSE Leap 15 | PASS     |
+------------------+----------+
| Ubuntu 22.04     | PASS     |
+------------------+----------+
| RHEL 7           | PASS     |
+------------------+----------+


CentOS Stream 9
	Kernel: 4.18.0-240.10.1.el8_3.x86_64
	Compiler: gcc 11.3.1 20220421

openSUSE Leap 15
	Kernel: 4.18.0-240.10.1.el8_3.x86_64
	Compiler: gcc 7.5.0

Ubuntu 22.04
	Kernel: Container Host Kernel
	Compiler: clang 14.0.5-1.fc36

RHEL 7
	Kernel: 4.18.0-240.10.1.el8_3.x86_64
	Compiler: gcc 4.8.5 20150623 (Red Hat 4.8.5-44)

To view detailed results, visit:
https://lab.dpdk.org/results/dashboard/patchsets/26286/

UNH-IOL DPDK Community Lab

To manage your email subscriptions, visit: 
https://lab.dpdk.org/results/dashboard/preferences/subscriptions/