From mboxrd@z Thu Jan  1 00:00:00 1970
Return-Path: <test-report-bounces@dpdk.org>
Received: from mails.dpdk.org (mails.dpdk.org [217.70.189.124])
	by inbox.dpdk.org (Postfix) with ESMTP id 02B6D42B34
	for <public@inbox.dpdk.org>; Thu, 18 May 2023 20:53:12 +0200 (CEST)
Received: from mails.dpdk.org (localhost [127.0.0.1])
	by mails.dpdk.org (Postfix) with ESMTP id 002B140A8A;
	Thu, 18 May 2023 20:53:11 +0200 (CEST)
Received: from mail-pf1-f228.google.com (mail-pf1-f228.google.com
 [209.85.210.228])
 by mails.dpdk.org (Postfix) with ESMTP id D1CCD40A8A
 for <test-report@dpdk.org>; Thu, 18 May 2023 20:53:09 +0200 (CEST)
Received: by mail-pf1-f228.google.com with SMTP id
 d2e1a72fcca58-6439f186366so1761652b3a.2
 for <test-report@dpdk.org>; Thu, 18 May 2023 11:53:09 -0700 (PDT)
DKIM-Signature: v=1; a=rsa-sha256; c=relaxed/relaxed;
 d=iol.unh.edu; s=unh-iol; t=1684435989; x=1687027989;
 h=cc:to:from:subject:message-id:date:from:to:cc:subject:date
 :message-id:reply-to;
 bh=IS9IkhFAB2h6keRuWMYpgji9uuHBg/efDvnOgl9ROnA=;
 b=PZy2jupq/hba7f0acSNgviqOBkQVSo44FlYObvXmzbzlMTvrU6ERoxrv8vwwX8X2IR
 BqyVV32QFhAp4WS/ZvmHm3q7KK7KVV2BsPYcYnzJtGhJY4wtKO5Pb2VoUQgLqJesEU7/
 9mh1Trd2NRG4NRldd0fpIPrxlwiu4MW6+wzOs=
X-Google-DKIM-Signature: v=1; a=rsa-sha256; c=relaxed/relaxed;
 d=1e100.net; s=20221208; t=1684435989; x=1687027989;
 h=cc:to:from:subject:message-id:date:x-gm-message-state:from:to:cc
 :subject:date:message-id:reply-to;
 bh=IS9IkhFAB2h6keRuWMYpgji9uuHBg/efDvnOgl9ROnA=;
 b=Jd1+yC5x+209XGX9TYedCS8dIyHvfJSFuqKIkouWmb0nXSqr77mxfcWC5W2glD+ipo
 f9SY3X7FnnJm/4AGWAqtRE5jh1+fLtHlkyRuSHO5GKA+LZh3PcBN/HCNDFBnJgK1Wian
 U8A/MoiB6YZM8+Rt6YEOL0Hj0eY4QKPE4ocmOxV43axPGipj2bQVK3/+vbNkac2Q7xVm
 3OYPOxCKw5oA8NCkdMKsumx/N5u6syX337qO7dsmngCg6RDI+K93xbdGz2QYx8siX/ie
 Vtv2QyeUTQzMCfqqaPprDZksXoX6ivcw8l4N47c4USaV5ghICg80pqSSbpa7m3MIfnc4
 oRBQ==
X-Gm-Message-State: AC+VfDz4pZFt8Rc0RxLoum9oTpcwc3p7/YVg6Id4geNqxXrrFiXmnM6l
 t0k6vWBJ/37aRDfl5uxYFtltcPUQQOuggbTIT+8trVQrUn5oRIk52Nb7LQ==
X-Google-Smtp-Source: ACHHUZ67no5E3szVsT2mkEiYZSGM3Y+nz2MWJD/9EJ0tLF5RidksPuJ1wkuTxiI/YObURFTY51WOESxpS5gc
X-Received: by 2002:a05:6a20:440d:b0:103:4c5d:667a with SMTP id
 ce13-20020a056a20440d00b001034c5d667amr900267pzb.4.1684435989002; 
 Thu, 18 May 2023 11:53:09 -0700 (PDT)
Received: from postal.iol.unh.edu (postal.iol.unh.edu. [132.177.123.84])
 by smtp-relay.gmail.com with ESMTPS id
 j21-20020a170902c3d500b001ac3e25a3e3sm53103plj.127.2023.05.18.11.53.08
 (version=TLS1_2 cipher=ECDHE-ECDSA-AES128-GCM-SHA256 bits=128/128);
 Thu, 18 May 2023 11:53:08 -0700 (PDT)
X-Relaying-Domain: iol.unh.edu
Date: Thu, 18 May 2023 11:53:08 -0700 (PDT)
Message-ID: <64667414.170a0220.fb1d0.2f09SMTPIN_ADDED_MISSING@mx.google.com>
Received: from [172.17.0.3] (unknown [172.18.0.34])
 by postal.iol.unh.edu (Postfix) with ESMTP id 7CE87605246B;
 Thu, 18 May 2023 14:53:08 -0400 (EDT)
Subject: |SUCCESS| pw126995-127014 [PATCH] [v2,
 20/20] net/ice/base: add new AQ ro read HW sensors
From: dpdklab@iol.unh.edu
To: Test Report <test-report@dpdk.org>
Cc: dpdk-test-reports@iol.unh.edu
Content-Type: text/plain
X-BeenThere: test-report@dpdk.org
X-Mailman-Version: 2.1.29
Precedence: list
List-Id: automatic DPDK test reports <test-report.dpdk.org>
List-Unsubscribe: <https://mails.dpdk.org/options/test-report>,
 <mailto:test-report-request@dpdk.org?subject=unsubscribe>
List-Archive: <http://mails.dpdk.org/archives/test-report/>
List-Post: <mailto:test-report@dpdk.org>
List-Help: <mailto:test-report-request@dpdk.org?subject=help>
List-Subscribe: <https://mails.dpdk.org/listinfo/test-report>,
 <mailto:test-report-request@dpdk.org?subject=subscribe>
Errors-To: test-report-bounces@dpdk.org

Test-Label: iol-abi-testing
Test-Status: SUCCESS
http://dpdk.org/patch/127014

_Testing PASS_

Submitter: Qiming Yang <qiming.yang@intel.com>
Date: Thursday, May 18 2023 15:16:38 
DPDK git baseline: Repo:dpdk
  Branch: master
  CommitID:a399d7b5a994e335c446d4b15d7622d71dd8848c

126995-127014 --> testing pass

Test environment and result as below:

+------------------+----------+
|   Environment    | abi_test |
+==================+==========+
| CentOS Stream 9  | PASS     |
+------------------+----------+
| openSUSE Leap 15 | PASS     |
+------------------+----------+
| Ubuntu 22.04     | PASS     |
+------------------+----------+
| RHEL 7           | PASS     |
+------------------+----------+
| Debian Bullseye  | PASS     |
+------------------+----------+


CentOS Stream 9
	Kernel: 4.18.0-240.10.1.el8_3.x86_64
	Compiler: gcc 11.3.1 20220421

openSUSE Leap 15
	Kernel: 4.18.0-240.10.1.el8_3.x86_64
	Compiler: gcc 7.5.0

Ubuntu 22.04
	Kernel: Container Host Kernel
	Compiler: clang 14.0.5-1.fc36

RHEL 7
	Kernel: 4.18.0-240.10.1.el8_3.x86_64
	Compiler: gcc 4.8.5 20150623 (Red Hat 4.8.5-44)

Debian Bullseye
	Kernel: 5.4.0-122-generic
	Compiler: gcc 10.2.1-6

To view detailed results, visit:
https://lab.dpdk.org/results/dashboard/patchsets/26286/

UNH-IOL DPDK Community Lab

To manage your email subscriptions, visit: 
https://lab.dpdk.org/results/dashboard/preferences/subscriptions/