From mboxrd@z Thu Jan  1 00:00:00 1970
Return-Path: <test-report-bounces@dpdk.org>
Received: from mails.dpdk.org (mails.dpdk.org [217.70.189.124])
	by inbox.dpdk.org (Postfix) with ESMTP id DB7AA42B34
	for <public@inbox.dpdk.org>; Thu, 18 May 2023 21:10:55 +0200 (CEST)
Received: from mails.dpdk.org (localhost [127.0.0.1])
	by mails.dpdk.org (Postfix) with ESMTP id B776D40A8A;
	Thu, 18 May 2023 21:10:55 +0200 (CEST)
Received: from mail-yb1-f226.google.com (mail-yb1-f226.google.com
 [209.85.219.226])
 by mails.dpdk.org (Postfix) with ESMTP id EBFFF40A8A
 for <test-report@dpdk.org>; Thu, 18 May 2023 21:10:54 +0200 (CEST)
Received: by mail-yb1-f226.google.com with SMTP id
 3f1490d57ef6-ba8afcc82c0so1376067276.2
 for <test-report@dpdk.org>; Thu, 18 May 2023 12:10:54 -0700 (PDT)
DKIM-Signature: v=1; a=rsa-sha256; c=relaxed/relaxed;
 d=iol.unh.edu; s=unh-iol; t=1684437054; x=1687029054;
 h=cc:to:from:subject:message-id:date:from:to:cc:subject:date
 :message-id:reply-to;
 bh=q1a3wSrVNXDIB2mgVCT8px1+fghGfNPxRvHJG1+hcuA=;
 b=P1NVBL98BS04YukEoEowvMsN8r8A3pFUVWXc8yXTAtOEkUdQyd4GrrZ20JChtmK+sy
 Si9nT8M5KoupE3iWEewZoBi9AySGfemGStlE590LK1n8/8pvXXFKTYd4fiWgc1T7hkcJ
 7yhPov6uH9Kz/ViwA+J9L8k4/EMK0czk/LVs4=
X-Google-DKIM-Signature: v=1; a=rsa-sha256; c=relaxed/relaxed;
 d=1e100.net; s=20221208; t=1684437054; x=1687029054;
 h=cc:to:from:subject:message-id:date:x-gm-message-state:from:to:cc
 :subject:date:message-id:reply-to;
 bh=q1a3wSrVNXDIB2mgVCT8px1+fghGfNPxRvHJG1+hcuA=;
 b=gsA5OkgmgK7L6853FkoLHpIAOOlsdS5ybsfEGjg0Bsk/0v8EAs9OChzNAiSO+Y5hAH
 d1k89BwqKZh2C+rrKsNjb57bjU7Xa0sntV9GRCrrISjnK6VMQ6jl45v0AvtVewz0omX4
 QlPO/mt0W9VC7ukutYrvmLzy0G7gzz/v3FxHv7JJVihhW5imBME0fRfWNBhKLbGbCjDv
 XPlbdOsPWYE8SOSPaE8jHs0C0YJY0HgDtOOr3eWQRCu3PwzqjrntVp+gSpRMRAAEavPV
 HhQrGCagYKV0WCqm0qszo0R9FPkw/N37msOJULh5Vp1rsIZzaMB4HU5uAdRPp3hMXrPL
 Fs9Q==
X-Gm-Message-State: AC+VfDzuZpWN9KZm4/JG+Au3+ljt5NQBwBCg4P9Xebv0unManWDgaN3c
 JwzQRrk2N80pAVdMA21sUhgQKdSpMlr2FqfiuLe1d65yw5Vqxtr0aTGTQEmCGjLk7dV+TZdMbA=
 =
X-Google-Smtp-Source: ACHHUZ6z12+zbI5WBWeT8Ok1ZX4hofDEFNvfJR0bRhCPj95rkbUhPKV5Wq+8EdPOH58xz0dJi4agvZPG/g3F
X-Received: by 2002:a25:e74c:0:b0:ba5:ee5a:f41c with SMTP id
 e73-20020a25e74c000000b00ba5ee5af41cmr132027ybh.1.1684437054362; 
 Thu, 18 May 2023 12:10:54 -0700 (PDT)
Received: from postal.iol.unh.edu (postal.iol.unh.edu.
 [2606:4100:3880:1234::84]) by smtp-relay.gmail.com with ESMTPS id
 n13-20020a25d60d000000b00ba7968a2deesm111474ybg.3.2023.05.18.12.10.54
 (version=TLS1_2 cipher=ECDHE-ECDSA-AES128-GCM-SHA256 bits=128/128);
 Thu, 18 May 2023 12:10:54 -0700 (PDT)
X-Relaying-Domain: iol.unh.edu
Date: Thu, 18 May 2023 12:10:54 -0700 (PDT)
Message-ID: <6466783e.250a0220.499d4.6936SMTPIN_ADDED_MISSING@mx.google.com>
Received: from [172.17.0.2] (unknown [172.18.0.34])
 by postal.iol.unh.edu (Postfix) with ESMTP id C865A605246B;
 Thu, 18 May 2023 15:10:53 -0400 (EDT)
Subject: |SUCCESS| pw126995-127014 [PATCH] [v2,
 20/20] net/ice/base: add new AQ ro read HW sensors
From: dpdklab@iol.unh.edu
To: Test Report <test-report@dpdk.org>
Cc: dpdk-test-reports@iol.unh.edu
Content-Type: text/plain
X-BeenThere: test-report@dpdk.org
X-Mailman-Version: 2.1.29
Precedence: list
List-Id: automatic DPDK test reports <test-report.dpdk.org>
List-Unsubscribe: <https://mails.dpdk.org/options/test-report>,
 <mailto:test-report-request@dpdk.org?subject=unsubscribe>
List-Archive: <http://mails.dpdk.org/archives/test-report/>
List-Post: <mailto:test-report@dpdk.org>
List-Help: <mailto:test-report-request@dpdk.org?subject=help>
List-Subscribe: <https://mails.dpdk.org/listinfo/test-report>,
 <mailto:test-report-request@dpdk.org?subject=subscribe>
Errors-To: test-report-bounces@dpdk.org

Test-Label: iol-abi-testing
Test-Status: SUCCESS
http://dpdk.org/patch/127014

_Testing PASS_

Submitter: Qiming Yang <qiming.yang@intel.com>
Date: Thursday, May 18 2023 15:16:38 
DPDK git baseline: Repo:dpdk
  Branch: master
  CommitID:a399d7b5a994e335c446d4b15d7622d71dd8848c

126995-127014 --> testing pass

Test environment and result as below:

+------------------+----------+
|   Environment    | abi_test |
+==================+==========+
| CentOS Stream 9  | PASS     |
+------------------+----------+
| openSUSE Leap 15 | PASS     |
+------------------+----------+
| Ubuntu 22.04     | PASS     |
+------------------+----------+
| RHEL 7           | PASS     |
+------------------+----------+
| Debian Bullseye  | PASS     |
+------------------+----------+
| RHEL8            | PASS     |
+------------------+----------+


CentOS Stream 9
	Kernel: 4.18.0-240.10.1.el8_3.x86_64
	Compiler: gcc 11.3.1 20220421

openSUSE Leap 15
	Kernel: 4.18.0-240.10.1.el8_3.x86_64
	Compiler: gcc 7.5.0

Ubuntu 22.04
	Kernel: Container Host Kernel
	Compiler: clang 14.0.5-1.fc36

RHEL 7
	Kernel: 4.18.0-240.10.1.el8_3.x86_64
	Compiler: gcc 4.8.5 20150623 (Red Hat 4.8.5-44)

Debian Bullseye
	Kernel: 5.4.0-122-generic
	Compiler: gcc 10.2.1-6

RHEL8
	Kernel: 4.18.0-240.10.1.el8_3.x86_64
	Compiler: gcc 8.3.1 20191121 (Red Hat 8.3.1-5)

To view detailed results, visit:
https://lab.dpdk.org/results/dashboard/patchsets/26286/

UNH-IOL DPDK Community Lab

To manage your email subscriptions, visit: 
https://lab.dpdk.org/results/dashboard/preferences/subscriptions/