From mboxrd@z Thu Jan  1 00:00:00 1970
Return-Path: <test-report-bounces@dpdk.org>
Received: from mails.dpdk.org (mails.dpdk.org [217.70.189.124])
	by inbox.dpdk.org (Postfix) with ESMTP id 86DAF42B34
	for <public@inbox.dpdk.org>; Thu, 18 May 2023 21:15:41 +0200 (CEST)
Received: from mails.dpdk.org (localhost [127.0.0.1])
	by mails.dpdk.org (Postfix) with ESMTP id 8293440A8A;
	Thu, 18 May 2023 21:15:41 +0200 (CEST)
Received: from mail-il1-f227.google.com (mail-il1-f227.google.com
 [209.85.166.227])
 by mails.dpdk.org (Postfix) with ESMTP id 95FA340A8A
 for <test-report@dpdk.org>; Thu, 18 May 2023 21:15:40 +0200 (CEST)
Received: by mail-il1-f227.google.com with SMTP id
 e9e14a558f8ab-338335fe6d0so14858675ab.1
 for <test-report@dpdk.org>; Thu, 18 May 2023 12:15:40 -0700 (PDT)
DKIM-Signature: v=1; a=rsa-sha256; c=relaxed/relaxed;
 d=iol.unh.edu; s=unh-iol; t=1684437340; x=1687029340;
 h=cc:to:from:subject:message-id:date:from:to:cc:subject:date
 :message-id:reply-to;
 bh=6x9xygEPtyWsbIqG/7r/PA7jSMVOoWR3fCi60pbDaSU=;
 b=d8rrNz4dI4AKBAikpRUafnS23dm0FeiBVzdwLNJVwf+iG5YpWazPeyrxvFyWL1oa+V
 e7+7pRjEAYrTpYjdozBiDodM9h7xBFn0Av+q8Hum1irLJRYsWeeYpZUFznNvaZ6tiaSa
 ZP+Y1MQF/SMh/wBbZ6h0zolbjwhOt/qoJ3/kg=
X-Google-DKIM-Signature: v=1; a=rsa-sha256; c=relaxed/relaxed;
 d=1e100.net; s=20221208; t=1684437340; x=1687029340;
 h=cc:to:from:subject:message-id:date:x-gm-message-state:from:to:cc
 :subject:date:message-id:reply-to;
 bh=6x9xygEPtyWsbIqG/7r/PA7jSMVOoWR3fCi60pbDaSU=;
 b=RtlEFQtWsCCfZueZZ2WhAItof1Cke4LbCn44a7LfE7BpaaSjy3zIFzLCpmFrffslQQ
 hLcI6wciPY4i4mmGSLNcN29euLOpujhZjl70z6j2NKr1Y3kICDZWdhhKhmjPtARElW/F
 pToPCKw4z06yAN8x0ixV10GDGoM7uKaHHStBRtISxsd1b0fwApqHe66i/99kyKZ2a+tR
 oXVQ7Gw2ijh1jPgUDytvzi2FwZRoEAPeHEysjstAX4S2fmDUrBorIrIt6j2fjqBlj4o4
 iEm8HWWilxTdh8fe9keDRfgCDUkySpcfLQrZh2vK+NfOQe+lKpZIGcXaM5YLoY2CSCrn
 aqyg==
X-Gm-Message-State: AC+VfDxPidFIcSCLDBwncIzn20W45KJ//b9hVlnVvRUckXz+258QT4j2
 S4QNU3y3a2I2Psl4BBg1vdcEa8y/E5wYL6F4zOXRUlQlz9TMwJHa1p8Eu4KK38ERrC7Tx3uHyQ=
 =
X-Google-Smtp-Source: ACHHUZ4/a7kpMndxjHqT6+jTU0nac1lKaznHsrwnESS7n9SkYLY22HbBwtevV2aHYM6v536RhQOSIPpbyhhN
X-Received: by 2002:a05:6e02:805:b0:328:39a6:ed13 with SMTP id
 u5-20020a056e02080500b0032839a6ed13mr5605988ilm.4.1684437339991; 
 Thu, 18 May 2023 12:15:39 -0700 (PDT)
Received: from postal.iol.unh.edu (postal.iol.unh.edu.
 [2606:4100:3880:1234::84]) by smtp-relay.gmail.com with ESMTPS id
 s13-20020a02cf2d000000b0040fb6e11718sm75178jar.16.2023.05.18.12.15.39
 (version=TLS1_2 cipher=ECDHE-ECDSA-AES128-GCM-SHA256 bits=128/128);
 Thu, 18 May 2023 12:15:39 -0700 (PDT)
X-Relaying-Domain: iol.unh.edu
Date: Thu, 18 May 2023 12:15:39 -0700 (PDT)
Message-ID: <6466795b.020a0220.218ab.3d4bSMTPIN_ADDED_MISSING@mx.google.com>
Received: from [172.17.0.2] (unknown [172.18.0.34])
 by postal.iol.unh.edu (Postfix) with ESMTP id 9DE85605246B;
 Thu, 18 May 2023 15:15:39 -0400 (EDT)
Subject: |SUCCESS| pw126995-127014 [PATCH] [v2,
 20/20] net/ice/base: add new AQ ro read HW sensors
From: dpdklab@iol.unh.edu
To: Test Report <test-report@dpdk.org>
Cc: Qiming Yang <qiming.yang@intel.com>
Content-Type: text/plain
X-BeenThere: test-report@dpdk.org
X-Mailman-Version: 2.1.29
Precedence: list
List-Id: automatic DPDK test reports <test-report.dpdk.org>
List-Unsubscribe: <https://mails.dpdk.org/options/test-report>,
 <mailto:test-report-request@dpdk.org?subject=unsubscribe>
List-Archive: <http://mails.dpdk.org/archives/test-report/>
List-Post: <mailto:test-report@dpdk.org>
List-Help: <mailto:test-report-request@dpdk.org?subject=help>
List-Subscribe: <https://mails.dpdk.org/listinfo/test-report>,
 <mailto:test-report-request@dpdk.org?subject=subscribe>
Errors-To: test-report-bounces@dpdk.org

Test-Label: iol-abi-testing
Test-Status: SUCCESS
http://dpdk.org/patch/127014

_Testing PASS_

Submitter: Qiming Yang <qiming.yang@intel.com>
Date: Thursday, May 18 2023 15:16:38 
DPDK git baseline: Repo:dpdk
  Branch: master
  CommitID:a399d7b5a994e335c446d4b15d7622d71dd8848c

126995-127014 --> testing pass

Test environment and result as below:

+------------------+----------+
|   Environment    | abi_test |
+==================+==========+
| CentOS Stream 9  | PASS     |
+------------------+----------+
| openSUSE Leap 15 | PASS     |
+------------------+----------+
| Ubuntu 22.04     | PASS     |
+------------------+----------+
| RHEL 7           | PASS     |
+------------------+----------+
| Debian Bullseye  | PASS     |
+------------------+----------+
| RHEL8            | PASS     |
+------------------+----------+
| CentOS Stream 8  | PASS     |
+------------------+----------+
| Debian Buster    | PASS     |
+------------------+----------+


CentOS Stream 9
	Kernel: 4.18.0-240.10.1.el8_3.x86_64
	Compiler: gcc 11.3.1 20220421

openSUSE Leap 15
	Kernel: 4.18.0-240.10.1.el8_3.x86_64
	Compiler: gcc 7.5.0

Ubuntu 22.04
	Kernel: Container Host Kernel
	Compiler: clang 14.0.5-1.fc36

RHEL 7
	Kernel: 4.18.0-240.10.1.el8_3.x86_64
	Compiler: gcc 4.8.5 20150623 (Red Hat 4.8.5-44)

Debian Bullseye
	Kernel: 5.4.0-122-generic
	Compiler: gcc 10.2.1-6

RHEL8
	Kernel: 4.18.0-240.10.1.el8_3.x86_64
	Compiler: gcc 8.3.1 20191121 (Red Hat 8.3.1-5)

CentOS Stream 8
	Kernel: 4.18.0-240.10.1.el8_3.x86_64
	Compiler: gcc 8.4.1 20200928

Debian Buster
	Kernel: 5.4.0-122-generic
	Compiler: gcc 8.3.0-6

To view detailed results, visit:
https://lab.dpdk.org/results/dashboard/patchsets/26286/

UNH-IOL DPDK Community Lab

To manage your email subscriptions, visit: 
https://lab.dpdk.org/results/dashboard/preferences/subscriptions/