From mboxrd@z Thu Jan  1 00:00:00 1970
Return-Path: <test-report-bounces@dpdk.org>
Received: from mails.dpdk.org (mails.dpdk.org [217.70.189.124])
	by inbox.dpdk.org (Postfix) with ESMTP id 2D9DD42B3D
	for <public@inbox.dpdk.org>; Thu, 18 May 2023 22:58:24 +0200 (CEST)
Received: from mails.dpdk.org (localhost [127.0.0.1])
	by mails.dpdk.org (Postfix) with ESMTP id 5A98740E25;
	Thu, 18 May 2023 22:58:23 +0200 (CEST)
Received: from mail-qt1-f227.google.com (mail-qt1-f227.google.com
 [209.85.160.227])
 by mails.dpdk.org (Postfix) with ESMTP id E341040E25
 for <test-report@dpdk.org>; Thu, 18 May 2023 22:58:21 +0200 (CEST)
Received: by mail-qt1-f227.google.com with SMTP id
 d75a77b69052e-3f38a7c5d45so731691cf.0
 for <test-report@dpdk.org>; Thu, 18 May 2023 13:58:21 -0700 (PDT)
DKIM-Signature: v=1; a=rsa-sha256; c=relaxed/relaxed;
 d=iol.unh.edu; s=unh-iol; t=1684443501; x=1687035501;
 h=cc:to:from:subject:message-id:date:from:to:cc:subject:date
 :message-id:reply-to;
 bh=pzndwxTj6nni8HEL+HqcFnRRh8mWGK7WDclizC4aBAM=;
 b=hssHhLcfIo4vCbhx5e7qWhecQbzSjVCQ4vRtMDkFqKd0LRwNDXMsgklWLd0bRJwi5V
 13MJgCQVM2M0OljKXaRLStXkiB7JMwlvn+dyyRrgoqxg5Pjqfip9d6XaXvT8Um1bIecO
 BM2IB07pw9+W0MkzEEO/ELcCrmt+ypvMjQNr4=
X-Google-DKIM-Signature: v=1; a=rsa-sha256; c=relaxed/relaxed;
 d=1e100.net; s=20221208; t=1684443501; x=1687035501;
 h=cc:to:from:subject:message-id:date:x-gm-message-state:from:to:cc
 :subject:date:message-id:reply-to;
 bh=pzndwxTj6nni8HEL+HqcFnRRh8mWGK7WDclizC4aBAM=;
 b=XqXOiL7rGVcCGfL4RLiwjecUSCPUUCUW+Qw1pTeaemuMRqEWkFJa45WdZeksznyhS3
 UvU0lZPUK+0Fp6VqEXv//KhOzSS78dXuU1P3NC7e/f4BQ3UJ4UT8PQCso5W0E7IvQCtL
 JVJ7rLjo7kgB0AupfqSEt6CtoqsCpIuJpId5oPv1ytYnERzyGGkoC/HsvDdtHwsrNR/t
 qnXE5jFP1DP154GcfVx4ENW9pPJZ+RaUT+eYPPvddm/Wdn0xfRFviZ2Gtyys4aR3nX22
 h2ztaDPcmBC9D2XqtFRWroAK3hFd459RfcnOdlqqBys0px61Z+ig/2+dEW9VeO8SyJrB
 N2PA==
X-Gm-Message-State: AC+VfDxDF3KpwF1pT+y6sbhbpruow1t0b7tlJXUkm89ZOHVnNEKKrA3s
 QMib6VDgtl/XoJIKmZenUSdyCMS2uINNAQYH/zMWPs/amXgmHTg7Z0RSAQ==
X-Google-Smtp-Source: ACHHUZ4wg2NRBphviRcPrlt6LOGVdck4bJLYoiD+cDhPC0h1+X03/xBBY2ZF/rwd+gKVSOAigzKkRKKrT0GX
X-Received: by 2002:ac8:5acd:0:b0:3f3:9013:5839 with SMTP id
 d13-20020ac85acd000000b003f390135839mr703516qtd.23.1684443501392; 
 Thu, 18 May 2023 13:58:21 -0700 (PDT)
Received: from postal.iol.unh.edu (postal.iol.unh.edu. [132.177.123.84])
 by smtp-relay.gmail.com with ESMTPS id
 p10-20020ac8740a000000b003f6906ed5ecsm33297qtq.22.2023.05.18.13.58.21
 (version=TLS1_2 cipher=ECDHE-ECDSA-AES128-GCM-SHA256 bits=128/128);
 Thu, 18 May 2023 13:58:21 -0700 (PDT)
X-Relaying-Domain: iol.unh.edu
Date: Thu, 18 May 2023 13:58:21 -0700 (PDT)
Message-ID: <6466916d.c80a0220.cd444.1439SMTPIN_ADDED_MISSING@mx.google.com>
Received: from [172.17.0.2] (unknown [172.18.0.34])
 by postal.iol.unh.edu (Postfix) with ESMTP id 1793F605246B;
 Thu, 18 May 2023 16:58:21 -0400 (EDT)
Subject: |SUCCESS| pw127024-127042 [PATCH] [v2,
 19/19] Remove use of term sanity check
From: dpdklab@iol.unh.edu
To: Test Report <test-report@dpdk.org>
Cc: dpdk-test-reports@iol.unh.edu
Content-Type: text/plain
X-BeenThere: test-report@dpdk.org
X-Mailman-Version: 2.1.29
Precedence: list
List-Id: automatic DPDK test reports <test-report.dpdk.org>
List-Unsubscribe: <https://mails.dpdk.org/options/test-report>,
 <mailto:test-report-request@dpdk.org?subject=unsubscribe>
List-Archive: <http://mails.dpdk.org/archives/test-report/>
List-Post: <mailto:test-report@dpdk.org>
List-Help: <mailto:test-report-request@dpdk.org?subject=help>
List-Subscribe: <https://mails.dpdk.org/listinfo/test-report>,
 <mailto:test-report-request@dpdk.org?subject=subscribe>
Errors-To: test-report-bounces@dpdk.org

Test-Label: iol-abi-testing
Test-Status: SUCCESS
http://dpdk.org/patch/127042

_Testing PASS_

Submitter: Stephen Hemminger <stephen@networkplumber.org>
Date: Thursday, May 18 2023 16:45:46 
DPDK git baseline: Repo:dpdk
  Branch: master
  CommitID:a399d7b5a994e335c446d4b15d7622d71dd8848c

127024-127042 --> testing pass

Test environment and result as below:

+------------------+----------+
|   Environment    | abi_test |
+==================+==========+
| CentOS Stream 9  | PASS     |
+------------------+----------+
| Ubuntu 22.04     | PASS     |
+------------------+----------+
| CentOS Stream 8  | PASS     |
+------------------+----------+
| openSUSE Leap 15 | PASS     |
+------------------+----------+


CentOS Stream 9
	Kernel: 4.18.0-240.10.1.el8_3.x86_64
	Compiler: gcc 11.3.1 20220421

Ubuntu 22.04
	Kernel: Container Host Kernel
	Compiler: gcc 11.3.1-2

CentOS Stream 8
	Kernel: 4.18.0-240.10.1.el8_3.x86_64
	Compiler: gcc 8.4.1 20200928

openSUSE Leap 15
	Kernel: 4.18.0-240.10.1.el8_3.x86_64
	Compiler: gcc 7.5.0

To view detailed results, visit:
https://lab.dpdk.org/results/dashboard/patchsets/26289/

UNH-IOL DPDK Community Lab

To manage your email subscriptions, visit: 
https://lab.dpdk.org/results/dashboard/preferences/subscriptions/