From mboxrd@z Thu Jan  1 00:00:00 1970
Return-Path: <test-report-bounces@dpdk.org>
Received: from mails.dpdk.org (mails.dpdk.org [217.70.189.124])
	by inbox.dpdk.org (Postfix) with ESMTP id A24A242B3D
	for <public@inbox.dpdk.org>; Thu, 18 May 2023 23:48:39 +0200 (CEST)
Received: from mails.dpdk.org (localhost [127.0.0.1])
	by mails.dpdk.org (Postfix) with ESMTP id 9F67340E25;
	Thu, 18 May 2023 23:48:39 +0200 (CEST)
Received: from mail-pl1-f227.google.com (mail-pl1-f227.google.com
 [209.85.214.227])
 by mails.dpdk.org (Postfix) with ESMTP id A1CF740E25
 for <test-report@dpdk.org>; Thu, 18 May 2023 23:48:38 +0200 (CEST)
Received: by mail-pl1-f227.google.com with SMTP id
 d9443c01a7336-1ae51b07338so17419965ad.0
 for <test-report@dpdk.org>; Thu, 18 May 2023 14:48:38 -0700 (PDT)
DKIM-Signature: v=1; a=rsa-sha256; c=relaxed/relaxed;
 d=iol.unh.edu; s=unh-iol; t=1684446518; x=1687038518;
 h=cc:to:from:subject:message-id:date:from:to:cc:subject:date
 :message-id:reply-to;
 bh=6GNXW7Jx+G7/u9tx6XUOv9nu6VjVAEBpmv+rrtDA4ZQ=;
 b=Bggz14EJM8+S2jclpgCNnQG8CJN0qEE+tcLYPRBo9833R5QKtcwWuE7A0ZNrIG8T8F
 0Oyk4Hi1T3174KzJ3l6sMd8JMjECOyufwCYYkDpE+H0eGqcsBpw1SwuX/6iUi93X4+6U
 zbu5/1s1/B/Vir6j3LVMhXti/aHLtVBLGuH84=
X-Google-DKIM-Signature: v=1; a=rsa-sha256; c=relaxed/relaxed;
 d=1e100.net; s=20221208; t=1684446518; x=1687038518;
 h=cc:to:from:subject:message-id:date:x-gm-message-state:from:to:cc
 :subject:date:message-id:reply-to;
 bh=6GNXW7Jx+G7/u9tx6XUOv9nu6VjVAEBpmv+rrtDA4ZQ=;
 b=W9rckyCCUJ60B0C/iOtxul5ngASYB65xyoZMMd2D5dcZCFJQnOZnjL4ts6M6f5E9qB
 t8d1KGeoZsijxja5n6HH8XYB2ASCdA2bpnfDZXl1L5sgGRMgCeoDveYYIdVpr6k+msaj
 YvqtmPsyJsOaHLrm/xJMpMzTbB9+/D9IEximUcctG+XCZYBzSaSiM71Qs7/ZzxbCo5wn
 iTWgD7kKKSDaoVJLUst1njTJ+/zj1Ag6rpaaLvwTSvt6iSpi7jyKcJ2hmkOONDsYggvP
 1oNTixhWfcadSuxJTc4yJRRgBSES2mgT69ZxahvBbbkMEa6iUyDWj1rfvPSvwWL93P42
 /Tng==
X-Gm-Message-State: AC+VfDxxMoHZNvp+dpMvMJomfNzLz58Q/zlHuYTmMWVqAcJouH/9BCyt
 MMCKQDzQx5tT4sflWTpt+sfHf1jRFphOmSnKSpDL3/9c0buSurENVUoBfHCYpqcjbKpqsA51mg=
 =
X-Google-Smtp-Source: ACHHUZ77GT0do3RBnQls+eIbLCpe98qU78ksVLfwdjJXePRxnzBXOdKSOBcHGAK2WroW8GUu3RmWwPnPAY1E
X-Received: by 2002:a17:902:edc2:b0:1aa:fd48:f5e2 with SMTP id
 q2-20020a170902edc200b001aafd48f5e2mr389000plk.32.1684446517843; 
 Thu, 18 May 2023 14:48:37 -0700 (PDT)
Received: from postal.iol.unh.edu (postal.iol.unh.edu.
 [2606:4100:3880:1234::84]) by smtp-relay.gmail.com with ESMTPS id
 m8-20020a1709026bc800b001ac3f74f491sm70557plt.27.2023.05.18.14.48.37
 (version=TLS1_2 cipher=ECDHE-ECDSA-AES128-GCM-SHA256 bits=128/128);
 Thu, 18 May 2023 14:48:37 -0700 (PDT)
X-Relaying-Domain: iol.unh.edu
Date: Thu, 18 May 2023 14:48:37 -0700 (PDT)
Message-ID: <64669d35.170a0220.f189f.3ca3SMTPIN_ADDED_MISSING@mx.google.com>
Received: from [172.17.0.2] (unknown [172.18.0.34])
 by postal.iol.unh.edu (Postfix) with ESMTP id 119C1605246B;
 Thu, 18 May 2023 17:48:37 -0400 (EDT)
Subject: |SUCCESS| pw127046-127049 [PATCH] [v2,
 5/5] ethdev: add MPLS header modification support
From: dpdklab@iol.unh.edu
To: Test Report <test-report@dpdk.org>
Cc: dpdk-test-reports@iol.unh.edu
Content-Type: text/plain
X-BeenThere: test-report@dpdk.org
X-Mailman-Version: 2.1.29
Precedence: list
List-Id: automatic DPDK test reports <test-report.dpdk.org>
List-Unsubscribe: <https://mails.dpdk.org/options/test-report>,
 <mailto:test-report-request@dpdk.org?subject=unsubscribe>
List-Archive: <http://mails.dpdk.org/archives/test-report/>
List-Post: <mailto:test-report@dpdk.org>
List-Help: <mailto:test-report-request@dpdk.org?subject=help>
List-Subscribe: <https://mails.dpdk.org/listinfo/test-report>,
 <mailto:test-report-request@dpdk.org?subject=subscribe>
Errors-To: test-report-bounces@dpdk.org

Test-Label: iol-abi-testing
Test-Status: SUCCESS
http://dpdk.org/patch/127049

_Testing PASS_

Submitter: Michael Baum <michaelba@nvidia.com>
Date: Thursday, May 18 2023 17:40:15 
DPDK git baseline: Repo:dpdk
  Branch: master
  CommitID:a399d7b5a994e335c446d4b15d7622d71dd8848c

127046-127049 --> testing pass

Test environment and result as below:

+-----------------+----------+
|   Environment   | abi_test |
+=================+==========+
| Debian Buster   | PASS     |
+-----------------+----------+
| RHEL 7          | PASS     |
+-----------------+----------+
| Ubuntu 22.04    | PASS     |
+-----------------+----------+
| CentOS Stream 8 | PASS     |
+-----------------+----------+
| Debian Bullseye | PASS     |
+-----------------+----------+
| CentOS Stream 9 | PASS     |
+-----------------+----------+


Debian Buster
	Kernel: 5.4.0-122-generic
	Compiler: gcc 8.3.0-6

RHEL 7
	Kernel: 4.18.0-240.10.1.el8_3.x86_64
	Compiler: gcc 4.8.5 20150623 (Red Hat 4.8.5-44)

Ubuntu 22.04
	Kernel: Container Host Kernel
	Compiler: gcc 11.3.1-2

CentOS Stream 8
	Kernel: 4.18.0-240.10.1.el8_3.x86_64
	Compiler: gcc 8.4.1 20200928

Debian Bullseye
	Kernel: 5.4.0-122-generic
	Compiler: gcc 10.2.1-6

CentOS Stream 9
	Kernel: 4.18.0-240.10.1.el8_3.x86_64
	Compiler: gcc 11.3.1 20220421

To view detailed results, visit:
https://lab.dpdk.org/results/dashboard/patchsets/26291/

UNH-IOL DPDK Community Lab

To manage your email subscriptions, visit: 
https://lab.dpdk.org/results/dashboard/preferences/subscriptions/