From mboxrd@z Thu Jan  1 00:00:00 1970
Return-Path: <test-report-bounces@dpdk.org>
Received: from mails.dpdk.org (mails.dpdk.org [217.70.189.124])
	by inbox.dpdk.org (Postfix) with ESMTP id 263BF42A83
	for <public@inbox.dpdk.org>; Fri, 19 May 2023 07:51:39 +0200 (CEST)
Received: from mails.dpdk.org (localhost [127.0.0.1])
	by mails.dpdk.org (Postfix) with ESMTP id 20109406B5;
	Fri, 19 May 2023 07:51:39 +0200 (CEST)
Received: from mail-oi1-f225.google.com (mail-oi1-f225.google.com
 [209.85.167.225])
 by mails.dpdk.org (Postfix) with ESMTP id D62DD406B5
 for <test-report@dpdk.org>; Fri, 19 May 2023 07:51:37 +0200 (CEST)
Received: by mail-oi1-f225.google.com with SMTP id
 5614622812f47-3909756b8b1so1019763b6e.1
 for <test-report@dpdk.org>; Thu, 18 May 2023 22:51:37 -0700 (PDT)
DKIM-Signature: v=1; a=rsa-sha256; c=relaxed/relaxed;
 d=iol.unh.edu; s=unh-iol; t=1684475497; x=1687067497;
 h=cc:to:from:subject:message-id:date:from:to:cc:subject:date
 :message-id:reply-to;
 bh=AUE5JdrFmTH/pOrSPh7Kwy9jXcNmMhnwSLQF5wy+hdI=;
 b=Xwlg/BJ3gZuVtjiSnezcxXXiwdrC15jumgBD4hZYZT7gk98WbUvUAT3Lb6ZxJ8sIXx
 cE+k3EffwptF6vR+kMR9PebixhrUmjac4RqQ3Av+6ALB9AKFAGTEHay5+/YC6aeznoCG
 Ri7B6ePRTI6msQ53uOwpWJm76+dIb5UyOAu30=
X-Google-DKIM-Signature: v=1; a=rsa-sha256; c=relaxed/relaxed;
 d=1e100.net; s=20221208; t=1684475497; x=1687067497;
 h=cc:to:from:subject:message-id:date:x-gm-message-state:from:to:cc
 :subject:date:message-id:reply-to;
 bh=AUE5JdrFmTH/pOrSPh7Kwy9jXcNmMhnwSLQF5wy+hdI=;
 b=QVQk6QvQjnKV5zuHi11l52CXoV6g0I+FIgYZsSnL/qeneWqvkwtiQk6H/ZOmlZkyTO
 nmtDcAOGxb6f9S9ZTlicPBzsygPa3xSQ6llv2+cOAnewZazSBka0zde5ZrsvwK/npe26
 ZLc/mwvdXw8O9G+Al13T+FObyl+Jk2ZgIwseVvjAo8c6IkH96ydd4LD5muENglhfmuaa
 BtB+PUqrLSlq3bwdvPHBcy/4Nn2dLFhVAXWX+F//rQyDUs0zih/VMDOua5ZQV5H5s4bH
 tfFSwzYwnRzE3yj2vG1VqyXKqbWoLkqMnErh37ZWSDN9uW0J7aGq45SiLuX6CfRgqQz5
 Y/qw==
X-Gm-Message-State: AC+VfDwz3FlE3n4hNLTl2KZ3c2nmJCbiZDjZfX9CGejx8LPgmMOniWoQ
 FJU2MTl1ColcfuFxfqr8CEt+lUR5tGApSGmjRblLizh1CBOUwTRdTsZdgE5FaD1lm7yufLfGtA=
 =
X-Google-Smtp-Source: ACHHUZ6Gs0MEny1+U7r7ce0VzAB+qr5yejLj9IMijGCuDhdzNugDyjlNXXwaL3JwaBXcF+AMw+pcGiKIyTce
X-Received: by 2002:aca:f01:0:b0:396:cd:82af with SMTP id
 1-20020aca0f01000000b0039600cd82afmr520898oip.1.1684475497203; 
 Thu, 18 May 2023 22:51:37 -0700 (PDT)
Received: from postal.iol.unh.edu (postal.iol.unh.edu.
 [2606:4100:3880:1234::84]) by smtp-relay.gmail.com with ESMTPS id
 r73-20020a4a374c000000b00545935f0defsm163317oor.16.2023.05.18.22.51.37
 (version=TLS1_2 cipher=ECDHE-ECDSA-AES128-GCM-SHA256 bits=128/128);
 Thu, 18 May 2023 22:51:37 -0700 (PDT)
X-Relaying-Domain: iol.unh.edu
Date: Thu, 18 May 2023 22:51:37 -0700 (PDT)
Message-ID: <64670e69.4a0a0220.7943d.932eSMTPIN_ADDED_MISSING@mx.google.com>
Received: from [172.17.0.2] (unknown [172.18.0.34])
 by postal.iol.unh.edu (Postfix) with ESMTP id B62A0605246B;
 Fri, 19 May 2023 01:51:36 -0400 (EDT)
Subject: |SUCCESS| pw127054 [PATCH] eal: allow both allow and block options
 coexistence
From: dpdklab@iol.unh.edu
To: Test Report <test-report@dpdk.org>
Cc: Marvin Liu <yong.liu@intel.com>
Content-Type: text/plain
X-BeenThere: test-report@dpdk.org
X-Mailman-Version: 2.1.29
Precedence: list
List-Id: automatic DPDK test reports <test-report.dpdk.org>
List-Unsubscribe: <https://mails.dpdk.org/options/test-report>,
 <mailto:test-report-request@dpdk.org?subject=unsubscribe>
List-Archive: <http://mails.dpdk.org/archives/test-report/>
List-Post: <mailto:test-report@dpdk.org>
List-Help: <mailto:test-report-request@dpdk.org?subject=help>
List-Subscribe: <https://mails.dpdk.org/listinfo/test-report>,
 <mailto:test-report-request@dpdk.org?subject=subscribe>
Errors-To: test-report-bounces@dpdk.org

Test-Label: iol-abi-testing
Test-Status: SUCCESS
http://dpdk.org/patch/127054

_Testing PASS_

Submitter: Marvin Liu <yong.liu@intel.com>
Date: Friday, May 19 2023 02:29:46 
DPDK git baseline: Repo:dpdk
  Branch: master
  CommitID:a399d7b5a994e335c446d4b15d7622d71dd8848c

127054 --> testing pass

Test environment and result as below:

+-----------------+----------+
|   Environment   | abi_test |
+=================+==========+
| Debian Bullseye | PASS     |
+-----------------+----------+
| CentOS Stream 9 | PASS     |
+-----------------+----------+
| RHEL 7          | PASS     |
+-----------------+----------+
| CentOS Stream 8 | PASS     |
+-----------------+----------+
| Ubuntu 22.04    | PASS     |
+-----------------+----------+
| Debian Buster   | PASS     |
+-----------------+----------+


Debian Bullseye
	Kernel: 5.4.0-122-generic
	Compiler: gcc 10.2.1-6

CentOS Stream 9
	Kernel: 4.18.0-240.10.1.el8_3.x86_64
	Compiler: gcc 11.3.1 20220421

RHEL 7
	Kernel: 4.18.0-240.10.1.el8_3.x86_64
	Compiler: gcc 4.8.5 20150623 (Red Hat 4.8.5-44)

CentOS Stream 8
	Kernel: 4.18.0-240.10.1.el8_3.x86_64
	Compiler: gcc 8.4.1 20200928

Ubuntu 22.04
	Kernel: Container Host Kernel
	Compiler: gcc 11.3.1-2

Debian Buster
	Kernel: 5.4.0-122-generic
	Compiler: gcc 8.3.0-6

To view detailed results, visit:
https://lab.dpdk.org/results/dashboard/patchsets/26296/

UNH-IOL DPDK Community Lab

To manage your email subscriptions, visit: 
https://lab.dpdk.org/results/dashboard/preferences/subscriptions/