From mboxrd@z Thu Jan  1 00:00:00 1970
Return-Path: <test-report-bounces@dpdk.org>
Received: from mails.dpdk.org (mails.dpdk.org [217.70.189.124])
	by inbox.dpdk.org (Postfix) with ESMTP id 3287142B45
	for <public@inbox.dpdk.org>; Fri, 19 May 2023 09:42:18 +0200 (CEST)
Received: from mails.dpdk.org (localhost [127.0.0.1])
	by mails.dpdk.org (Postfix) with ESMTP id 2F36F40F16;
	Fri, 19 May 2023 09:42:18 +0200 (CEST)
Received: from mail-pl1-f226.google.com (mail-pl1-f226.google.com
 [209.85.214.226])
 by mails.dpdk.org (Postfix) with ESMTP id 9742A42B8B
 for <test-report@dpdk.org>; Fri, 19 May 2023 09:42:16 +0200 (CEST)
Received: by mail-pl1-f226.google.com with SMTP id
 d9443c01a7336-1ae6b4c5a53so10692245ad.2
 for <test-report@dpdk.org>; Fri, 19 May 2023 00:42:16 -0700 (PDT)
DKIM-Signature: v=1; a=rsa-sha256; c=relaxed/relaxed;
 d=iol.unh.edu; s=unh-iol; t=1684482136; x=1687074136;
 h=cc:to:from:subject:message-id:date:from:to:cc:subject:date
 :message-id:reply-to;
 bh=isBI1Qi4Ek7KcFKLjCGEO2UkwN3esQoWJnks2JMA/Xs=;
 b=RSeRYBXZKA3pLeiv7NKqONCOWksAotV3Un4S0ZU6k+2YkKWqkXgnohFWDt6P6Z/2FW
 mJuxE1gs6xEGC6re/bvCTMrO3SPQ2SQ8ACK+ta7waWlR85g3NWKzJXYNeRia/IewGxv7
 71qrenpUvc0JGYyohd/g3LlLRUEOD/C5I2Hgw=
X-Google-DKIM-Signature: v=1; a=rsa-sha256; c=relaxed/relaxed;
 d=1e100.net; s=20221208; t=1684482136; x=1687074136;
 h=cc:to:from:subject:message-id:date:x-gm-message-state:from:to:cc
 :subject:date:message-id:reply-to;
 bh=isBI1Qi4Ek7KcFKLjCGEO2UkwN3esQoWJnks2JMA/Xs=;
 b=bX0dD0WWaERRlG7evfA6/hVP7UUmpXidNmmRZcjNBbAZco1eTsLXgt4t5dY8Y9zrAw
 Ea4x+iBWq3Jcw5EjuyHsOZAJ7PXNrwlVsY1WuWGAfBCj0QLaEL5zH/UzvqjwTCY8OMH7
 n9TM4NlGzS1yc5DlcKGLZ0EBS7ghVnrsHA+6We0MdVreCkDIeIn9UeRfiM7Y/pFhS+0v
 +ezPDH4na5PHhZGqywxW/k41ybP0cbtS4w+Et26iJfT0lalcdS99D5+JS6tfGJMw7156
 X48FKvm4QVCGEzGVqj3/4nU8gRCzCrYGBW+CLZGYTBpfnvbwBHnvc4xumdI2kPls+EBY
 cCSQ==
X-Gm-Message-State: AC+VfDx7EwvvCTYEzIXxQVyn5bQbM/W7kiel5AgePcVWNa3t0cjYMxIs
 pkKKoRD2FcvWJq4QZI+bpaYPmwOqOdgbLx3QjUoJacp1E3t4fMu4aI8MRf64nW1iTqheW8AA6A=
 =
X-Google-Smtp-Source: ACHHUZ5kIxDgywCH2VAm0ZD4sxfRiWYbVEXhdCpAq/JYfFbYiCUSQnWtbTpEwDW+nvoJ7hdpfNNi0MUBbxAj
X-Received: by 2002:a17:902:db07:b0:1ac:8dae:d842 with SMTP id
 m7-20020a170902db0700b001ac8daed842mr2005394plx.46.1684482135807; 
 Fri, 19 May 2023 00:42:15 -0700 (PDT)
Received: from postal.iol.unh.edu (postal.iol.unh.edu.
 [2606:4100:3880:1234::84]) by smtp-relay.gmail.com with ESMTPS id
 d4-20020a170903230400b001ade36410b8sm84872plh.87.2023.05.19.00.42.15
 (version=TLS1_2 cipher=ECDHE-ECDSA-AES128-GCM-SHA256 bits=128/128);
 Fri, 19 May 2023 00:42:15 -0700 (PDT)
X-Relaying-Domain: iol.unh.edu
Date: Fri, 19 May 2023 00:42:15 -0700 (PDT)
Message-ID: <64672857.170a0220.6040f.4831SMTPIN_ADDED_MISSING@mx.google.com>
Received: from [172.17.0.2] (unknown [172.18.0.34])
 by postal.iol.unh.edu (Postfix) with ESMTP id 108BE605246B;
 Fri, 19 May 2023 03:42:15 -0400 (EDT)
Subject: |SUCCESS| pw127068-127071 [PATCH] [4/4] test/malloc: fix case
 expectation
From: dpdklab@iol.unh.edu
To: Test Report <test-report@dpdk.org>
Cc: dpdk-test-reports@iol.unh.edu
Content-Type: text/plain
X-BeenThere: test-report@dpdk.org
X-Mailman-Version: 2.1.29
Precedence: list
List-Id: automatic DPDK test reports <test-report.dpdk.org>
List-Unsubscribe: <https://mails.dpdk.org/options/test-report>,
 <mailto:test-report-request@dpdk.org?subject=unsubscribe>
List-Archive: <http://mails.dpdk.org/archives/test-report/>
List-Post: <mailto:test-report@dpdk.org>
List-Help: <mailto:test-report-request@dpdk.org?subject=help>
List-Subscribe: <https://mails.dpdk.org/listinfo/test-report>,
 <mailto:test-report-request@dpdk.org?subject=subscribe>
Errors-To: test-report-bounces@dpdk.org

Test-Label: iol-abi-testing
Test-Status: SUCCESS
http://dpdk.org/patch/127071

_Testing PASS_

Submitter: Ruifeng Wang <ruifeng.wang@arm.com>
Date: Friday, May 19 2023 04:29:23 
DPDK git baseline: Repo:dpdk
  Branch: master
  CommitID:a399d7b5a994e335c446d4b15d7622d71dd8848c

127068-127071 --> testing pass

Test environment and result as below:

+------------------+----------+
|   Environment    | abi_test |
+==================+==========+
| CentOS Stream 8  | PASS     |
+------------------+----------+
| openSUSE Leap 15 | PASS     |
+------------------+----------+
| RHEL8            | PASS     |
+------------------+----------+
| CentOS Stream 9  | PASS     |
+------------------+----------+
| Ubuntu 22.04     | PASS     |
+------------------+----------+


CentOS Stream 8
	Kernel: 4.18.0-240.10.1.el8_3.x86_64
	Compiler: gcc 8.4.1 20200928

openSUSE Leap 15
	Kernel: 4.18.0-240.10.1.el8_3.x86_64
	Compiler: gcc 7.5.0

RHEL8
	Kernel: 4.18.0-240.10.1.el8_3.x86_64
	Compiler: gcc 8.3.1 20191121 (Red Hat 8.3.1-5)

CentOS Stream 9
	Kernel: 4.18.0-240.10.1.el8_3.x86_64
	Compiler: gcc 11.3.1 20220421

Ubuntu 22.04
	Kernel: Container Host Kernel
	Compiler: clang 14.0.5-1.fc36

To view detailed results, visit:
https://lab.dpdk.org/results/dashboard/patchsets/26300/

UNH-IOL DPDK Community Lab

To manage your email subscriptions, visit: 
https://lab.dpdk.org/results/dashboard/preferences/subscriptions/